BEGIN:VCALENDAR
VERSION:2.0
PRODID:-//CSV - ECPv6.15.20//NONSGML v1.0//EN
CALSCALE:GREGORIAN
METHOD:PUBLISH
X-WR-CALNAME:CSV
X-ORIGINAL-URL:https://csv.verona.it
X-WR-CALDESC:Eventi per CSV
REFRESH-INTERVAL;VALUE=DURATION:PT1H
X-Robots-Tag:noindex
X-PUBLISHED-TTL:PT1H
BEGIN:VTIMEZONE
TZID:Europe/Rome
BEGIN:DAYLIGHT
TZOFFSETFROM:+0100
TZOFFSETTO:+0200
TZNAME:CEST
DTSTART:20220327T010000
END:DAYLIGHT
BEGIN:STANDARD
TZOFFSETFROM:+0200
TZOFFSETTO:+0100
TZNAME:CET
DTSTART:20221030T010000
END:STANDARD
BEGIN:DAYLIGHT
TZOFFSETFROM:+0100
TZOFFSETTO:+0200
TZNAME:CEST
DTSTART:20230326T010000
END:DAYLIGHT
BEGIN:STANDARD
TZOFFSETFROM:+0200
TZOFFSETTO:+0100
TZNAME:CET
DTSTART:20231029T010000
END:STANDARD
BEGIN:DAYLIGHT
TZOFFSETFROM:+0100
TZOFFSETTO:+0200
TZNAME:CEST
DTSTART:20240331T010000
END:DAYLIGHT
BEGIN:STANDARD
TZOFFSETFROM:+0200
TZOFFSETTO:+0100
TZNAME:CET
DTSTART:20241027T010000
END:STANDARD
END:VTIMEZONE
BEGIN:VEVENT
DTSTART;TZID=Europe/Rome:20231106T180000
DTEND;TZID=Europe/Rome:20231106T200000
DTSTAMP:20260422T194423
CREATED:20230724T081421Z
LAST-MODIFIED:20230724T081421Z
UID:12907-1699293600-1699300800@csv.verona.it
SUMMARY:FORMAZIONE  – Orientamento alle forme associative: che associazione siamo?
DESCRIPTION:Obiettivi \nIllustrare i diversi passaggi per costituire e fondare una associazione.\nEsaminare le diverse tipologie giuridiche di enti del Terzo settore (ETS).\nIndividuare quale forma sia la più adeguata alle esigenze sollevate dai partecipanti per le singole attività.\nIllustrare aspetti gestionali dell’associazione\, anche già costituita\, alla luce inoltre del Codice del Terzo Settore (D.lgs 117/17)\nFornire indicazioni sull’iscrizione nel Registro Unico Nazionale del Terzo settore (RUNTS). \n  \n Contenuti  \nIl corso si articola in una prima parte frontale dove vengono illustrati i passaggi formali e gli adempimenti per costituire una associazione\, per approfondire poi le diverse tipologie di enti del Terzo settore (ETS) esaminando caratteristiche ed evoluzione. Si vaglieranno i principali adempimenti gestionali associativi e quali attività si possano o meno svolgere\, e in che forme. La seconda parte dell’incontro è di confronto e risoluzione di dubbi e casi pratici relativi alle esigenze dei partecipanti\, cercando di individuare quale sia la forma di ente più funzionale al perseguimento dell’obiettivo e quali siano i passaggi formali da percorrere. \nL’incontro fornisce anche una rassegna dei principali aspetti del Codice del Terzo Settore (D.lgs 117/17) per fornire strumenti in prospettiva ai partecipanti. \n  \nDocente \nElena D’Alessandro\, giurista esperta del diritto del Terzo settore\, impegnata attivamente dal 2002 in campi sociali e culturali; responsabile Ufficio Consulenze CSV di Verona. \n  \nMetodologia didattica \nLezione frontale molto pratica\, aperta agli interventi e calibrata sulle esigenze dei partecipanti. \n  \n Date e orari \nLunedì 6 novembre 2023 ǀ 18.00 – 20.00 \n  \nSede  \nIl corso si svolgerà in presenza. Il giorno prima dell’incontro sarà comunicato\, ai soli iscritti\, l’indirizzo per partecipare in presenza (Verona città). \n  \nDestinatari  \nVolontari\, aspiranti volontari\, rappresentanti degli enti del Terzo settore\, giovani e cittadinanza \n  \nQuota di partecipazione  \nIl corso non prevede la quota d’iscrizione. \n  \nRegolamento per accedere alla formazione \nRegolamento completo \n   \n Iscrizione obbligatoria entro il 5 novembre \nSi deve iscrivere al corso la persona che effettivamente parteciperà alla formazione. \nEffettuando il login \n 
URL:https://csv.verona.it/event/formazione-orientamento-alle-forme-associative-associazione-06-11/
END:VEVENT
BEGIN:VEVENT
DTSTART;TZID=Europe/Rome:20231128T180000
DTEND;TZID=Europe/Rome:20231128T200000
DTSTAMP:20260422T194423
CREATED:20230724T083039Z
LAST-MODIFIED:20230724T083039Z
UID:12919-1701194400-1701201600@csv.verona.it
SUMMARY:WEBINAR  – Registro Unico Nazionale del Terzo Settore (RUNTS) – Laboratorio pratico
DESCRIPTION:Obiettivi \nL’incontro online è pensato come un laboratorio operativo che illustrerà i passaggi per operare tecnicamente nel Registro Unico Nazionale del Terzo Settore (RUNTS): iscrizione di nuovo ente del Terzo settore (ETS)\, aggiornamento dati nel RUNTS\, deposito bilancio nel RUNTS. \nIn questo incontro non si effettuerà orientamento alla forma associativa o consulenza in merito ad aspetti di gestione della vita associativa. Consigliamo a coloro che non hanno ancora valutato l’opportunità di iscriversi al RUNTS di frequentare l’incontro dedicato “Orientamento alle forme associative: che associazione siamo?”. \n  \nContenuti  \nSi affronteranno i seguenti argomenti: \n\naccedere al RUNTS con identità digitale;\npanoramica della piattaforma e delle principali funzionalità;\nsimulazione di una nuova richiesta di iscrizione a ETS;\nsimulazione di una richiesta di variazione dati di ETS già iscritto nel RUNTS;\nsimulazione di un deposito di bilancio di ETS già iscritto nel RUNTS.\n\n  \nDocente \nAnna Accordini – Ufficio Consulenze CSV di Verona \n  \nMetodologia didattica \nLezione frontale molto pratica\, aperta agli interventi e calibrata sulle esigenze dei partecipanti. \n   \nDate e orari \nMartedì 28 novembre 2023 ǀ 18.00 – 20.00 \n  \nSede  \nWebinar \n  \nDestinatari  \nVolontari e rappresentanti di enti del Terzo settore che abbiano già studiato l’opportunità di iscriversi al RUNTS oppure ETS già iscritti nel RUNTS. \n   \nContributo di partecipazione  \nODV 10 Euro a corsista; altre forme associative 20 Euro a corsista.\nIl pagamento della quota può essere effettuato con PayPal all’atto dell’iscrizione o con bonifico bancario (le coordinate bancarie si riceveranno nella mail di conferma dell’iscrizione). \n  \n  \nRegolamento per accedere alla formazione \nRegolamento completo \n  \n Iscrizione obbligatoria e pagamento entro il 26 novembre \nSi deve iscrivere al corso la persona che effettivamente parteciperà alla formazione. \nEffettuando il login \n  \n 
URL:https://csv.verona.it/event/webinar-registro-unico-nazionale-del-terzo-settore-runts-laboratorio-pratico_novembre/
END:VEVENT
END:VCALENDAR