BEGIN:VCALENDAR
VERSION:2.0
PRODID:-//CSV - ECPv6.15.20//NONSGML v1.0//EN
CALSCALE:GREGORIAN
METHOD:PUBLISH
X-ORIGINAL-URL:https://csv.verona.it
X-WR-CALDESC:Eventi per CSV
REFRESH-INTERVAL;VALUE=DURATION:PT1H
X-Robots-Tag:noindex
X-PUBLISHED-TTL:PT1H
BEGIN:VTIMEZONE
TZID:Europe/Rome
BEGIN:DAYLIGHT
TZOFFSETFROM:+0100
TZOFFSETTO:+0200
TZNAME:CEST
DTSTART:20220327T010000
END:DAYLIGHT
BEGIN:STANDARD
TZOFFSETFROM:+0200
TZOFFSETTO:+0100
TZNAME:CET
DTSTART:20221030T010000
END:STANDARD
BEGIN:DAYLIGHT
TZOFFSETFROM:+0100
TZOFFSETTO:+0200
TZNAME:CEST
DTSTART:20230326T010000
END:DAYLIGHT
BEGIN:STANDARD
TZOFFSETFROM:+0200
TZOFFSETTO:+0100
TZNAME:CET
DTSTART:20231029T010000
END:STANDARD
BEGIN:DAYLIGHT
TZOFFSETFROM:+0100
TZOFFSETTO:+0200
TZNAME:CEST
DTSTART:20240331T010000
END:DAYLIGHT
BEGIN:STANDARD
TZOFFSETFROM:+0200
TZOFFSETTO:+0100
TZNAME:CET
DTSTART:20241027T010000
END:STANDARD
END:VTIMEZONE
BEGIN:VEVENT
DTSTART;TZID=Europe/Rome:20231005T180000
DTEND;TZID=Europe/Rome:20231005T200000
DTSTAMP:20260422T211007
CREATED:20230905T160059Z
LAST-MODIFIED:20230907T082553Z
UID:12994-1696528800-1696536000@csv.verona.it
SUMMARY:INCONTRO - Per fare il punto assieme\, il CSV ascolta le associazioni - Bussolengo
DESCRIPTION:Volontariato è relazione. Anche per il CSV le relazioni e le opportunità di scambio sono importanti: i momenti di incontro con le associazioni e con i volontari sono da sempre preziose occasioni di ascolto\, confronto\, rilancio e condivisione di valori. \n  \nPer questo la governance del CSV di Verona\, supportata dallo staff\, ha voluto organizzare quattro momenti di ascolto delle associazioni e dei volontari sui differenti territori della provincia\, per facilitare la partecipazione attraverso una presenza capillare. È l’occasione giusta\, per associazioni e volontari\, per dire la propria\, dare un contributo\, confrontarsi. Presidente e coordinatrice del CSV di Verona saranno presenti a tutti gli incontri\, accompagnati da consiglieri e operatori. Per far sentire la propria voce è possibile iscriversi gratuitamente dall’area riservata all’incontro più vicino o più comodo\, (se non sei ancora iscritto all’area riservata qui come fare). \n  \nQui puoi iscriverti all’incontro di Bussolengo\, giovedì 5 ottobre\, 18.00 – 20.00\, aula magna scuola Beni Montresor\, via Delle Foibe 32 \n  \n«Le associazioni e i volontari sono al centro del pensare e dell’operare del CSV di Verona – sottolinea il presidente CSV Centro Servizio per il Volontariato di Verona\, Roberto Veronese – che opera nel costante intento di portare “competenza e innovazione nel Terzo settore”\, con uno sguardo lungo e sensibile al cambiamento\, per esserci per le associazioni\, per superare ostacoli e ripensare assieme il futuro\, con spirito aperto». \n  \nLe serate\, saranno anche occasione per ricordare il ruolo del CSV a favore di associazioni e volontari e i relativi servizi a disposizione\, sempre in implementazione.\nGli incontri sono promossi nel quadro di “Nuove frontiere del volontariato veneto”\, un’iniziativa regionale che vede i cinque CSV del Veneto lavorare assieme per le associazioni della regione. \n  \n   \n  \nPer informazioni \nCSV Verona – Segreteria\, orientamento e rapporti con le associazioni\nDaria Rossi   info@csv.verona.it \n  \n 
URL:https://csv.verona.it/event/incontro-punto-assieme-csv-ascolta-le-associazioni-bussolengo/
END:VEVENT
BEGIN:VEVENT
DTSTART;TZID=Europe/Rome:20231007T090000
DTEND;TZID=Europe/Rome:20231007T130000
DTSTAMP:20260422T211007
CREATED:20230707T085319Z
LAST-MODIFIED:20230904T105134Z
UID:12852-1696669200-1696683600@csv.verona.it
SUMMARY:FORMAZIONE  – Social\, cose da sapere per migliorare il loro uso
DESCRIPTION:Obiettivi \nL’uso dei social media da parte delle associazioni è spesso uno sforzo consistente a fronte di vantaggi limitati. La formazione intende affrontare le differenti modalità di comunicazione sui social media.\nSe fino a ora hai operato a intuito\, avrai gli strumenti per un uso consapevole e mirato. Ci muoveremo fra strategie\, valutazioni\, KPI (Key Performance Indicator)\, algoritmi\, contenuti. Particolare attenzione verrà posta su Facebook\, il social più usato anche dalle associazioni\, ma faremo una panoramica di tutti i social\, Instagram e Tiktok compresi. Terremo laboratori\, in particolare uno sulla stesura di un piano editoriale. \n  \nContenuti  \nA cosa servono i social\nQualche dato sui social media per farsi un’idea\nQuali attivare\nLa strategia digital\, come sfruttarli al meglio\nValutare i risultati per ottenere di più\nFocus su Facebook\nLaboratorio sul piano editoriale \n  \nDocente \nRoberto Bernocchi\, consulente di comunicazione (per dieci anni in Armando Testa\, dove è stato Responsabile della Corporate Social Responsibility del gruppo)\, ha collaborato con diverse organizzazioni non profit nello sviluppo di progetti di comunicazione e raccolta fondi ed è docente in distinte università. \n  \nMetodologia didattica \nNozioni teoriche\, riflessioni\, laboratori. \n  \n Date e orari \nSabato 7 e 14 ottobre 2023 ǀ 9.00 – 13.00 \n  \nSede  \nIl corso si tiene in Sala Consigliare\, Iª Circoscrizione\, Piazza Mura Gallieno 3\, a Verona \n  \nDestinatari  \n25 volontari – Tipologia: referenti dell’associazione per la comunicazione e/o i social media\, persone interessate al tema \n  \nQuota di partecipazione\nIl corso non prevede la quota d’iscrizione. \n  \nRegolamento per accedere alla formazione \nRegolamento completo \n   \nIscrizione  \nEffettuando il login \n  \nNota \nIniziativa con il contributo della Iª Circoscrizione del Comune di Verona. \n 
URL:https://csv.verona.it/event/formazione-social-cose-sapere-migliorare-uso-2023/
END:VEVENT
BEGIN:VEVENT
DTSTART;TZID=Europe/Rome:20231010T180000
DTEND;TZID=Europe/Rome:20231010T200000
DTSTAMP:20260422T211007
CREATED:20230724T081013Z
LAST-MODIFIED:20230724T081512Z
UID:12905-1696960800-1696968000@csv.verona.it
SUMMARY:WEBINAR  – Orientamento alle forme associative: che associazione siamo?
DESCRIPTION:Obiettivi \nIllustrare i diversi passaggi per costituire e fondare una associazione.\nEsaminare le diverse tipologie giuridiche di enti del Terzo settore (ETS).\nIndividuare quale forma sia la più adeguata alle esigenze sollevate dai partecipanti per le singole attività.\nIllustrare aspetti gestionali dell’associazione\, anche già costituita\, alla luce inoltre del Codice del Terzo Settore (D.lgs 117/17)\nFornire indicazioni sull’iscrizione nel Registro Unico Nazionale del Terzo settore (RUNTS). \n  \n Contenuti  \nIl corso si articola in una prima parte frontale dove vengono illustrati i passaggi formali e gli adempimenti per costituire una associazione\, per approfondire poi le diverse tipologie di enti del Terzo settore (ETS) esaminando caratteristiche ed evoluzione. Si vaglieranno i principali adempimenti gestionali associativi e quali attività si possano o meno svolgere\, e in che forme. La seconda parte dell’incontro è di confronto e risoluzione di dubbi e casi pratici relativi alle esigenze dei partecipanti\, cercando di individuare quale sia la forma di ente più funzionale al perseguimento dell’obiettivo e quali siano i passaggi formali da percorrere. \nL’incontro fornisce anche una rassegna dei principali aspetti del Codice del Terzo Settore (D.lgs 117/17) per fornire strumenti in prospettiva ai partecipanti. \n  \nDocente \nElena D’Alessandro\, giurista esperta del diritto del Terzo settore\, impegnata attivamente dal 2002 in campi sociali e culturali; responsabile Ufficio Consulenze CSV di Verona. \n  \nMetodologia didattica \nLezione frontale molto pratica\, aperta agli interventi e calibrata sulle esigenze dei partecipanti. \n  \n Date e orari \nMartedì 10 ottobre 2023 ǀ 18.00 – 20.00 \n  \nSede  \nWebinar \n  \nDestinatari  \nVolontari\, aspiranti volontari\, rappresentanti degli enti del Terzo settore\, giovani e cittadinanza \n  \nQuota di partecipazione  \nIl corso non prevede la quota d’iscrizione. \n  \nRegolamento per accedere alla formazione \nRegolamento completo \n   \n Iscrizione obbligatoria entro domenica 8 ottobre \nSi deve iscrivere al corso la persona che effettivamente parteciperà alla formazione. \nEffettuando il login \n 
URL:https://csv.verona.it/event/webinar-orientamento-alle-forme-associative-associazione-10-10/
END:VEVENT
BEGIN:VEVENT
DTSTART;TZID=Europe/Rome:20231011T180000
DTEND;TZID=Europe/Rome:20231011T200000
DTSTAMP:20260422T211007
CREATED:20230905T155348Z
LAST-MODIFIED:20230907T100208Z
UID:12990-1697047200-1697054400@csv.verona.it
SUMMARY:INCONTRO - Per fare il punto assieme\, il CSV ascolta le associazioni - Illasi
DESCRIPTION:Volontariato è relazione. Anche per il CSV le relazioni e le opportunità di scambio sono importanti: i momenti di incontro con le associazioni e con i volontari sono da sempre preziose occasioni di ascolto\, confronto\, rilancio e condivisione di valori. \n  \nPer questo la governance del CSV di Verona\, supportata dallo staff\, ha voluto organizzare quattro momenti di ascolto delle associazioni e dei volontari sui differenti territori della provincia\, per facilitare la partecipazione attraverso una presenza capillare. È l’occasione giusta\, per associazioni e volontari\, per dire la propria\, dare un contributo\, confrontarsi. Presidente e coordinatrice del CSV di Verona saranno presenti a tutti gli incontri\, accompagnati da consiglieri e operatori. Per far sentire la propria voce è possibile iscriversi gratuitamente dall’area riservata all’incontro più vicino o più comodo\, (se non sei ancora iscritto all’area riservata qui come fare). \n  \nQui puoi iscriverti all’incontro di Illasi\, mercoledì 11 ottobre\, 18.00 – 20.00\, sala civica\, via Cadene 1/A. \n  \n«Le associazioni e i volontari sono al centro del pensare e dell’operare del CSV di Verona – sottolinea il presidente CSV Centro Servizio per il Volontariato di Verona\, Roberto Veronese – che opera nel costante intento di portare “competenza e innovazione nel Terzo settore”\, con uno sguardo lungo e sensibile al cambiamento\, per esserci per le associazioni\, per superare ostacoli e ripensare assieme il futuro\, con spirito aperto». \n  \nLe serate\, saranno anche occasione per ricordare il ruolo del CSV a favore di associazioni e volontari e i relativi servizi a disposizione\, sempre in implementazione. \nGli incontri sono promossi nel quadro di “Nuove frontiere del volontariato veneto”\, un’iniziativa regionale che vede i cinque CSV del Veneto lavorare assieme per le associazioni della regione. \n  \n   \n  \nPer informazioni \nCSV Verona – Segreteria\, orientamento e rapporti con le associazioni\nDaria Rossi   info@csv.verona.it \n  \n 
URL:https://csv.verona.it/event/incontro-punto-assieme-csv-ascolta-le-associazioni-illasi/
END:VEVENT
BEGIN:VEVENT
DTSTART;TZID=Europe/Rome:20231019T180000
DTEND;TZID=Europe/Rome:20231019T200000
DTSTAMP:20260422T211007
CREATED:20230905T155645Z
LAST-MODIFIED:20231013T104334Z
UID:12992-1697738400-1697745600@csv.verona.it
SUMMARY:INCONTRO - Per fare il punto assieme\, il CSV ascolta le associazioni - Verona
DESCRIPTION:Volontariato è relazione. Anche per il CSV le relazioni e le opportunità di scambio sono importanti: i momenti di incontro con le associazioni e con i volontari sono da sempre preziose occasioni di ascolto\, confronto\, rilancio e condivisione di valori. \n  \nPer questo la governance del CSV di Verona\, supportata dallo staff\, ha voluto organizzare quattro momenti di ascolto delle associazioni e dei volontari sui differenti territori della provincia\, per facilitare la partecipazione attraverso una presenza capillare. È l’occasione giusta\, per associazioni e volontari\, per dire la propria\, dare un contributo\, confrontarsi. Presidente e coordinatrice del CSV di Verona saranno presenti a tutti gli incontri\, accompagnati da consiglieri e operatori. Per far sentire la propria voce è possibile iscriversi gratuitamente dall’area riservata all’incontro più vicino o più comodo\, (se non sei ancora iscritto all’area riservata qui come fare). \n  \nQui puoi iscriverti all’incontro di Verona\, giovedì 19 ottobre\, 18.00 – 20.00\, sede CSV\, via Cantarane 24 (ex Caserma Santa Marta)\nATTENZIONE\, avviso 13/10/2023: vista la grande adesione\, l’incontro di Verona si terrà in Lungadige Galtarossa 21\, presso 311.  \n  \n  \n«Le associazioni e i volontari sono al centro del pensare e dell’operare del CSV di Verona – sottolinea il presidente CSV Centro Servizio per il Volontariato di Verona\, Roberto Veronese – che opera nel costante intento di portare “competenza e innovazione nel Terzo settore”\, con uno sguardo lungo e sensibile al cambiamento\, per esserci per le associazioni\, per superare ostacoli e ripensare assieme il futuro\, con spirito aperto». \n  \nLe serate\, saranno anche occasione per ricordare il ruolo del CSV a favore di associazioni e volontari e i relativi servizi a disposizione\, sempre in implementazione.\nGli incontri sono promossi nel quadro di “Nuove frontiere del volontariato veneto”\, un’iniziativa regionale che vede i cinque CSV del Veneto lavorare assieme per le associazioni della regione. \n  \n   \n  \nPer informazioni \nCSV Verona – Segreteria\, orientamento e rapporti con le associazioni\nDaria Rossi   info@csv.verona.it \n  \n 
URL:https://csv.verona.it/event/incontro-punto-assieme-csv-ascolta-le-associazioni-verona/
END:VEVENT
BEGIN:VEVENT
DTSTART;TZID=Europe/Rome:20231024T180000
DTEND;TZID=Europe/Rome:20231024T200000
DTSTAMP:20260422T211007
CREATED:20230724T082856Z
LAST-MODIFIED:20230724T082856Z
UID:12917-1698170400-1698177600@csv.verona.it
SUMMARY:WEBINAR  – Registro Unico Nazionale del Terzo Settore (RUNTS) – Laboratorio pratico
DESCRIPTION:Obiettivi \nL’incontro online è pensato come un laboratorio operativo che illustrerà i passaggi per operare tecnicamente nel Registro Unico Nazionale del Terzo Settore (RUNTS): iscrizione di nuovo ente del Terzo settore (ETS)\, aggiornamento dati nel RUNTS\, deposito bilancio nel RUNTS. \nIn questo incontro non si effettuerà orientamento alla forma associativa o consulenza in merito ad aspetti di gestione della vita associativa. Consigliamo a coloro che non hanno ancora valutato l’opportunità di iscriversi al RUNTS di frequentare l’incontro dedicato “Orientamento alle forme associative: che associazione siamo?”. \n  \nContenuti  \nSi affronteranno i seguenti argomenti: \n\naccedere al RUNTS con identità digitale;\npanoramica della piattaforma e delle principali funzionalità;\nsimulazione di una nuova richiesta di iscrizione a ETS;\nsimulazione di una richiesta di variazione dati di ETS già iscritto nel RUNTS;\nsimulazione di un deposito di bilancio di ETS già iscritto nel RUNTS.\n\n  \nDocente \nAnna Accordini – Ufficio Consulenze CSV di Verona \n  \nMetodologia didattica \nLezione frontale molto pratica\, aperta agli interventi e calibrata sulle esigenze dei partecipanti. \n   \nDate e orari \nMartedì 24 ottobre 2023 ǀ 18.00 – 20.00 \n  \nSede  \nWebinar \n  \nDestinatari  \nVolontari e rappresentanti di enti del Terzo settore che abbiano già studiato l’opportunità di iscriversi al RUNTS oppure ETS già iscritti nel RUNTS. \n   \nContributo di partecipazione  \nODV 10 Euro a corsista; altre forme associative 20 Euro a corsista.\nIl pagamento della quota può essere effettuato con PayPal all’atto dell’iscrizione o con bonifico bancario (le coordinate bancarie si riceveranno nella mail di conferma dell’iscrizione). \n  \n  \nRegolamento per accedere alla formazione \nRegolamento completo \n  \n Iscrizione obbligatoria e pagamento entro il 23 ottobre \nSi deve iscrivere al corso la persona che effettivamente parteciperà alla formazione. \nEffettuando il login \n  \n 
URL:https://csv.verona.it/event/webinar-registro-unico-nazionale-del-terzo-settore-runts-laboratorio-pratico_ottobre/
END:VEVENT
BEGIN:VEVENT
DTSTART;TZID=Europe/Rome:20231025T180000
DTEND;TZID=Europe/Rome:20231025T200000
DTSTAMP:20260422T211007
CREATED:20230724T071540Z
LAST-MODIFIED:20230724T081753Z
UID:12897-1698256800-1698264000@csv.verona.it
SUMMARY:FORMAZIONE - Marchio etico e di qualità Merita Fiducia
DESCRIPTION:Obiettivi \nLe tre serate formative intendono offrire un quadro d’insieme sul marchio etico e di qualità Merita Fiducia\, riconoscimento promosso dal CSV di Verona. I partecipanti avranno la possibilità di approfondire il significato e gli obiettivi di un percorso che sviluppa e certifica trasparenza e affidabilità dell’organizzazione\, finalizzate anche al fundraising. Si metteranno in luce gli aspetti essenziali della rendicontazione sociale\, in linea con quanto previsto dal Codice del Terzo Settore e dalle Linee Guida per la redazione del bilancio sociale. Verranno presentati i servizi di accompagnamento\, dedicati alle organizzazioni che intraprenderanno il percorso di certificazione\, con particolare riferimento a rendicontazione sociale (relazione di missione integrata e bilancio sociale)\, corretta gestione documentale dell’associazione\, attività di raccolta fondi.\nPer chi è interessato a presentare domanda di partecipazione al marchio nell’edizione 2024\, la partecipazione a questo corso è obbligatoria. \n  \nContenuti  \nIl significato di un marchio etico e di qualità per il mondo del non profit \n\nevoluzione del non profit\, la trasparenza nel Codice del Terzo Settore;\nle linee guida per la redazione del bilancio sociale;\ntrasparenza e accountability (capacità di rendicontare) come principali elementi di comunicazione e fundraising.\n\n  \nIl marchio Merita Fiducia \n\nla struttura del marchio (base e plus) e il percorso preliminare Carte in Regola;\nil regolamento del marchio e il percorso di valutazione Merita Fiducia;\nla gestione del percorso di valutazione: gruppo istruttorio e comitato di valutazione;\nla rendicontazione economica e sociale nel percorso Merita Fiducia.\n\n  \nPrepararsi al marchio \n\ni focus di attenzione per le organizzazioni di volontariato;\nbilancio\, rendiconto raccolta fondi\, le potenzialità di crescita nella gestione interna;\ni servizi integrativi promossi per le organizzazioni aderenti.\n\n  \nDocente \nIrene Magri – Referente del marchio Merita Fiducia per il CSV di Verona e valutatore/auditor\nElena D’Alessandro – Responsabile dell’Ufficio Consulenze del CSV di Verona\nDavide Continati – Consulente esterno del CSV di Verona con qualifica di valutatore/auditor \n  \nMetodologia didattica \nLe lezioni saranno accompagnate da dispense contenenti gli argomenti e le esercitazioni svolte. \n  \nDate e orari \nMercoledì 25 ottobre\, 8 e 15 novembre 2023 ǀ 18.00 – 20.00 \n  \nSede  \nL’indirizzo sarà comunicato agli iscritti al corso (Verona città). \n  \nDestinatari  \nPresidenti\, membri del direttivo\, volontari\, operatori che\, all’interno dell’organizzazione\, avranno la responsabilità di seguire tutto l’iter di certificazione.\nSi consiglia la presenza di almeno due persone per organizzazione. \n  \nQuota di partecipazione\nIl corso non prevede la quota d’iscrizione. \n  \nRegolamento per accedere alla formazione\nSi deve iscrivere al corso la persona che effettivamente parteciperà alla formazione.\nRegolamento completo \n   \nIscrizione\nEffettuando il login \n  \n 
URL:https://csv.verona.it/event/formazione-marchio-etico-qualita-merita-fiducia-3/
END:VEVENT
END:VCALENDAR