BEGIN:VCALENDAR
VERSION:2.0
PRODID:-//CSV - ECPv6.15.20//NONSGML v1.0//EN
CALSCALE:GREGORIAN
METHOD:PUBLISH
X-WR-CALNAME:CSV
X-ORIGINAL-URL:https://csv.verona.it
X-WR-CALDESC:Eventi per CSV
REFRESH-INTERVAL;VALUE=DURATION:PT1H
X-Robots-Tag:noindex
X-PUBLISHED-TTL:PT1H
BEGIN:VTIMEZONE
TZID:Europe/Rome
BEGIN:DAYLIGHT
TZOFFSETFROM:+0100
TZOFFSETTO:+0200
TZNAME:CEST
DTSTART:20220327T010000
END:DAYLIGHT
BEGIN:STANDARD
TZOFFSETFROM:+0200
TZOFFSETTO:+0100
TZNAME:CET
DTSTART:20221030T010000
END:STANDARD
BEGIN:DAYLIGHT
TZOFFSETFROM:+0100
TZOFFSETTO:+0200
TZNAME:CEST
DTSTART:20230326T010000
END:DAYLIGHT
BEGIN:STANDARD
TZOFFSETFROM:+0200
TZOFFSETTO:+0100
TZNAME:CET
DTSTART:20231029T010000
END:STANDARD
BEGIN:DAYLIGHT
TZOFFSETFROM:+0100
TZOFFSETTO:+0200
TZNAME:CEST
DTSTART:20240331T010000
END:DAYLIGHT
BEGIN:STANDARD
TZOFFSETFROM:+0200
TZOFFSETTO:+0100
TZNAME:CET
DTSTART:20241027T010000
END:STANDARD
END:VTIMEZONE
BEGIN:VEVENT
DTSTART;TZID=Europe/Rome:20230905T180000
DTEND;TZID=Europe/Rome:20230905T200000
DTSTAMP:20260422T223353
CREATED:20230724T080634Z
LAST-MODIFIED:20230724T081549Z
UID:12903-1693936800-1693944000@csv.verona.it
SUMMARY:FORMAZIONE  – Orientamento alle forme associative: che associazione siamo?
DESCRIPTION:Obiettivi \nIllustrare i diversi passaggi per costituire e fondare una associazione.\nEsaminare le diverse tipologie giuridiche di enti del Terzo settore (ETS).\nIndividuare quale forma sia la più adeguata alle esigenze sollevate dai partecipanti per le singole attività.\nIllustrare aspetti gestionali dell’associazione\, anche già costituita\, alla luce inoltre del Codice del Terzo Settore (D.lgs 117/17)\nFornire indicazioni sull’iscrizione nel Registro Unico Nazionale del Terzo settore (RUNTS). \n  \n Contenuti  \nIl corso si articola in una prima parte frontale dove vengono illustrati i passaggi formali e gli adempimenti per costituire una associazione\, per approfondire poi le diverse tipologie di enti del Terzo settore (ETS) esaminando caratteristiche ed evoluzione. Si vaglieranno i principali adempimenti gestionali associativi e quali attività si possano o meno svolgere\, e in che forme. La seconda parte dell’incontro è di confronto e risoluzione di dubbi e casi pratici relativi alle esigenze dei partecipanti\, cercando di individuare quale sia la forma di ente più funzionale al perseguimento dell’obiettivo e quali siano i passaggi formali da percorrere. \nL’incontro fornisce anche una rassegna dei principali aspetti del Codice del Terzo Settore (D.lgs 117/17) per fornire strumenti in prospettiva ai partecipanti. \n  \nDocente \nElena D’Alessandro\, giurista esperta del diritto del Terzo settore\, impegnata attivamente dal 2002 in campi sociali e culturali; responsabile Ufficio Consulenze CSV di Verona. \n  \nMetodologia didattica \nLezione frontale molto pratica\, aperta agli interventi e calibrata sulle esigenze dei partecipanti. \n  \n Date e orari \nMartedì 5 settembre 2023 ǀ 18.00 – 20.00 \n  \nSede  \nIl corso si svolgerà in presenza. Il giorno prima dell’incontro sarà comunicato\, ai soli iscritti\, l’indirizzo per partecipare in presenza (Verona città). \n  \nDestinatari  \nVolontari\, aspiranti volontari\, rappresentanti degli enti del Terzo settore\, giovani e cittadinanza \n  \nQuota di partecipazione  \nIl corso non prevede la quota d’iscrizione. \n  \nRegolamento per accedere alla formazione \nRegolamento completo \n   \n Iscrizione obbligatoria entro il 3 settembre \nSi deve iscrivere al corso la persona che effettivamente parteciperà alla formazione. \nEffettuando il login \n 
URL:https://csv.verona.it/event/formazione-orientamento-alle-forme-associative-associazione-05-09/
END:VEVENT
BEGIN:VEVENT
DTSTART;TZID=Europe/Rome:20230918T180000
DTEND;TZID=Europe/Rome:20230918T200000
DTSTAMP:20260422T223353
CREATED:20230724T073250Z
LAST-MODIFIED:20230831T081706Z
UID:12901-1695060000-1695067200@csv.verona.it
SUMMARY:WEBINAR - I temperamenti umani: una chiave di lettura per conoscere me e gli altri
DESCRIPTION:Premessa \nI temperamenti umani sono una chiave antica e tuttora valida\, per conoscere l’indole umana. Il temperamento è un aspetto della persona che ci offre un punto di vista efficace per rivelare potenzialità e aspetti di auto-educazione. I temperamenti non sono un’etichetta\, non sono un confine\, non sono un “sono fatto/a così!”.\nUn piccolo approfondimento della docente in questo video. \n  \nObiettivi \nIl corso ha come obiettivi di identificare il proprio principale temperamento di appartenenza e di riconoscere il temperamento delle persone con cui ci si rapporta\, al fine di migliorare la relazione\, di saper gestire il gruppo di volontari (ma anche quello familiare\, amicale\, lavorativo) prendendo come spunto questo modello. \n  \nContenuti  \n\nTest per individuare il proprio temperamento principale\nDeclinazione dei temperamenti:\ncollerico – risorse e rischi\nsanguinico – risorse e rischi\nflemmatico – risorse e rischi\nmelanconico – risorse e rischi\n\n\nTemperare i temperamenti\nRelazioni e gestione del gruppo attraverso i temperamenti\n\nDocente \nCarla Favazza – Personal coach e trainer di laughter yoga con esperienza sia nel mondo profit sia nel Terzo settore \n  \nMetodologia didattica \nLezione frontale molto pratica\, aperta agli interventi e calibrata sulle esigenze dei partecipanti. \n  \nDate e orari \nIl corso si svolge in due incontri: lunedì 18 e 25 settembre 2023 ǀ 18.00 – 20.00 \n  \nSede  \nWebinar \n  \nDestinatari  \n25 volontari – responsabile dei volontari e tutti i volontari. \n  \nQuota di partecipazione \nIl webinar non prevede la quota d’iscrizione. \n  \nRegolamento per accedere alla formazione\n \nSi deve iscrivere al corso la persona che effettivamente parteciperà alla formazione.\nRegolamento completo \n   \nIscrizione\n \nEffettuando il login \n  \nNota aggiuntiva \nNell’ambito del progetto “Gluo – Piattaforma collaborativa del volontariato”\, questo corso partecipa a “Alveare CSV Formazione”\, un programma di formazione nazionale\, gratuito e rivolto a volontari e associazioni di tutta Italia\, promosso da CSVnet e realizzato dai Centri di Servizio per il volontariato italiani\, cui il CSV di Verona ha dato la propria adesione. \n 
URL:https://csv.verona.it/event/webinar-temperamenti-umani-chiave-lettura-conoscere-gli-altri/
END:VEVENT
BEGIN:VEVENT
DTSTART;TZID=Europe/Rome:20230919T180000
DTEND;TZID=Europe/Rome:20230919T200000
DTSTAMP:20260422T223353
CREATED:20230724T082627Z
LAST-MODIFIED:20230724T082627Z
UID:12915-1695146400-1695153600@csv.verona.it
SUMMARY:WEBINAR  – Registro Unico Nazionale del Terzo Settore (RUNTS) – Laboratorio pratico
DESCRIPTION:Obiettivi \nL’incontro online è pensato come un laboratorio operativo che illustrerà i passaggi per operare tecnicamente nel Registro Unico Nazionale del Terzo Settore (RUNTS): iscrizione di nuovo ente del Terzo settore (ETS)\, aggiornamento dati nel RUNTS\, deposito bilancio nel RUNTS. \nIn questo incontro non si effettuerà orientamento alla forma associativa o consulenza in merito ad aspetti di gestione della vita associativa. Consigliamo a coloro che non hanno ancora valutato l’opportunità di iscriversi al RUNTS di frequentare l’incontro dedicato “Orientamento alle forme associative: che associazione siamo?”. \n  \nContenuti  \nSi affronteranno i seguenti argomenti: \n\naccedere al RUNTS con identità digitale;\npanoramica della piattaforma e delle principali funzionalità;\nsimulazione di una nuova richiesta di iscrizione a ETS;\nsimulazione di una richiesta di variazione dati di ETS già iscritto nel RUNTS;\nsimulazione di un deposito di bilancio di ETS già iscritto nel RUNTS.\n\n  \nDocente \nAnna Accordini – Ufficio Consulenze CSV di Verona \n  \nMetodologia didattica \nLezione frontale molto pratica\, aperta agli interventi e calibrata sulle esigenze dei partecipanti. \n   \nDate e orari \nMartedì 19 settembre 2023 ǀ 18.00 – 20.00 \n  \nSede  \nWebinar \n  \nDestinatari  \nVolontari e rappresentanti di enti del Terzo settore che abbiano già studiato l’opportunità di iscriversi al RUNTS oppure ETS già iscritti nel RUNTS. \n   \nContributo di partecipazione  \nODV 10 Euro a corsista; altre forme associative 20 Euro a corsista.\nIl pagamento della quota può essere effettuato con PayPal all’atto dell’iscrizione o con bonifico bancario (le coordinate bancarie si riceveranno nella mail di conferma dell’iscrizione). \n  \n  \nRegolamento per accedere alla formazione \nRegolamento completo \n  \n Iscrizione obbligatoria e pagamento entro il 17 settembre \nSi deve iscrivere al corso la persona che effettivamente parteciperà alla formazione. \nEffettuando il login \n  \n 
URL:https://csv.verona.it/event/webinar-registro-unico-nazionale-del-terzo-settore-runts-laboratorio-pratico_settembre/
END:VEVENT
BEGIN:VEVENT
DTSTART;TZID=Europe/Rome:20230928T180000
DTEND;TZID=Europe/Rome:20230928T200000
DTSTAMP:20260422T223353
CREATED:20230905T155131Z
LAST-MODIFIED:20230906T071932Z
UID:12988-1695924000-1695931200@csv.verona.it
SUMMARY:INCONTRO - Per fare il punto assieme\, il CSV ascolta le associazioni - Legnago
DESCRIPTION:Volontariato è relazione. Anche per il CSV le relazioni e le opportunità di scambio sono importanti: i momenti di incontro con le associazioni e con i volontari sono da sempre preziose occasioni di ascolto\, confronto\, rilancio e condivisione di valori. \n  \nPer questo la governance del CSV di Verona\, supportata dallo staff\, ha voluto organizzare quattro momenti di ascolto delle associazioni e dei volontari sui differenti territori della provincia\, per facilitare la partecipazione attraverso una presenza capillare. È l’occasione giusta\, per associazioni e volontari\, per dire la propria\, dare un contributo\, confrontarsi. Presidente e coordinatrice del CSV di Verona saranno presenti a tutti gli incontri\, accompagnati da consiglieri e operatori. Per far sentire la propria voce è possibile iscriversi gratuitamente dall’area riservata all’incontro più vicino o più comodo\, (se non sei ancora iscritto all’area riservata qui come fare). \n  \nQui puoi iscriverti all’incontro di Legnago\, giovedì 28 settembre\, 18.00 – 20.00\, sala civica comunale\, via Matteotti\, 4/6 (Palazzo di Vetro). \n  \n«Le associazioni e i volontari sono al centro del pensare e dell’operare del CSV di Verona – sottolinea il presidente CSV Centro Servizio per il Volontariato di Verona\, Roberto Veronese – che opera nel costante intento di portare “competenza e innovazione nel Terzo settore”\, con uno sguardo lungo e sensibile al cambiamento\, per esserci per le associazioni\, per superare ostacoli e ripensare assieme il futuro\, con spirito aperto». \n  \nLe serate\, saranno anche occasione per ricordare il ruolo del CSV a favore di associazioni e volontari e i relativi servizi a disposizione\, sempre in implementazione.\nGli incontri sono promossi nel quadro di “Nuove frontiere del volontariato veneto”\, un’iniziativa regionale che vede i cinque CSV del Veneto lavorare assieme per le associazioni della regione. \n  \n   \n  \nPer informazioni \nCSV Verona – Segreteria\, orientamento e rapporti con le associazioni\nDaria Rossi   info@csv.verona.it \n  \n 
URL:https://csv.verona.it/event/incontro-punto-assieme-csv-ascolta-le-associazioni-legnago/
END:VEVENT
END:VCALENDAR