BEGIN:VCALENDAR
VERSION:2.0
PRODID:-//CSV - ECPv6.15.20//NONSGML v1.0//EN
CALSCALE:GREGORIAN
METHOD:PUBLISH
X-WR-CALNAME:CSV
X-ORIGINAL-URL:https://csv.verona.it
X-WR-CALDESC:Eventi per CSV
REFRESH-INTERVAL;VALUE=DURATION:PT1H
X-Robots-Tag:noindex
X-PUBLISHED-TTL:PT1H
BEGIN:VTIMEZONE
TZID:Europe/Rome
BEGIN:DAYLIGHT
TZOFFSETFROM:+0100
TZOFFSETTO:+0200
TZNAME:CEST
DTSTART:20220327T010000
END:DAYLIGHT
BEGIN:STANDARD
TZOFFSETFROM:+0200
TZOFFSETTO:+0100
TZNAME:CET
DTSTART:20221030T010000
END:STANDARD
BEGIN:DAYLIGHT
TZOFFSETFROM:+0100
TZOFFSETTO:+0200
TZNAME:CEST
DTSTART:20230326T010000
END:DAYLIGHT
BEGIN:STANDARD
TZOFFSETFROM:+0200
TZOFFSETTO:+0100
TZNAME:CET
DTSTART:20231029T010000
END:STANDARD
BEGIN:DAYLIGHT
TZOFFSETFROM:+0100
TZOFFSETTO:+0200
TZNAME:CEST
DTSTART:20240331T010000
END:DAYLIGHT
BEGIN:STANDARD
TZOFFSETFROM:+0200
TZOFFSETTO:+0100
TZNAME:CET
DTSTART:20241027T010000
END:STANDARD
END:VTIMEZONE
BEGIN:VEVENT
DTSTART;TZID=Europe/Rome:20230209T180000
DTEND;TZID=Europe/Rome:20230209T200000
DTSTAMP:20260423T112418
CREATED:20221129T111109Z
LAST-MODIFIED:20221212T093901Z
UID:12123-1675965600-1675972800@csv.verona.it
SUMMARY:FORMAZIONE  – Orientamento alle forme associative: che associazione siamo?
DESCRIPTION:Obiettivi \nIllustrare i diversi passaggi per costituire e fondare una associazione.\nEsaminare le diverse tipologie giuridiche di enti del Terzo settore (ETS).\nIndividuare quale forma sia la più adeguata alle esigenze sollevate dai partecipanti per le singole attività.\nIllustrare aspetti gestionali dell’associazione\, anche già costituita\, alla luce inoltre del Codice del Terzo Settore (D.lgs 117/17)\nFornire indicazioni sull’iscrizione nel Registro Unico Nazionale del Terzo settore (RUNTS). \n  \n Contenuti  \nIl corso si articola in una prima parte frontale dove vengono illustrati i passaggi formali e gli adempimenti per costituire una associazione\, per approfondire poi le diverse tipologie di enti del Terzo settore (ETS) esaminando caratteristiche ed evoluzione. Si vaglieranno i principali adempimenti gestionali associativi e quali attività si possano o meno svolgere\, e in che forme. La seconda parte dell’incontro è di confronto e risoluzione di dubbi e casi pratici relativi alle esigenze dei partecipanti\, cercando di individuare quale sia la forma di ente più funzionale al perseguimento dell’obiettivo e quali siano i passaggi formali da percorrere. \nL’incontro fornisce anche una rassegna dei principali aspetti del Codice del Terzo Settore (D.lgs 117/17) per fornire strumenti in prospettiva ai partecipanti. \n  \nDocente \nElena D’Alessandro\, giurista esperta del diritto del Terzo settore\, impegnata attivamente dal 2002 in campi sociali e culturali; responsabile Ufficio Consulenze CSV di Verona. \n  \nMetodologia didattica \nLezione frontale molto pratica\, aperta agli interventi e calibrata sulle esigenze dei partecipanti. \n  \n Date e orari \nGiovedì 9 febbraio 2023 ǀ 18.00 – 20.00 \n  \nSede  \nIl corso si svolgerà contemporaneamente sia in presenza sia online. Il giorno prima dell’incontro saranno comunicati\, ai soli iscritti\, l’indirizzo per partecipare in presenza (zona Veronetta) e il link ZOOM per la partecipazione online. Il corso si svolgerà in modalità webinar per tutti gli iscritti qualora le norme anti Covid\, in vigore in quel momento\, non permetteranno le lezioni in presenza; in questo caso sarà data tempestiva comunicazione. \n  \nDestinatari  \nVolontari\, aspiranti volontari\, rappresentanti degli enti del Terzo settore\, giovani e cittadinanza \n  \nQuota di partecipazione  \nIl corso non prevede la quota d’iscrizione. \n  \nRegolamento per accedere alla formazione \nRegolamento completo \n   \n Iscrizione obbligatoria entro il 7 febbraio \nSi deve iscrivere al corso la persona che effettivamente parteciperà alla formazione. \nEffettuando il login \n 
URL:https://csv.verona.it/event/formazione-orientamento-alle-fo6rme-associative-associ6azione-9_2_23/
END:VEVENT
BEGIN:VEVENT
DTSTART;TZID=Europe/Rome:20230215T180000
DTEND;TZID=Europe/Rome:20230215T200000
DTSTAMP:20260423T112418
CREATED:20221215T131749Z
LAST-MODIFIED:20221215T131906Z
UID:12180-1676484000-1676491200@csv.verona.it
SUMMARY:FORMAZIONE  – Rendiconto per associazioni e bilancio sociale
DESCRIPTION:Raccontare storie di passione e impegno\n  \nObiettivi \nL’incontro intende individuare il valore e l’utilità del bilancio sociale per tutte le organizzazioni del Terzo settore\, come strumento di crescita organizzativa e di valorizzazione del prezioso servizio svolto dai volontari. Il tema del bilancio sociale\, dopo l’emanazione delle Linee Guida Ministeriali del 2019\, ha una sua chiara e definita impostazione in termini di contenuti. Comprendere l’utilità di questa tipologia di rendicontazione significa utilizzare uno strumento che può diventare percorso di crescita per i soci\, per la governance interna e per un più proficuo dialogo con la rete territoriale di appartenenza. \n  \n  \nContenuti  \nIl corso intende offrire due tipologie di supporto: da un lato motivare e individuare le potenzialità insite nello strumento del bilancio sociale per le organizzazioni del Terzo settore e dall’altro mettere a disposizione strumenti pratici\, di facile utilizzo per costruire un documento di rendicontazione sociale adatto a tutte le realtà che si muovono nel sociale. Durante il percorso saranno messi a disposizione materiali utili da utilizzare per la raccolta dati\, idee ed esempi per la elaborazione delle pagine di bilancio sociale e per il calcolo dei principali indicatori. Nel contesto del percorso si accennerà anche al legame esistente fra bilancio sociale con la misurazione dell’impatto sociale. \n  \n  \nDocente \nFabio Fornasini\, si occupa da anni di responsabilità sociale di impresa e consulenza per il Terzo settore. Svolge inoltre attività come auditor per enti di certificazione qualità per schemi di certificazione etica e sociale. In questi anni ha approfondito modelli di misurazione del valore aggiunto sociale nel Terzo settore. Ha studiato economia all’Università di Genova e sociologia a Trento. \n  \n  \nMetodologia didattica \nLezione frontale molto pratica\, aperta agli interventi e calibrata sulle esigenze dei partecipanti. \n  \n  \nDate e orari \nIl corso si svolge in due incontri: mercoledì 15 e 22 febbraio 2023 ǀ 18.00 – 20.00 \n  \n  \nSede  \nIl corso si svolgerà in presenza\, in zona Veronetta. L’indirizzo sarà comunicato agli iscritti. Il corso si svolgerà in modalità webinar qualora le norme anti Covid\, in vigore in quel momento\, non permetteranno le lezioni in presenza; in questo caso sarà data tempestiva comunicazione agli iscritti. \n  \n  \nDestinatari  \n25 volontari – Tipologia: è consigliabile che il corso sia frequentato dalle figure interne che si occupano di raccogliere i dati e redigere il bilancio sociale dell’associazione\, come presidente\, membri del direttivo\, amministrativi\, volontari. \n  \n  \nContributo di partecipazione  \nODV 20 Euro a corsista (nell’area personale per l’iscrizione assicurarsi di essere collegati alla propria associazione\, diversamente la quota sarà di 40 Euro); altre forme associative e singoli cittadini 40 Euro a corsista.\nIl pagamento della quota può essere effettuato: \n\nCon PayPal all’atto dell’iscrizione;\ntramite bonifico bancario a FEDERAZIONE DEL VOLONTARIATO DI VERONA – BANCO BPM SPA VERONA (ITALY)\, BIC BAPPIT21004\, IBAN IT76O0503411704000000051276\, indicando come causale nome + cognome + titolo corso abbreviato. Il pagamento deve essere effettuato entro il 12 febbraio 2023 per permettere all’amministrazione del CSV la verifica contabile. Ai soli iscritti sarà comunicata\, via mail\, la sede del corso (zona Veronetta).\n\n  \n  \nRegolamento per accedere alla formazione\nPrima ci si iscrive al corso e solo dopo l’iscrizione si effettua il saldo del contributo di partecipazione.\nRegolamento completo \n  \n  \nIscrizione obbligatoria e pagamento entro il 12 febbraio effettuando il login.\nSi deve iscrivere al corso la persona che effettivamente parteciperà alla formazione. Non saranno ammesse persone che non figurano nel nostro registro. \n  \n 
URL:https://csv.verona.it/event/formazione-rendiconto-associazioni-bilancio-sociale-2023/
END:VEVENT
BEGIN:VEVENT
DTSTART;TZID=Europe/Rome:20230220T160000
DTEND;TZID=Europe/Rome:20230220T180000
DTSTAMP:20260423T112418
CREATED:20221215T133024Z
LAST-MODIFIED:20230207T145058Z
UID:12185-1676908800-1676916000@csv.verona.it
SUMMARY:WEBINAR  – Alternanza scuola lavoro e tirocini universitari: come funzionano\, possono fare al caso nostro?
DESCRIPTION:Obiettivi \nL’incontro si pone l’obiettivo di illustrare alcune progettazioni\, come l’alternanza scuola lavoro e i tirocini curriculari\, che possono favorire l’intercettazione e il coinvolgimento delle generazioni più giovani all’interno degli enti. \n  \nContenuti  \nIl corso avrà un taglio molto pratico e affronterà i seguenti aspetti: \nAlternanza scuola lavoro \n\nrequisiti che un ente deve avere per ospitare giovani in alternanza scuola lavoro (ora PTCO);\ncome attivare e preparare un progetto formativo di alternanza scuola lavoro;\nsuggerimenti per la realizzazione e gestione di progetti di alternanza scuola lavoro;\n\nTirocini universitari \n\nrequisiti che un ente deve avere per ospitare studenti/tesse in tirocinio universitario;\ncome attivare e preparare un progetto formativo di tirocinio;\ncome proporre un’esperienza di tirocinio agli studenti;\nsuggerimenti per la realizzazione e gestione di progetti di tirocinio.\n\n  \nDocente \nFrancesca Rossi – Responsabile dell’ufficio Promozione del volontariato – Area giovani e Servizio Civile del CSV di Verona \n  \nMetodologia didattica \nLezione frontale molto pratica\, aperta agli interventi e calibrata sulle esigenze dei partecipanti. \n  \nDate e orari \nlunedì 20 febbraio 2023 ǀ 16.00 – 18.00 \n  \nSede  \nWebinar \n  \nDestinatari  \n25 volontari – Tipologia: presidente\, membri del direttivo\, segretari\, volontari dell’associazione. \n  \nRegolamento per accedere alla formazione\nRegolamento completo \n  \nIscrizione obbligatoria effettuando il login.\nSi deve iscrivere al corso la persona che effettivamente parteciperà alla formazione. Non saranno ammesse persone che non figurano nel nostro registro. \n 
URL:https://csv.verona.it/event/webinar-alternanza-scuola-lavoro-tirocini-universitari-funzionano-possono-al-caso-nostro_2023/
END:VEVENT
BEGIN:VEVENT
DTSTART;TZID=Europe/Rome:20230221T180000
DTEND;TZID=Europe/Rome:20230221T200000
DTSTAMP:20260423T112418
CREATED:20221129T105833Z
LAST-MODIFIED:20221212T091637Z
UID:12117-1677002400-1677009600@csv.verona.it
SUMMARY:WEBINAR  – Registro Unico Nazionale del Terzo Settore (RUNTS) e Riforma del Terzo Settore
DESCRIPTION:Obiettivi \nCon l’entrata in vigore del Codice del Terzo Settore\, D.lgs 117/17\, si è dato avvio a quel processo di strutturazione della categoria di Enti del Terzo Settore (ETS) che vede dei passaggi progressivi di attuazione. Nel corso di questi anni molti enti hanno adeguato gli statuti\, come prescritto\, adeguandoli alla nuova normativa per la trasmigrazione nel Registro Unico Nazionale del Terzo Settore (RUNTS)\, altri enti hanno studiato attentamente le varie tipologie di ETS per capire\, una volta operativo il RUNTS\, come potervi accedere e in quale tipologia di ente del Terzo settore trasformarsi\, altri enti sono ancora in una fase di incertezza e di valutazione sulla trasformazione o meno in ETS. \nCon l’entrata in vigore del RUNTS\, lo scorso 23 novembre 2021\, si è concretizzato quel passaggio formale “spartiacque” che consente di conoscere nel dettaglio come funziona non solo l’iscrizione nel RUNTS\, anche potendo simulare una sorta di navigazione nello stesso\, ma anche la permanenza nel Registro\, con una analisi di adempimenti periodici e scadenze legate appunto al mantenimento dello status di ETS. \n  \nContenuti  \nSi affronteranno i seguenti argomenti: \n\nRiforma del Terzo Settore: passaggi e stato dell’arte;\nle differenti situazioni per le diverse tipologia di enti;\ncome iscriversi nel RUNTS e quali sono i passaggi operativi: simulazione ed esempi;\nadempimenti\, comunicazioni e revisione legati all’iscrizione nel RUNTS;\ncosa attendersi per i primi anni di operatività del RUNTS e le valutazioni da effettuare.\n\n  \nDocente \nElena D’Alessandro\, giurista esperta del diritto del Terzo settore\, impegnata attivamente dal 2002 in campi sociali e culturali; responsabile Ufficio Consulenze CSV di Verona. \n  \nMetodologia didattica \nLezione frontale molto pratica\, aperta agli interventi e calibrata sulle esigenze dei partecipanti. \n   \nDate e orari \nMartedì 21 febbraio 2023 ǀ 18.00 – 20.00 \n  \nSede  \nWebinar \n  \nDestinatari  \nVolontari e rappresentanti degli enti del Terzo settore \n  \nContributo di partecipazione  \nODV 10 Euro a corsista (nell’area personale per l’iscrizione assicurarsi di essere collegati alla propria associazione\, diversamente la quota sarà di 20 Euro); altre forme associative e singoli cittadini 20 Euro a corsista. \nIl pagamento della quota può essere effettuato: \n\nCon PayPal all’atto dell’iscrizione;\ntramite bonifico bancario a FEDERAZIONE DEL VOLONTARIATO DI VERONA – BANCO BPM SPA VERONA (ITALY)\, BIC BAPPIT21004\, IBAN IT76O0503411704000000051276\, indicando come causale nome + cognome + titolo corso abbreviato. Il pagamento deve essere effettuato la settimana precedente a quella del corso per permettere all’amministrazione del CSV la verifica contabile e il successivo invio del link per la partecipazione al webinar. Il link sarà inviato il giorno prima o la mattina stessa del giorno del corso.\n\n  \nRegolamento per accedere alla formazione \nRegolamento completo \n  \n Iscrizione obbligatoria e pagamento entro il 19 febbraio \nSi deve iscrivere al corso la persona che effettivamente parteciperà alla formazione. \nEffettuando il login \n  \n 
URL:https://csv.verona.it/event/webinar-registro-unico-nazionale-del-terzo-set6tore-runts-riforma-del-terzo-settore-21_2_23/
END:VEVENT
END:VCALENDAR