BEGIN:VCALENDAR
VERSION:2.0
PRODID:-//CSV - ECPv6.15.20//NONSGML v1.0//EN
CALSCALE:GREGORIAN
METHOD:PUBLISH
X-ORIGINAL-URL:https://csv.verona.it
X-WR-CALDESC:Eventi per CSV
REFRESH-INTERVAL;VALUE=DURATION:PT1H
X-Robots-Tag:noindex
X-PUBLISHED-TTL:PT1H
BEGIN:VTIMEZONE
TZID:Europe/Rome
BEGIN:DAYLIGHT
TZOFFSETFROM:+0100
TZOFFSETTO:+0200
TZNAME:CEST
DTSTART:20220327T010000
END:DAYLIGHT
BEGIN:STANDARD
TZOFFSETFROM:+0200
TZOFFSETTO:+0100
TZNAME:CET
DTSTART:20221030T010000
END:STANDARD
BEGIN:DAYLIGHT
TZOFFSETFROM:+0100
TZOFFSETTO:+0200
TZNAME:CEST
DTSTART:20230326T010000
END:DAYLIGHT
BEGIN:STANDARD
TZOFFSETFROM:+0200
TZOFFSETTO:+0100
TZNAME:CET
DTSTART:20231029T010000
END:STANDARD
BEGIN:DAYLIGHT
TZOFFSETFROM:+0100
TZOFFSETTO:+0200
TZNAME:CEST
DTSTART:20240331T010000
END:DAYLIGHT
BEGIN:STANDARD
TZOFFSETFROM:+0200
TZOFFSETTO:+0100
TZNAME:CET
DTSTART:20241027T010000
END:STANDARD
END:VTIMEZONE
BEGIN:VEVENT
DTSTART;TZID=Europe/Rome:20230110T180000
DTEND;TZID=Europe/Rome:20230110T200000
DTSTAMP:20260423T112540
CREATED:20221129T110710Z
LAST-MODIFIED:20221212T093703Z
UID:12121-1673373600-1673380800@csv.verona.it
SUMMARY:FORMAZIONE  – Orientamento alle forme associative: che associazione siamo?
DESCRIPTION:Obiettivi \nIllustrare i diversi passaggi per costituire e fondare una associazione.\nEsaminare le diverse tipologie giuridiche di enti del Terzo settore (ETS).\nIndividuare quale forma sia la più adeguata alle esigenze sollevate dai partecipanti per le singole attività.\nIllustrare aspetti gestionali dell’associazione\, anche già costituita\, alla luce inoltre del Codice del Terzo Settore (D.lgs 117/17)\nFornire indicazioni sull’iscrizione nel Registro Unico Nazionale del Terzo settore (RUNTS). \n  \n Contenuti  \nIl corso si articola in una prima parte frontale dove vengono illustrati i passaggi formali e gli adempimenti per costituire una associazione\, per approfondire poi le diverse tipologie di enti del Terzo settore (ETS) esaminando caratteristiche ed evoluzione. Si vaglieranno i principali adempimenti gestionali associativi e quali attività si possano o meno svolgere\, e in che forme. La seconda parte dell’incontro è di confronto e risoluzione di dubbi e casi pratici relativi alle esigenze dei partecipanti\, cercando di individuare quale sia la forma di ente più funzionale al perseguimento dell’obiettivo e quali siano i passaggi formali da percorrere. \nL’incontro fornisce anche una rassegna dei principali aspetti del Codice del Terzo Settore (D.lgs 117/17) per fornire strumenti in prospettiva ai partecipanti. \n  \nDocente \nElena D’Alessandro\, giurista esperta del diritto del Terzo settore\, impegnata attivamente dal 2002 in campi sociali e culturali; responsabile Ufficio Consulenze CSV di Verona. \n  \nMetodologia didattica \nLezione frontale molto pratica\, aperta agli interventi e calibrata sulle esigenze dei partecipanti. \n  \n Date e orari \nMartedì 10 gennaio 2023 ǀ 18.00 – 20.00 \n  \nSede  \nIl corso si svolgerà contemporaneamente sia in presenza sia online. Il giorno prima dell’incontro saranno comunicati\, ai soli iscritti\, l’indirizzo per partecipare in presenza (zona Veronetta) e il link ZOOM per la partecipazione online. Il corso si svolgerà in modalità webinar per tutti gli iscritti qualora le norme anti Covid\, in vigore in quel momento\, non permetteranno le lezioni in presenza; in questo caso sarà data tempestiva comunicazione. \n  \nDestinatari  \nVolontari\, aspiranti volontari\, rappresentanti degli enti del Terzo settore\, giovani e cittadinanza \n  \nQuota di partecipazione  \nIl corso non prevede la quota d’iscrizione. \n  \nRegolamento per accedere alla formazione \nRegolamento completo \n   \n Iscrizione obbligatoria entro l’8 gennaio \nSi deve iscrivere al corso la persona che effettivamente parteciperà alla formazione. \nEffettuando il login \n 
URL:https://csv.verona.it/event/formazione-orientamento-alle-fo6rme-associative-associ6azione-10_1_23/
END:VEVENT
BEGIN:VEVENT
DTSTART;TZID=Europe/Rome:20230117T180000
DTEND;TZID=Europe/Rome:20230117T200000
DTSTAMP:20260423T112540
CREATED:20221129T105401Z
LAST-MODIFIED:20221212T091048Z
UID:12115-1673978400-1673985600@csv.verona.it
SUMMARY:WEBINAR  – Registro Unico Nazionale del Terzo Settore (RUNTS) e Riforma del Terzo Settore
DESCRIPTION:Obiettivi \nCon l’entrata in vigore del Codice del Terzo Settore\, D.lgs 117/17\, si è dato avvio a quel processo di strutturazione della categoria di Enti del Terzo Settore (ETS) che vede dei passaggi progressivi di attuazione. Nel corso di questi anni molti enti hanno adeguato gli statuti\, come prescritto\, adeguandoli alla nuova normativa per la trasmigrazione nel Registro Unico Nazionale del Terzo Settore (RUNTS)\, altri enti hanno studiato attentamente le varie tipologie di ETS per capire\, una volta operativo il RUNTS\, come potervi accedere e in quale tipologia di ente del Terzo settore trasformarsi\, altri enti sono ancora in una fase di incertezza e di valutazione sulla trasformazione o meno in ETS. \nCon l’entrata in vigore del RUNTS\, lo scorso 23 novembre 2021\, si è concretizzato quel passaggio formale “spartiacque” che consente di conoscere nel dettaglio come funziona non solo l’iscrizione nel RUNTS\, anche potendo simulare una sorta di navigazione nello stesso\, ma anche la permanenza nel Registro\, con una analisi di adempimenti periodici e scadenze legate appunto al mantenimento dello status di ETS. \n  \nContenuti  \nSi affronteranno i seguenti argomenti: \n\nRiforma del Terzo Settore: passaggi e stato dell’arte;\nle differenti situazioni per le diverse tipologia di enti;\ncome iscriversi nel RUNTS e quali sono i passaggi operativi: simulazione ed esempi;\nadempimenti\, comunicazioni e revisione legati all’iscrizione nel RUNTS;\ncosa attendersi per i primi anni di operatività del RUNTS e le valutazioni da effettuare.\n\n  \nDocente \nElena D’Alessandro\, giurista esperta del diritto del Terzo settore\, impegnata attivamente dal 2002 in campi sociali e culturali; responsabile Ufficio Consulenze CSV di Verona. \n  \nMetodologia didattica \nLezione frontale molto pratica\, aperta agli interventi e calibrata sulle esigenze dei partecipanti. \n   \nDate e orari \nMartedì 17 gennaio 2023 ǀ 18.00 – 20.00 \n  \nSede  \nWebinar \n  \nDestinatari  \nVolontari e rappresentanti degli enti del Terzo settore \n  \nContributo di partecipazione \nODV 10 Euro a corsista (nell’area personale per l’iscrizione assicurarsi di essere collegati alla propria associazione\, diversamente la quota sarà di 20 Euro); altre forme associative e singoli cittadini 20 Euro a corsista. \nIl pagamento della quota può essere effettuato: \n\nCon PayPal all’atto dell’iscrizione;\ntramite bonifico bancario a FEDERAZIONE DEL VOLONTARIATO DI VERONA – BANCO BPM SPA VERONA (ITALY)\, BIC BAPPIT21004\, IBAN IT76O0503411704000000051276\, indicando come causale nome + cognome + titolo corso abbreviato. Il pagamento deve essere effettuato la settimana precedente a quella del corso per permettere all’amministrazione del CSV la verifica contabile e il successivo invio del link per la partecipazione al webinar. Il link sarà inviato il giorno prima o la mattina stessa del giorno del corso.\n\n  \nRegolamento per accedere alla formazione \nRegolamento completo \n  \n Iscrizione obbligatoria e pagamento entro il 15 gennaio \nSi deve iscrivere al corso la persona che effettivamente parteciperà alla formazione. \nEffettuando il login \n  \n 
URL:https://csv.verona.it/event/webinar-registro-unico-nazionale-del-terzo-set6tore-runts-riforma-del-terzo-settore-17_1-23/
END:VEVENT
BEGIN:VEVENT
DTSTART;TZID=Europe/Rome:20230118T180000
DTEND;TZID=Europe/Rome:20230118T200000
DTSTAMP:20260423T112540
CREATED:20221215T134906Z
LAST-MODIFIED:20221215T134906Z
UID:12192-1674064800-1674072000@csv.verona.it
SUMMARY:WEBINAR  – Giustizia riparativa e di comunità: ricucire legami con una buona gestione degli interventi di LPU e MAP
DESCRIPTION:Obiettivi \nL’incontro si pone come obiettivi principali quelli di: \n\nfar conoscere la giustizia ripartiva\ncomprendere la differenza con la giustizia di comunità\nfar conoscere e gestire le principali misure di comunità\, quali lavori di pubblica utilità (LPU)\, messa alla prova (MAP)\, affidamento in prova al servizio sociale (AP).\n\nLa promozione del volontariato e la ricerca di nuovi volontari possono passare attraverso dei canali non usuali. L’accoglienza di persone in misure di comunità\, oltre ad avere un fine sociale di alto valore\, è un ottimo canale di promozione. Le buone pratiche nella gestione delle persone sono un incentivo per far sì che si fermino nell’organizzazione\, una volta terminato il servizio\, e avere nuovi volontari. \n  \nContenuti  \nPrimo incontro – 2 ore\nElementi di giustizia riparativa: significato e pratiche riparative\nGli attori della giustizia riparativa: autori di reato\, vittime e comunità\nGiustizia riparativa e giustizia di comunità a confronto \n\nSecondo incontro- 2 ore\nIl ruolo del Terzo settore nella giustizia di comunità\nAccogliere persone in misure di comunità: dalla biografia alle relazioni istituzionali\nCome attivarsi: la convenzione con il Tribunale\, prassi gestionali interne e documentazione. \n  \nDocente \nIrene Magri – responsabile Sportello Giustizia di Comunità del CSV di Verona\, referente\, auditor e componente del gruppo istruttorio del marchio Merita Fiducia per il CSV di Verona. \n  \nMetodologia didattica \nLezione frontale molto pratica\, aperta agli interventi e calibrata sulle esigenze dei partecipanti. \n  \nDate e orari \nMercoledì 18 e 25 gennaio 2023 ǀ 18.00 – 20.00 \n  \nSede  \nWebinar \n  \nDestinatari  \n25 volontari – Tipologia: presidente\, membri del direttivo\, segretari\, volontari dell’associazione. \n  \nContributo di partecipazione  \nIl webinar è gratuito. \n  \nIscrizione obbligatoria entro il 17 gennaio ore 12.00\nEffettuando il login sulla piattaforma Gluo \n  \nNota aggiuntiva  \nNell’ambito del progetto “Gluo – Piattaforma collaborativa del volontariato”\, questo corso partecipa a “Alveare CSV Formazione”\, un programma di formazione nazionale\, gratuito e rivolto a volontari e associazioni di tutta Italia\, promosso da CSVnet e realizzato dai Centri di Servizio per il volontariato italiani\, cui il CSV di Verona ha dato la propria adesione. \n 
URL:https://csv.verona.it/event/webinar-giustizia-riparativa-comunita-ricucire-legami-buona-gestione-degli-interventi-lpu-map-2023/
END:VEVENT
END:VCALENDAR