BEGIN:VCALENDAR
VERSION:2.0
PRODID:-//CSV - ECPv6.15.20//NONSGML v1.0//EN
CALSCALE:GREGORIAN
METHOD:PUBLISH
X-ORIGINAL-URL:https://csv.verona.it
X-WR-CALDESC:Eventi per CSV
REFRESH-INTERVAL;VALUE=DURATION:PT1H
X-Robots-Tag:noindex
X-PUBLISHED-TTL:PT1H
BEGIN:VTIMEZONE
TZID:Europe/Rome
BEGIN:DAYLIGHT
TZOFFSETFROM:+0100
TZOFFSETTO:+0200
TZNAME:CEST
DTSTART:20210328T010000
END:DAYLIGHT
BEGIN:STANDARD
TZOFFSETFROM:+0200
TZOFFSETTO:+0100
TZNAME:CET
DTSTART:20211031T010000
END:STANDARD
BEGIN:DAYLIGHT
TZOFFSETFROM:+0100
TZOFFSETTO:+0200
TZNAME:CEST
DTSTART:20220327T010000
END:DAYLIGHT
BEGIN:STANDARD
TZOFFSETFROM:+0200
TZOFFSETTO:+0100
TZNAME:CET
DTSTART:20221030T010000
END:STANDARD
BEGIN:DAYLIGHT
TZOFFSETFROM:+0100
TZOFFSETTO:+0200
TZNAME:CEST
DTSTART:20230326T010000
END:DAYLIGHT
BEGIN:STANDARD
TZOFFSETFROM:+0200
TZOFFSETTO:+0100
TZNAME:CET
DTSTART:20231029T010000
END:STANDARD
END:VTIMEZONE
BEGIN:VEVENT
DTSTART;TZID=Europe/Rome:20221103T180000
DTEND;TZID=Europe/Rome:20221103T200000
DTSTAMP:20260423T143532
CREATED:20220729T082039Z
LAST-MODIFIED:20220729T082039Z
UID:11688-1667498400-1667505600@csv.verona.it
SUMMARY:FORMAZIONE  – Orientamento alle forme associative: che associazione siamo?
DESCRIPTION:Obiettivi \nIllustrare i diversi passaggi per costituire e fondare una associazione.\nEsaminare le diverse tipologie giuridiche di enti del Terzo settore (ETS).\nIndividuare quale forma sia la più adeguata alle esigenze sollevate dai partecipanti per le singole attività.\nIllustrare aspetti gestionali dell’associazione\, anche già costituita\, alla luce inoltre del Codice del Terzo Settore (D.lgs 117/17)\nFornire indicazioni sull’iscrizione nel Registro Unico Nazionale del Terzo settore (RUNTS). \n  \n Contenuti  \nIl corso si articola in una prima parte frontale dove vengono illustrati i passaggi formali e gli adempimenti per costituire una associazione\, per approfondire poi le diverse tipologie di enti del Terzo settore (ETS) esaminando caratteristiche ed evoluzione. Si vaglieranno i principali adempimenti gestionali associativi e quali attività si possano o meno svolgere\, e in che forme. La seconda parte dell’incontro è di confronto e risoluzione di dubbi e casi pratici relativi alle esigenze dei partecipanti\, cercando di individuare quale sia la forma di ente più funzionale al perseguimento dell’obiettivo e quali siano i passaggi formali da percorrere. \nL’incontro fornisce anche una rassegna dei principali aspetti del Codice del Terzo Settore (D.lgs 117/17) per fornire strumenti in prospettiva ai partecipanti. \n  \nDocente \nElena D’Alessandro\, giurista esperta del diritto del Terzo settore\, impegnata attivamente dal 2002 in campi sociali e culturali; responsabile Ufficio Consulenze CSV di Verona. \n  \nMetodologia didattica \nLezione frontale molto pratica\, aperta agli interventi e calibrata sulle esigenze dei partecipanti. \n  \n Date e orari \nGiovedì 3 novembre 2022 ǀ 18.00 – 20.00 \n  \nSede  \nIl corso si svolgerà in presenza\, in zona Veronetta. L’indirizzo sarà comunicato agli iscritti al corso. Il corso si svolgerà in modalità webinar qualora le norme anti Covid\, in vigore in quel momento\, non permetteranno le lezioni in presenza; in questo caso sarà data tempestiva comunicazione agli iscritti. \n  \nDestinatari  \nVolontari\, aspiranti volontari\, rappresentanti degli enti del Terzo settore\, giovani e cittadinanza \n  \nQuota di partecipazione  \nIl corso non prevede la quota d’iscrizione. \n  \nRegolamento per accedere alla formazione \nRegolamento completo \n   \nIscrizioni \nSi deve iscrivere al corso la persona che effettivamente parteciperà alla formazione. \nEffettuando il login \n 
URL:https://csv.verona.it/event/formazione-orientamento-alle-fo6rme-associative-associ6azione-3_11/
END:VEVENT
BEGIN:VEVENT
DTSTART;TZID=Europe/Rome:20221110T180000
DTEND;TZID=Europe/Rome:20221110T200000
DTSTAMP:20260423T143532
CREATED:20220729T082737Z
LAST-MODIFIED:20220729T085513Z
UID:11694-1668103200-1668110400@csv.verona.it
SUMMARY:WEBINAR  – Registro Unico Nazionale del Terzo Settore (RUNTS) e Riforma del Terzo Settore
DESCRIPTION:Obiettivi \nCon l’entrata in vigore del Codice del Terzo Settore\, D.lgs 117/17\, si è dato avvio a quel processo di strutturazione della categoria di Enti del Terzo Settore (ETS) che vede dei passaggi progressivi di attuazione. Nel corso di questi anni molti enti hanno adeguato gli statuti\, come prescritto\, adeguandoli alla nuova normativa per la trasmigrazione nel Registro Unico Nazionale del Terzo Settore (RUNTS)\, altri enti hanno studiato attentamente le varie tipologie di ETS per capire\, una volta operativo il RUNTS\, come potervi accedere e in quale tipologia di ente del Terzo settore trasformarsi\, altri enti sono ancora in una fase di incertezza e di valutazione sulla trasformazione o meno in ETS. \nCon l’entrata in vigore del RUNTS\, lo scorso 23 novembre 2021\, si è concretizzato quel passaggio formale “spartiacque” che consente di conoscere nel dettaglio come funziona non solo l’iscrizione nel RUNTS\, anche potendo simulare una sorta di navigazione nello stesso\, ma anche la permanenza nel Registro\, con una analisi di adempimenti periodici e scadenze legate appunto al mantenimento dello status di ETS. \n  \nContenuti  \nSi affronteranno i seguenti argomenti: \n\nRiforma del Terzo Settore: passaggi e stato dell’arte;\nle differenti situazioni per le diverse tipologia di enti;\ncome iscriversi nel RUNTS e quali sono i passaggi operativi: simulazione ed esempi;\nadempimenti\, comunicazioni e revisione legati all’iscrizione nel RUNTS;\ncosa attendersi per i primi anni di operatività del RUNTS e le valutazioni da effettuare.\n\n  \nDocente \nElena D’Alessandro\, giurista esperta del diritto del Terzo settore\, impegnata attivamente dal 2002 in campi sociali e culturali; responsabile Ufficio Consulenze CSV di Verona. \n  \nMetodologia didattica \nLezione frontale molto pratica\, aperta agli interventi e calibrata sulle esigenze dei partecipanti. \n   \nDate e orari \nGiovedì 10 novembre 2022 ǀ 18.00 – 20.00 \n  \nSede  \nWebinar \n  \nDestinatari  \nVolontari e rappresentanti degli enti del Terzo settore \n  \n Quota di partecipazione  \nIl webinar non prevede la quota d’iscrizione. \n  \nRegolamento per accedere alla formazione \nRegolamento completo \n  \n Iscrizione obbligatoria entro il 8 novembre \nSi deve iscrivere al corso la persona che effettivamente parteciperà alla formazione. \nEffettuando il login \n  \n 
URL:https://csv.verona.it/event/webinar-registro-unico-nazionale-del-terzo-set6tore-runts-riforma-del-terzo-settore-10_11/
END:VEVENT
BEGIN:VEVENT
DTSTART;TZID=Europe/Rome:20221115T203000
DTEND;TZID=Europe/Rome:20221115T223000
DTSTAMP:20260423T143532
CREATED:20221010T115456Z
LAST-MODIFIED:20221010T132103Z
UID:11948-1668544200-1668551400@csv.verona.it
SUMMARY:FORMAZIONE  – Scacco matto alla burocrazia! Mossa 1
DESCRIPTION:Mosse vincenti per enti di volontariato\n  \n  \nMossa 1. Orientati e posizionati all’interno della Riforma del Terzo Settore\n  \nObiettivi \nCon l’entrata in vigore del Codice del Terzo Settore\, D.lgs 117/17\, si è dato avvio a quel processo di strutturazione della categoria di Enti del Terzo Settore (ETS) che vede dei passaggi progressivi di attuazione. Nel corso di questi anni molti enti hanno adeguato gli statuti\, come prescritto\, conformandoli alla nuova normativa per la trasmigrazione nel Registro Unico Nazionale del Terzo Settore (RUNTS)\, altri enti hanno studiato attentamente le varie tipologie di ETS per capire\, una volta operativo il RUNTS\, come accedere e in quale tipologia di ente del Terzo settore trasformarsi\, altri enti sono invece ancora in una fase di incertezza e di valutazione sulla trasformazione o meno in ETS. \nCon l’entrata in vigore del RUNTS\, lo scorso 23 novembre 2021\, si è concretizzato quel passaggio formale “spartiacque” che consente di conoscere nel dettaglio come funziona e di valutare quali sono i principali adempimenti “fusi” e “dentro” il RUNTS. \n  \nContenuti  \nSi affronteranno i seguenti argomenti: \n\nRiforma del Terzo Settore: passaggi e stato dell’arte;\nle differenti situazioni per le diverse tipologia di enti;\naspetti gestionali dell’associazione alla luce del Codice del Terzo Settore (D.lgs 117/17).\n\n  \nDocente \nElena D’Alessandro\, giurista esperta del diritto del Terzo settore\, impegnata attivamente dal 2002 in campi sociali e culturali; responsabile Ufficio Consulenze CSV di Verona. \n  \nMetodologia didattica \nLezione frontale molto pratica\, aperta agli interventi e calibrata sulle esigenze dei partecipanti. \n  \nDate e orari \nIl corso si svolgerà martedì 15 novembre 2022 ǀ 20.30 – 22.30 \n  \nSede  \nIl corso si svolgerà a Cerro Veronese in Via Tomelleri n. 4\, presso la scuola secondaria di primo grado. \n  \nDestinatari  \nÈ consigliabile che il corso sia frequentato dalla figura interna che segue gli aspetti gestionali dell’associazione: segretario\, presidente\, amministrativi\, volontari. \n  \nRegolamento per accedere alla formazione \nRegolamento completo \n  \nIscrizione obbligatoria entro il 14 novembre. \nEffettuando il login \nSi deve iscrivere al corso la persona che effettivamente parteciperà alla formazione. Non saranno ammesse persone che non figurano nel nostro registro.
URL:https://csv.verona.it/event/formazione-scacco-matto-alla-burocrazia-mossa-1_15-11/
END:VEVENT
BEGIN:VEVENT
DTSTART;TZID=Europe/Rome:20221122T203000
DTEND;TZID=Europe/Rome:20221122T223000
DTSTAMP:20260423T143532
CREATED:20221010T120830Z
LAST-MODIFIED:20221010T132127Z
UID:11954-1669149000-1669156200@csv.verona.it
SUMMARY:FORMAZIONE  – Scacco matto alla burocrazia! Mossa 2
DESCRIPTION:Mosse vincenti per enti di volontariato\n  \n  \nMossa 2. Definisci le regole per organi e libri sociali\n  \nObiettivi \nL’incontro\, dal taglio veloce e pratico\, intende presentare una panoramica dei principali oneri gestionali della così detta “vita associativa”. Gli obiettivi dell’incontro sono: illustrare i vari aspetti della gestione della vita associativa; individuare i principali adempimenti in relazione a libri sociali e oneri gestionali; esaminare quali siano i ruoli\, le figure\, gli incarichi e le posizioni all’interno della governance dell’associazione; descrivere il funzionamento degli organi sociali all’interno dell’associazione; illustrare le corrette modalità di redazione e tenuta documenti amministrativi e libri verbali; illustrare aspetti gestionali dell’associazione alla luce del Codice del Terzo Settore (D.lgs 117/17). \n  \nContenuti  \nSi affronteranno i seguenti argomenti specifici: \n\norgani obbligatori e facoltativi;\nsoci e volontari;\nregolamenti gestionali;\nlibri sociali;\nverbali.\n\n  \nDocente \nElena D’Alessandro\, giurista esperta del diritto del Terzo settore\, impegnata attivamente dal 2002 in campi sociali e culturali; responsabile Ufficio Consulenze CSV di Verona. \n  \nMetodologia didattica \nLezione frontale molto pratica\, aperta agli interventi e calibrata sulle esigenze dei partecipanti. \n  \nDate e orari \nIl corso si svolgerà martedì 22 novembre 2022 ǀ 20.30 – 22.30 \n  \nSede  \nIl corso si svolgerà a Cerro Veronese in Via Tomelleri n. 4\, presso la scuola secondaria di primo grado. \n  \nDestinatari  \nÈ consigliabile che il corso sia frequentato dalla figura interna che segue gli aspetti gestionali dell’associazione: segretario\, presidente\, amministrativi\, volontari. \n  \nRegolamento per accedere alla formazione \nRegolamento completo \n  \nIscrizione obbligatoria entro il 21 novembre. \nEffettuando il login \nSi deve iscrivere al corso la persona che effettivamente parteciperà alla formazione. Non saranno ammesse persone che non figurano nel nostro registro. \n 
URL:https://csv.verona.it/event/formazione-scacco-matto-alla-burocrazia-mossa-2_22-11/
END:VEVENT
BEGIN:VEVENT
DTSTART;TZID=Europe/Rome:20221129T203000
DTEND;TZID=Europe/Rome:20221129T223000
DTSTAMP:20260423T143532
CREATED:20221010T121214Z
LAST-MODIFIED:20221010T132153Z
UID:11957-1669753800-1669761000@csv.verona.it
SUMMARY:FORMAZIONE  – Scacco matto alla burocrazia! Mossa 3
DESCRIPTION:Mosse vincenti per enti di volontariato\n  \n  \nMossa 3. Identifica le strategie per adempimenti gestionali\, sicurezza e privacy\n  \nObiettivi \nLa serata avrà un taglio molto pratico\, saranno commentate e fornite check list dei principali oneri gestionali e amministrativi per gli enti del Terzo settore. \nGli obiettivi dell’incontro saranno: riassumere e schematizzare i vari aspetti della gestione della vita associativa; individuare i principali adempimenti in relazione a oneri gestionali; portare alcuni cenni di adempimenti relativi a sicurezza\, privacy\, eventi e responsabilità; illustrare aspetti gestionali dell’associazione alla luce del Codice del Terzo Settore (D.lgs 117/17). \n  \nContenuti  \nSi affronteranno i seguenti argomenti specifici: \n\ngestione vita associativa in genere;\nadempimenti eventi;\nprivacy e sicurezza (cenni).\n\n  \nDocente \nElena D’Alessandro\, giurista esperta del diritto del Terzo settore\, impegnata attivamente dal 2002 in campi sociali e culturali; responsabile Ufficio Consulenze CSV di Verona. \n  \nMetodologia didattica \nLezione frontale molto pratica\, aperta agli interventi e calibrata sulle esigenze dei partecipanti. \n  \nDate e orari \nIl corso si svolgerà martedì 29 novembre 2022 ǀ 20.30 – 22.30 \n  \nSede  \nIl corso si svolgerà a Cerro Veronese in Via Tomelleri n. 4\, presso la scuola secondaria di primo grado. \n  \nDestinatari  \nÈ consigliabile che il corso sia frequentato dalla figura interna che segue gli aspetti gestionali dell’associazione: segretario\, presidente\, amministrativi\, volontari. \n  \nRegolamento per accedere alla formazione \nRegolamento completo \n  \nIscrizione obbligatoria entro il 28 novembre. \nEffettuando il login \nSi deve iscrivere al corso la persona che effettivamente parteciperà alla formazione. Non saranno ammesse persone che non figurano nel nostro registro. \n 
URL:https://csv.verona.it/event/formazione-scacco-matto-alla-burocrazia-mossa-3_29-11/
END:VEVENT
END:VCALENDAR