BEGIN:VCALENDAR
VERSION:2.0
PRODID:-//CSV - ECPv6.15.20//NONSGML v1.0//EN
CALSCALE:GREGORIAN
METHOD:PUBLISH
X-WR-CALNAME:CSV
X-ORIGINAL-URL:https://csv.verona.it
X-WR-CALDESC:Eventi per CSV
REFRESH-INTERVAL;VALUE=DURATION:PT1H
X-Robots-Tag:noindex
X-PUBLISHED-TTL:PT1H
BEGIN:VTIMEZONE
TZID:Europe/Rome
BEGIN:DAYLIGHT
TZOFFSETFROM:+0100
TZOFFSETTO:+0200
TZNAME:CEST
DTSTART:20210328T010000
END:DAYLIGHT
BEGIN:STANDARD
TZOFFSETFROM:+0200
TZOFFSETTO:+0100
TZNAME:CET
DTSTART:20211031T010000
END:STANDARD
BEGIN:DAYLIGHT
TZOFFSETFROM:+0100
TZOFFSETTO:+0200
TZNAME:CEST
DTSTART:20220327T010000
END:DAYLIGHT
BEGIN:STANDARD
TZOFFSETFROM:+0200
TZOFFSETTO:+0100
TZNAME:CET
DTSTART:20221030T010000
END:STANDARD
BEGIN:DAYLIGHT
TZOFFSETFROM:+0100
TZOFFSETTO:+0200
TZNAME:CEST
DTSTART:20230326T010000
END:DAYLIGHT
BEGIN:STANDARD
TZOFFSETFROM:+0200
TZOFFSETTO:+0100
TZNAME:CET
DTSTART:20231029T010000
END:STANDARD
END:VTIMEZONE
BEGIN:VEVENT
DTSTART;TZID=Europe/Rome:20220405T180000
DTEND;TZID=Europe/Rome:20220405T200000
DTSTAMP:20260424T024403
CREATED:20211214T133857Z
LAST-MODIFIED:20211214T133943Z
UID:10995-1649181600-1649188800@csv.verona.it
SUMMARY:FORMAZIONE  – Orientamento alle forme associative: che associazione siamo?
DESCRIPTION:Obiettivi \nIllustrare i diversi passaggi per costituire e fondare una associazione.\nEsaminare le diverse tipologie giuridiche di enti del Terzo settore (ETS).\nIndividuare quale forma sia la più adeguata alle esigenze sollevate dai partecipanti per le singole attività.\nIllustrare aspetti gestionali dell’associazione\, anche già costituita\, alla luce inoltre del Codice del Terzo Settore (D.lgs 117/17)\nFornire indicazioni sull’iscrizione nel Registro Unico Nazionale del Terzo settore (RUNTS). \n  \n Contenuti  \nIl corso si articola in una prima parte frontale dove vengono illustrati i passaggi formali e gli adempimenti per costituire una associazione\, per approfondire poi le diverse tipologie di enti del Terzo settore (ETS) esaminando caratteristiche ed evoluzione. Si vaglieranno i principali adempimenti gestionali associativi e quali attività si possano o meno svolgere\, e in che forme. La seconda parte dell’incontro è di confronto e risoluzione di dubbi e casi pratici relativi alle esigenze dei partecipanti\, cercando di individuare quale sia la forma di ente più funzionale al perseguimento dell’obiettivo e quali siano i passaggi formali da percorrere. \nL’incontro fornisce anche una rassegna dei principali aspetti del Codice del Terzo Settore (D.lgs 117/17) per fornire strumenti in prospettiva ai partecipanti. \n  \nDocente \nElena D’Alessandro\, giurista esperta del diritto del Terzo settore\, impegnata attivamente dal 2002 in campi sociali e culturali; responsabile Ufficio Consulenze CSV di Verona. \n  \nMetodologia didattica \nLezione frontale molto pratica\, aperta agli interventi e calibrata sulle esigenze dei partecipanti. \n  \n Date e orari \nMartedì 5 aprile 2022 ǀ 18.00 – 20.00 \n  \nSede  \nIl corso si svolgerà in presenza\, in zona Piazza Isolo con possibilità di parcheggio interno. L’indirizzo sarà comunicato agli iscritti al corso. Il corso si svolgerà in modalità webinar qualora le norme anti Covid\, in vigore in quel momento\, non permetteranno le lezioni in presenza; in questo caso sarà data tempestiva comunicazione agli iscritti. \n  \nDestinatari  \nVolontari\, aspiranti volontari\, rappresentanti degli enti del Terzo settore\, giovani e cittadinanza \n  \nQuota di partecipazione  \nIl corso non prevede la quota d’iscrizione. \n  \nRegolamento per accedere alla formazione \nRegolamento completo \n   \nIscrizioni \nSi deve iscrivere al corso la persona che effettivamente parteciperà alla formazione. \nEffettuando il login \n 
URL:https://csv.verona.it/event/formazione-orientamento-alle-forme-associative-associazione-05-04/
END:VEVENT
BEGIN:VEVENT
DTSTART;TZID=Europe/Rome:20220407T160000
DTEND;TZID=Europe/Rome:20220407T180000
DTSTAMP:20260424T024403
CREATED:20211221T092607Z
LAST-MODIFIED:20211221T114454Z
UID:11062-1649347200-1649354400@csv.verona.it
SUMMARY:FORMAZIONE  – Sicurezza sul lavoro nelle associazioni
DESCRIPTION:Sicuri di essere sicuri?\nPremessa \nPer l’anno 2021/2022 CSV ha proposto\, avvalendosi della consulenza di Studio Essepi SRL\, un percorso di formazione sulla cultura della sicurezza sul lavoro anche tra le associazioni di volontariato\, attraverso l’attivazione di uno “Sportello sul lavoro e sicurezza eventi”\, la realizzazione di un’apposita sezione del sito dedicata\, la pubblicazione di approfondimenti. \nIl corso in oggetto non riguarda la formazione obbligatoria ai sensi del D.Lgs 81/08\, bensì è una formazione specifica per acquisire coscienza sulla sicurezza nell’associazione e fornire strumenti utili per impostare l’attività associativa in sicurezza nell’operatività quotidiana. \n  \n Obiettivi \nIl corso intende presentare una panoramica dei principali adempimenti in tema di sicurezza per le associazioni e per i volontari. L’obiettivo principale è quello di formare una “cultura della sicurezza” anche tra le associazioni di volontariato\, che spesso sottovalutano questo aspetto\, rimanendo più concentrate sull’erogazione dell’attività che sulle modalità con cui l’attività viene svolta. La domanda provocatoria in apertura intende attirare l’attenzione sul vedere l’associazione “dall’esterno”\, valutando se nel complesso si è preoccupata\, a volte anche mettendo in atto piccoli gesti e azioni\, della sicurezza sia dei propri volontari\, utenti\, ospiti. \nGli obiettivi dell’incontro saranno dunque illustrare i principali adempimenti in tema di sicurezza sul lavoro che sono applicabili anche ad associazioni e volontari\, con alcuni cenni alla gestione di emergenze di primo soccorso e antincendio. \n  \nContenuti  \nSi affronteranno i seguenti argomenti specifici: \n\nconcetto e significato reale di sicurezza sul lavoro nelle associazioni;\nsicurezza per volontari e per personale retribuito;\nprincipali norme e adempimenti in tema di sicurezza sul lavoro;\nalcune soluzioni efficaci e sostenibili per agire in tema di sicurezza nell’associazione;\ncenni sulla gestione delle emergenze di primo soccorso e antincendio.\n\nL’incontro si pone in collegamento con un secondo che si terrà il 28 aprile e che declinerà i principali temi di sicurezza nelle associazioni a seconda delle varie tipologie di attività\, considerando inoltre l’uso di attrezzature che comportano rischi per la persona. Si consiglia la partecipazione ad entrambi. \n  \n Docente \nFormatore di Studio Essepi SRL\, esperto in tema di sicurezza anche nel volontariato. \n  \nMetodologia didattica \nLezione frontale molto pratica\, aperta agli interventi e calibrata sulle esigenze dei partecipanti. \n   \nDate e orari \nIl corso si svolge giovedì 7 aprile 2022 ǀ 16.00 – 18.00 \n  \nSede  \nLugagnano di Sona (VR) \n  \nDestinatari  \n20 volontari – Tipologia: è consigliabile che il corso sia frequentato dalla figura interna che segue gli aspetti gestionali dell’associazione\, segretario\, presidente\, amministrativo\, volontario. \n  \nContributo di partecipazione  \nODV 10 Euro a corsista (nell’area personale per l’iscrizione assicurarsi di essere collegati alla propria associazione\, diversamente la quota sarà di 20 euro); altre forme associative e singoli cittadini 20 Euro a corsista. \nIl pagamento della quota può essere effettuato: \n\nCon PayPal all’atto dell’iscrizione;\ntramite bonifico bancario a FEDERAZIONE DEL VOLONTARIATO DI VERONA – BANCO BPM SPA VERONA (ITALY)\, BIC BAPPIT21004\, IBAN IT76O0503411704000000051276\, indicando come causale nome + cognome + titolo corso abbreviato. Il pagamento deve essere effettuato entro il 3 aprile 2022 per permettere all’amministrazione del CSV la verifica contabile. \n\n  \n Regolamento per accedere alla formazione \nPrima ci si iscrive al corso e solo dopo l’iscrizione si effettua il saldo del contributo di partecipazione. \nRegolamento completo \n  \nIscrizione obbligatoria e pagamento entro il 3 aprile. \nSi deve iscrivere al corso la persona che effettivamente parteciperà alla formazione. Non saranno ammesse persone che non figurano nel nostro registro. \nEffettuando il login \n 
URL:https://csv.verona.it/event/formazione-sicurezza-sul-lavoro-nelle-associazioni-sicuri-sicuri/
END:VEVENT
BEGIN:VEVENT
DTSTART;TZID=Europe/Rome:20220419T180000
DTEND;TZID=Europe/Rome:20220419T200000
DTSTAMP:20260424T024403
CREATED:20211214T111758Z
LAST-MODIFIED:20220412T094712Z
UID:10979-1650391200-1650398400@csv.verona.it
SUMMARY:WEBINAR  – Registro Unico Nazionale del Terzo Settore (RUNTS) e Riforma del Terzo Settore
DESCRIPTION:Obiettivi \nCon l’entrata in vigore del Codice del Terzo Settore\, D.lgs 117/17\, si è dato avvio a quel processo di strutturazione della categoria di Enti del Terzo Settore (ETS) che vede dei passaggi progressivi di attuazione. Nel corso di questi anni molti enti hanno adeguato gli statuti\, come prescritto\, adeguandoli alla nuova normativa per la trasmigrazione nel Registro Unico Nazionale del Terzo Settore (RUNTS)\, altri enti hanno studiato attentamente le varie tipologie di ETS per capire\, una volta operativo il RUNTS\, come potervi accedere e in quale tipologia di ente del Terzo settore trasformarsi\, altri enti sono ancora in una fase di incertezza e di valutazione sulla trasformazione o meno in ETS. \nCon l’entrata in vigore del RUNTS\, lo scorso 23 novembre 2021\, si è concretizzato quel passaggio formale “spartiacque” che consente di conoscere nel dettaglio come funziona non solo l’iscrizione nel RUNTS\, anche potendo simulare una sorta di navigazione nello stesso\, ma anche la permanenza nel Registro\, con una analisi di adempimenti periodici e scadenze legate appunto al mantenimento dello status di ETS. \n  \nContenuti  \nSi affronteranno i seguenti argomenti: \n\nRiforma del Terzo Settore: passaggi e stato dell’arte;\nle differenti situazioni per le diverse tipologia di enti;\ncome iscriversi nel RUNTS e quali sono i passaggi operativi: simulazione ed esempi;\nadempimenti\, comunicazioni e revisione legati all’iscrizione nel RUNTS;\ncosa attendersi per i primi anni di operatività del RUNTS e le valutazioni da effettuare.\n\n  \nDocente \nElena D’Alessandro\, giurista esperta del diritto del Terzo settore\, impegnata attivamente dal 2002 in campi sociali e culturali; responsabile Ufficio Consulenze CSV di Verona. \n  \nMetodologia didattica \nLezione frontale molto pratica\, aperta agli interventi e calibrata sulle esigenze dei partecipanti. \n   \nDate e orari \nMartedì 19 aprile 2022 ǀ 18.00 – 20.00\n(l’incontro si ripete uguale ogni mese\, il/la partecipante sceglierà la data più congeniale) \n  \nSede  \nWebinar \n  \nDestinatari  \nVolontari e rappresentanti degli enti del Terzo settore \n  \n Quota di partecipazione  \nIl webinar non prevede la quota d’iscrizione. \n  \nRegolamento per accedere alla formazione \nRegolamento completo \n  \n Iscrizione obbligatoria entro il 17 aprile \nSi deve iscrivere al corso la persona che effettivamente parteciperà alla formazione. \nEffettuando il login – iscrizioni chiuse per posti disponibili raggiunti\, iscriviti al prossimo incontro 17 maggio \n  \n 
URL:https://csv.verona.it/event/webinar-registro-unico-nazionale-del-terzo-settore-runts-riforma-del-terzo-settore-19-4/
END:VEVENT
BEGIN:VEVENT
DTSTART;TZID=Europe/Rome:20220427T180000
DTEND;TZID=Europe/Rome:20220427T200000
DTSTAMP:20260424T024403
CREATED:20220329T153003Z
LAST-MODIFIED:20220405T150823Z
UID:11384-1651082400-1651089600@csv.verona.it
SUMMARY:WEBINAR  – SPID\, PEC e firma digitale: cosa sono\, a cosa servono
DESCRIPTION:Obiettivi e contenuti \nI servizi della pubblica amministrazione si stanno integrando fra loro e ci permettono di accedere con credenziali uniche. Attraverso uno standard definito e condiviso\, aziende ci offrono la possibilità di creare un’identità digitale con la possibilità di accedere a tutti i servizi pubblici\, senza dover creare miriadi di password. I partecipanti al webinar impareranno a distinguere SPID (sistema pubblico di identità digitale)\, firma digitale e marche temporali. Approfondiranno\, inoltre\, anche la tematica della PEC\, posta elettronica certificata\, come utilizzarla e quali provider esistono per attivarla. \nNota bene: il CSV di Verona non offrirà servizi per l’attivazione di SPID\, PEC e firma digitale degli enti di Terzo settore; l’incontro ha lo scopo di offrire una panoramica conoscitiva e i percorsi possibili per l’attivazione in autonomia. \n  \nDocente \nAntonio Faccioli\, formatore professionista nell’ambito delle tecnologie dell’informazione e della comunicazione. \n  \nMetodologia didattica \nLezione frontale molto pratica\, aperta agli interventi e calibrata sulle esigenze dei partecipanti. \n  \nDate e orari \nMercoledì 27 aprile 2022 ǀ 18.00 – 20.00 \n  \nSede  \nWebinar \n  \nDestinatari  \nVolontari e rappresentanti degli enti del Terzo settore \n  \nContributo di partecipazione  \nIl webinar non prevede la quota d’iscrizione. \n  \nRegolamento per accedere alla formazione \nRegolamento completo \n  \nIscrizione obbligatoria entro il 22 aprile \nSi deve iscrivere al corso la persona che effettivamente parteciperà alla formazione. \nEffettuando il login \n  \n 
URL:https://csv.verona.it/event/webinar-spid-pec-firma-digitale-cosa-cosa-servono/
END:VEVENT
BEGIN:VEVENT
DTSTART;TZID=Europe/Rome:20220428T160000
DTEND;TZID=Europe/Rome:20220428T180000
DTSTAMP:20260424T024403
CREATED:20211221T092856Z
LAST-MODIFIED:20211221T125510Z
UID:11064-1651161600-1651168800@csv.verona.it
SUMMARY:FORMAZIONE  – Sicurezza sul lavoro per le associazioni. I volontari nello svolgimento delle attività
DESCRIPTION:Sicuri di essere sicuri?\n  \nPremessa \nPer l’anno 2021/2022 CSV ha proposto\, avvalendosi della consulenza di Studio Essepi SRL\, un percorso di formazione sulla cultura della sicurezza sul lavoro anche tra le associazioni di volontariato\, attraverso l’attivazione di uno “Sportello sul lavoro e sicurezza eventi”\, la realizzazione di un’apposita sezione del sito dedicata\, la pubblicazione di approfondimenti. \nIl corso in oggetto non riguarda la formazione obbligatoria ai sensi del D.Lgs 81/08\, bensì è una formazione specifica per acquisire coscienza sulla sicurezza nell’associazione e fornire strumenti utili per impostare l’attività associativa in sicurezza nell’operatività quotidiana. \n   \nObiettivi \nIl corso intende presentare una panoramica dei principali adempimenti in tema di sicurezza per le associazioni e per i volontari\, calati nel proprio contesto operativo. L’incontro avrà un approccio molto pratico e laboratoriale\, tipizzerà la formazione in relazione ai partecipanti\, andando a individuare delle macro-categorie di attività ed elaborando delle soluzioni in tema di sicurezza per quel preciso tipo di attività. Verranno esaminati\, anche sulla base del confronto\, i principali rischi specifici e quali misure pratiche e sostenibili si possano attuare per rendere più sicura l’attività in questione. Si ragionerà sull’utilizzo di attrezzature\, mezzi e eventuali dispositivi di protezione individuale (DPI) legati alle attività (quali sono i principali pericoli da considerare\, come si usano in sicurezza\, come vanno mantenuti e quali scadenze controllare\, eccetera). \n  \nContenuti  \nSi affronteranno i seguenti argomenti specifici: \n\nconcetto e significato reale di sicurezza sul lavoro nelle associazioni;\nsicurezza per volontari e per personale retribuito;\ntipologia di attività specifica e possibili rischi;\nmisure di sicurezza pratiche e realizzabili per la specifica attività svolta;\nattrezzatture e dispositivi di protezione individuale (DPI) possibili in relazione alla specifica attività.\n\nL’incontro si pone in continuità con un primo già tenuto il 7 aprile e dedicato all’orientamento generale sul tema della sicurezza. Si consiglia la partecipazione ad entrambi. \n   \nDocente \nFormatore di Studio Essepi SRL\, esperto in tema di sicurezza anche nel volontariato. \n  \nMetodologia didattica \nLezione frontale molto pratica\, aperta agli interventi e calibrata sulle esigenze dei partecipanti. \n   \nDate e orari \nIl corso si svolge giovedì 28 aprile 2022 ǀ 16.00 – 18.00 \n  \nSede  \nLugagnano di Sona (VR) \n  \nDestinatari  \n20 volontari – Tipologia: è consigliabile che il corso sia frequentato dalla figura interna che segue gli aspetti gestionali dell’associazione\, segretario\, presidente\, amministrativo\, volontario. \n  \n Contributo di partecipazione  \nODV 10 Euro a corsista (nell’area personale per l’iscrizione assicurarsi di essere collegati alla propria associazione\, diversamente la quota sarà di 20 euro); altre forme associative e singoli cittadini 20 Euro a corsista. \nIl pagamento della quota può essere effettuato: \n\nCon PayPal all’atto dell’iscrizione;\ntramite bonifico bancario a FEDERAZIONE DEL VOLONTARIATO DI VERONA – BANCO BPM SPA VERONA (ITALY)\, BIC BAPPIT21004\, IBAN IT76O0503411704000000051276\, indicando come causale nome + cognome + titolo corso abbreviato. Il pagamento deve essere effettuato entro il 24 aprile 2022 per permettere all’amministrazione del CSV la verifica contabile.\n\n   \nRegolamento per accedere alla formazione \nPrima ci si iscrive al corso e solo dopo l’iscrizione si effettua il saldo del contributo di partecipazione. \nRegolamento completo \n   \nIscrizione obbligatoria e pagamento entro il 24 aprile. \nSi deve iscrivere al corso la persona che effettivamente parteciperà alla formazione. Non saranno ammesse persone che non figurano nel nostro registro. \nEffettuando il login \n 
URL:https://csv.verona.it/event/formazione-sicurezza-dei-volontari-nello-svolgimento-delle-attivita-sicuri-sicuri/
END:VEVENT
END:VCALENDAR