BEGIN:VCALENDAR
VERSION:2.0
PRODID:-//CSV - ECPv6.15.20//NONSGML v1.0//EN
CALSCALE:GREGORIAN
METHOD:PUBLISH
X-WR-CALNAME:CSV
X-ORIGINAL-URL:https://csv.verona.it
X-WR-CALDESC:Eventi per CSV
REFRESH-INTERVAL;VALUE=DURATION:PT1H
X-Robots-Tag:noindex
X-PUBLISHED-TTL:PT1H
BEGIN:VTIMEZONE
TZID:Europe/Rome
BEGIN:DAYLIGHT
TZOFFSETFROM:+0100
TZOFFSETTO:+0200
TZNAME:CEST
DTSTART:20210328T010000
END:DAYLIGHT
BEGIN:STANDARD
TZOFFSETFROM:+0200
TZOFFSETTO:+0100
TZNAME:CET
DTSTART:20211031T010000
END:STANDARD
BEGIN:DAYLIGHT
TZOFFSETFROM:+0100
TZOFFSETTO:+0200
TZNAME:CEST
DTSTART:20220327T010000
END:DAYLIGHT
BEGIN:STANDARD
TZOFFSETFROM:+0200
TZOFFSETTO:+0100
TZNAME:CET
DTSTART:20221030T010000
END:STANDARD
BEGIN:DAYLIGHT
TZOFFSETFROM:+0100
TZOFFSETTO:+0200
TZNAME:CEST
DTSTART:20230326T010000
END:DAYLIGHT
BEGIN:STANDARD
TZOFFSETFROM:+0200
TZOFFSETTO:+0100
TZNAME:CET
DTSTART:20231029T010000
END:STANDARD
END:VTIMEZONE
BEGIN:VEVENT
DTSTART;TZID=Europe/Rome:20220301T180000
DTEND;TZID=Europe/Rome:20220301T200000
DTSTAMP:20260424T055359
CREATED:20211214T134113Z
LAST-MODIFIED:20211214T134406Z
UID:10998-1646157600-1646164800@csv.verona.it
SUMMARY:FORMAZIONE  – Orientamento alle forme associative: che associazione siamo?
DESCRIPTION:Obiettivi \nIllustrare i diversi passaggi per costituire e fondare una associazione.\nEsaminare le diverse tipologie giuridiche di enti del Terzo settore (ETS).\nIndividuare quale forma sia la più adeguata alle esigenze sollevate dai partecipanti per le singole attività.\nIllustrare aspetti gestionali dell’associazione\, anche già costituita\, alla luce inoltre del Codice del Terzo Settore (D.lgs 117/17)\nFornire indicazioni sull’iscrizione nel Registro Unico Nazionale del Terzo settore (RUNTS). \n  \n Contenuti  \nIl corso si articola in una prima parte frontale dove vengono illustrati i passaggi formali e gli adempimenti per costituire una associazione\, per approfondire poi le diverse tipologie di enti del Terzo settore (ETS) esaminando caratteristiche ed evoluzione. Si vaglieranno i principali adempimenti gestionali associativi e quali attività si possano o meno svolgere\, e in che forme. La seconda parte dell’incontro è di confronto e risoluzione di dubbi e casi pratici relativi alle esigenze dei partecipanti\, cercando di individuare quale sia la forma di ente più funzionale al perseguimento dell’obiettivo e quali siano i passaggi formali da percorrere. \nL’incontro fornisce anche una rassegna dei principali aspetti del Codice del Terzo Settore (D.lgs 117/17) per fornire strumenti in prospettiva ai partecipanti. \n  \nDocente \nElena D’Alessandro\, giurista esperta del diritto del Terzo settore\, impegnata attivamente dal 2002 in campi sociali e culturali; responsabile Ufficio Consulenze CSV di Verona. \n  \nMetodologia didattica \nLezione frontale molto pratica\, aperta agli interventi e calibrata sulle esigenze dei partecipanti. \n  \n Date e orari \nMartedì 1 marzo 2022 ǀ 18.00 – 20.00 \n  \nSede  \nIl corso si svolgerà in presenza\, in zona Piazza Isolo con possibilità di parcheggio interno. L’indirizzo sarà comunicato agli iscritti al corso. Il corso si svolgerà in modalità webinar qualora le norme anti Covid\, in vigore in quel momento\, non permetteranno le lezioni in presenza; in questo caso sarà data tempestiva comunicazione agli iscritti. \n  \nDestinatari  \nVolontari\, aspiranti volontari\, rappresentanti degli enti del Terzo settore\, giovani e cittadinanza \n  \nQuota di partecipazione  \nIl corso non prevede la quota d’iscrizione. \n  \nRegolamento per accedere alla formazione \nRegolamento completo \n   \nIscrizioni \nSi deve iscrivere al corso la persona che effettivamente parteciperà alla formazione. \nEffettuando il login \n 
URL:https://csv.verona.it/event/formazione-orientamento-alle-forme-associative-associazione-01-03/
END:VEVENT
BEGIN:VEVENT
DTSTART;TZID=Europe/Rome:20220310T180000
DTEND;TZID=Europe/Rome:20220310T200000
DTSTAMP:20260424T055359
CREATED:20211221T090315Z
LAST-MODIFIED:20211221T115048Z
UID:11048-1646935200-1646942400@csv.verona.it
SUMMARY:FORMAZIONE  – Vita associativa: gestione e adempimenti
DESCRIPTION:Obiettivi \nIl corso intende presentare una panoramica dei principali oneri gestionali della così detta “vita associativa”. Si esamineranno i principali adempimenti gestionali associativi\, le attività che si possano o meno svolgere e in che forme. La serata avrà un taglio molto pratico\, saranno commentate e fornite check list dei principali oneri gestionali e amministrativi. \nGli obiettivi dell’incontro saranno: riassumere e schematizzare i vari aspetti della gestione della vita associativa; individuare i principali adempimenti in relazione a oneri gestionali; esaminare quali sono gli adempimenti relativi a sicurezza\, privacy\, eventi e responsabilità; illustrare aspetti gestionali dell’associazione alla luce del Codice del Terzo Settore (D.lgs 117/17). \n   \nContenuti  \nSi affronteranno i seguenti argomenti specifici: \n\ngestione vita associativa in genere;\nadempimenti eventi;\nprivacy (cenni);\nsicurezza volontari;\nsicurezza eventi;\nrapporti con gli enti pubblici e casi particolari.\n\nLa serata si pone in continuità con il primo incontro sulla vita associativa\, tenutosi in novembre 2021\, che ha approfondito i temi degli organi e libri sociali\, argomenti che comunque verranno rapidamente ripresi e riassunti\, mettendo a disposizione il materiale e la check list del primo incontro. \n  \n Docente \nElena D’Alessandro\, giurista esperta del diritto del Terzo settore\, impegnata attivamente dal 2002 in campi sociali e culturali; responsabile Ufficio Consulenze CSV di Verona. \n  \nMetodologia didattica \nLezione frontale molto pratica\, aperta agli interventi e calibrata sulle esigenze dei partecipanti. \n   \nDate e orari \nIl corso si svolge in due incontri: giovedì 10 e 17 marzo 2022 ǀ 18.00 – 20.00 \n  \nSede  \nIl corso si svolgerà in presenza\, in zona Piazza Isolo con possibilità di parcheggio interno. L’indirizzo sarà comunicato agli iscritti al corso. La formazione si svolgerà in modalità webinar qualora le norme anti Covid\, in vigore in quel momento\, non permetteranno le lezioni in presenza; in questo caso sarà data tempestiva comunicazione agli iscritti. \n  \nDestinatari  \n25 volontari – Tipologia: è consigliabile che il corso sia frequentato dalla figura interna che segue gli aspetti gestionali dell’associazione\, segretario\, presidente\, amministrativi\, volontari. \n  \nContributo di partecipazione  \nODV 20 Euro a corsista (nell’area personale per l’iscrizione assicurarsi di essere collegati alla propria associazione\, diversamente la quota sarà di 40 euro); altre forme associative e singoli cittadini 40 Euro a corsista. \nIl pagamento della quota può essere effettuato: \n\nCon PayPal all’atto dell’iscrizione;\ntramite bonifico bancario a FEDERAZIONE DEL VOLONTARIATO DI VERONA – BANCO BPM SPA VERONA (ITALY)\, BIC BAPPIT21004\, IBAN IT76O0503411704000000051276\, indicando come causale nome + cognome + titolo corso abbreviato. Il pagamento deve essere effettuato entro il 6 marzo per permettere all’amministrazione del CSV la verifica contabile.\n\n  \n Regolamento per accedere alla formazione \nPrima ci si iscrive al corso e solo dopo l’iscrizione si effettua il saldo del contributo di partecipazione. \nRegolamento completo \n  \n Iscrizione obbligatoria e pagamento entro il 6 marzo. \nSi deve iscrivere al corso la persona che effettivamente parteciperà alla formazione. Non saranno ammesse persone che non figurano nel nostro registro. \nEffettuando il login \n  \n 
URL:https://csv.verona.it/event/formazione-vita-associativa-gestione-adempimenti-2/
END:VEVENT
BEGIN:VEVENT
DTSTART;TZID=Europe/Rome:20220315T180000
DTEND;TZID=Europe/Rome:20220315T200000
DTSTAMP:20260424T055359
CREATED:20211214T111533Z
LAST-MODIFIED:20220303T150436Z
UID:10977-1647367200-1647374400@csv.verona.it
SUMMARY:WEBINAR  – Registro Unico Nazionale del Terzo Settore (RUNTS) e Riforma del Terzo Settore
DESCRIPTION:Obiettivi \nCon l’entrata in vigore del Codice del Terzo Settore\, D.lgs 117/17\, si è dato avvio a quel processo di strutturazione della categoria di Enti del Terzo Settore (ETS) che vede dei passaggi progressivi di attuazione. Nel corso di questi anni molti enti hanno adeguato gli statuti\, come prescritto\, adeguandoli alla nuova normativa per la trasmigrazione nel Registro Unico Nazionale del Terzo Settore (RUNTS)\, altri enti hanno studiato attentamente le varie tipologie di ETS per capire\, una volta operativo il RUNTS\, come potervi accedere e in quale tipologia di ente del Terzo settore trasformarsi\, altri enti sono ancora in una fase di incertezza e di valutazione sulla trasformazione o meno in ETS. \nCon l’entrata in vigore del RUNTS\, lo scorso 23 novembre 2021\, si è concretizzato quel passaggio formale “spartiacque” che consente di conoscere nel dettaglio come funziona non solo l’iscrizione nel RUNTS\, anche potendo simulare una sorta di navigazione nello stesso\, ma anche la permanenza nel Registro\, con una analisi di adempimenti periodici e scadenze legate appunto al mantenimento dello status di ETS. \n  \nContenuti  \nSi affronteranno i seguenti argomenti: \n\nRiforma del Terzo Settore: passaggi e stato dell’arte;\nle differenti situazioni per le diverse tipologia di enti;\ncome iscriversi nel RUNTS e quali sono i passaggi operativi: simulazione ed esempi;\nadempimenti\, comunicazioni e revisione legati all’iscrizione nel RUNTS;\ncosa attendersi per i primi anni di operatività del RUNTS e le valutazioni da effettuare.\n\n  \nDocente \nElena D’Alessandro\, giurista esperta del diritto del Terzo settore\, impegnata attivamente dal 2002 in campi sociali e culturali; responsabile Ufficio Consulenze CSV di Verona. \n  \nMetodologia didattica \nLezione frontale molto pratica\, aperta agli interventi e calibrata sulle esigenze dei partecipanti. \n   \nDate e orari \nMartedì 15 marzo 2022 ǀ 18.00 – 20.00\n(l’incontro si ripete uguale ogni mese\, il/la partecipante sceglierà la data più congeniale) \n  \nSede  \nWebinar \n  \nDestinatari  \nVolontari e rappresentanti degli enti del Terzo settore \n  \n Quota di partecipazione  \nIl webinar non prevede la quota d’iscrizione. \n  \nRegolamento per accedere alla formazione \nRegolamento completo \n  \n Iscrizione obbligatoria entro il 13 marzo \nSi deve iscrivere al corso la persona che effettivamente parteciperà alla formazione. \nEffettuando il login – iscrizioni chiuse per posti disponibili raggiunti\, iscriviti al prossimo incontro 19 aprile \n  \n 
URL:https://csv.verona.it/event/webinar-registro-unico-nazionale-del-terzo-settore-runts-riforma-del-terzo-settore-15-03/
END:VEVENT
BEGIN:VEVENT
DTSTART;TZID=Europe/Rome:20220331T180000
DTEND;TZID=Europe/Rome:20220331T200000
DTSTAMP:20260424T055359
CREATED:20211221T092208Z
LAST-MODIFIED:20211221T113552Z
UID:11060-1648749600-1648756800@csv.verona.it
SUMMARY:WEBINAR  – Come funziona il 5X1000
DESCRIPTION:Obiettivi \nL’incontro intende fornire un’analisi completa del meccanismo del 5X1000 alle associazioni di volontariato\, esaminandone natura\, modalità di accreditamento e obblighi a esso legati. Il contributo ha subito diversi interventi normativi e trasformazioni fino ad arrivare\, negli ultimi anni\, a una delineazione chiara: dal 2017 il 5X1000 è diventato meccanismo “fisso”\, non più legato alla Legge di Bilancio\, sono stati fissati termini e adempimenti\, sono stati pubblicati gli elenchi permanenti per evitare l’accreditamento di anno in anno. Il corso\, attraverso un rapido excursus sulla natura del 5X1000\, fornisce informazioni chiare sulla procedura per accreditarsi\, sugli adempimenti e sulla tempistica\, esaminando l’importante capitolo della rendicontazione alla luce della riforma del Dlgs 111/17 e delle indicazioni contenute nelle Linee guida del Ministero del Lavoro e Politiche Sociali del Decreto n. 488/2021\, ai sensi del DPCM 23 luglio 2020. \nIl meccanismo tributario verrà anche esaminato da un punto di vista non solo procedurale\, ma anche di raccolta fondi. Si tratterà infatti\, nella seconda parte del corso\, di individuare i donatori\, come programmare la promozione e sensibilizzazione alla scelta del 5X1000\, come utilizzare i fondi ricevuti\, come comunicare nell’ottica di aumentare la raccolta fondi. \n   \nContenuti  \nSi affronteranno i seguenti argomenti: \n\nIl meccanismo del 5X1000 e la sua importanza all’interno del sistema del privato sociale e del volontariato;\ni requisiti e le qualifiche necessarie per poter ricevere il contributo;\nle scadenze e i passaggi formali di accreditamento e ricezione del 5X1000;\nl’obbligo della rendicontazione;\nle novità e i cambiamenti introdotti con le Linee guida del Ministero del Lavoro e Politiche Sociali del Decreto n. 488/2021 e Dpcm 23 lug. 2020;\nla campagna per il 5X1000;\nle potenzialità e la promozione di questo contributo.\n\n  \n Docente \nElena D’Alessandro\, giurista esperta del diritto del Terzo settore\, impegnata attivamente dal 2002 in campi sociali e culturali; responsabile Ufficio Consulenze CSV di Verona. \nLaura Zecchin\, fundraiser impegnata in piccole e medie organizzazioni; consulente Sportello Fundraising CSV di Verona. \n  \nMetodologia didattica \nLezione frontale molto pratica\, aperta agli interventi e calibrata sulle esigenze dei partecipanti. \n  \n Date e orari \nGiovedì 31 marzo 2022 ǀ 18.00 – 20.00 \n  \nSede  \nWebinar \n  \nDestinatari  \n25 volontari – Tipologia: presidente\, membri del direttivo\, segretario\, amministrativi\, volontari. \n  \nContributo di partecipazione  \nODV 10 Euro a corsista (nell’area personale per l’iscrizione assicurarsi di essere collegati alla propria associazione\, diversamente la quota sarà di 20 Euro); altre forme associative e singoli cittadini 20 Euro a corsista. \nIl pagamento della quota può essere effettuato: \n\nCon PayPal all’atto dell’iscrizione;\ntramite bonifico bancario a FEDERAZIONE DEL VOLONTARIATO DI VERONA – BANCO BPM SPA VERONA (ITALY)\, BIC BAPPIT21004\, IBAN IT76O0503411704000000051276\, indicando come causale nome + cognome + titolo corso abbreviato. Il pagamento deve essere effettuato entro il 27 marzo 2022 per permettere all’amministrazione del CSV la verifica contabile e il successivo invio del link per la partecipazione al webinar. Il link sarà inviato il giorno prima o la mattina stessa del giorno del corso.\n\n   \nRegolamento per accedere alla formazione \nPrima ci si iscrive al corso e solo dopo l’iscrizione si effettua il saldo del contributo di partecipazione. \nRegolamento completo \n  \n Iscrizione obbligatoria e pagamento entro il 27 marzo \nSi deve iscrivere al corso la persona che effettivamente parteciperà alla formazione. Non saranno ammesse persone che non figurano nel nostro registro. \nEffettuando il login \n  \n  \n 
URL:https://csv.verona.it/event/webinar-funziona-5x1000-2/
END:VEVENT
END:VCALENDAR