BEGIN:VCALENDAR
VERSION:2.0
PRODID:-//CSV - ECPv6.15.20//NONSGML v1.0//EN
CALSCALE:GREGORIAN
METHOD:PUBLISH
X-WR-CALNAME:CSV
X-ORIGINAL-URL:https://csv.verona.it
X-WR-CALDESC:Eventi per CSV
REFRESH-INTERVAL;VALUE=DURATION:PT1H
X-Robots-Tag:noindex
X-PUBLISHED-TTL:PT1H
BEGIN:VTIMEZONE
TZID:Europe/Rome
BEGIN:DAYLIGHT
TZOFFSETFROM:+0100
TZOFFSETTO:+0200
TZNAME:CEST
DTSTART:20210328T010000
END:DAYLIGHT
BEGIN:STANDARD
TZOFFSETFROM:+0200
TZOFFSETTO:+0100
TZNAME:CET
DTSTART:20211031T010000
END:STANDARD
BEGIN:DAYLIGHT
TZOFFSETFROM:+0100
TZOFFSETTO:+0200
TZNAME:CEST
DTSTART:20220327T010000
END:DAYLIGHT
BEGIN:STANDARD
TZOFFSETFROM:+0200
TZOFFSETTO:+0100
TZNAME:CET
DTSTART:20221030T010000
END:STANDARD
BEGIN:DAYLIGHT
TZOFFSETFROM:+0100
TZOFFSETTO:+0200
TZNAME:CEST
DTSTART:20230326T010000
END:DAYLIGHT
BEGIN:STANDARD
TZOFFSETFROM:+0200
TZOFFSETTO:+0100
TZNAME:CET
DTSTART:20231029T010000
END:STANDARD
END:VTIMEZONE
BEGIN:VEVENT
DTSTART;TZID=Europe/Rome:20220201T180000
DTEND;TZID=Europe/Rome:20220201T200000
DTSTAMP:20260424T055359
CREATED:20211214T132641Z
LAST-MODIFIED:20220110T113116Z
UID:10991-1643738400-1643745600@csv.verona.it
SUMMARY:WEBINAR – Orientamento alle forme associative: che associazione siamo?
DESCRIPTION:Obiettivi \nIllustrare i diversi passaggi per costituire e fondare una associazione.\nEsaminare le diverse tipologie giuridiche di enti del Terzo settore (ETS).\nIndividuare quale forma sia la più adeguata alle esigenze sollevate dai partecipanti per le singole attività.\nIllustrare aspetti gestionali dell’associazione\, anche già costituita\, alla luce inoltre del Codice del Terzo Settore (D.lgs 117/17)\nFornire indicazioni sull’iscrizione nel Registro Unico Nazionale del Terzo settore (RUNTS). \n  \n Contenuti  \nIl corso si articola in una prima parte frontale dove vengono illustrati i passaggi formali e gli adempimenti per costituire una associazione\, per approfondire poi le diverse tipologie di enti del Terzo settore (ETS) esaminando caratteristiche ed evoluzione. Si vaglieranno i principali adempimenti gestionali associativi e quali attività si possano o meno svolgere\, e in che forme. La seconda parte dell’incontro è di confronto e risoluzione di dubbi e casi pratici relativi alle esigenze dei partecipanti\, cercando di individuare quale sia la forma di ente più funzionale al perseguimento dell’obiettivo e quali siano i passaggi formali da percorrere. \nL’incontro fornisce anche una rassegna dei principali aspetti del Codice del Terzo Settore (D.lgs 117/17) per fornire strumenti in prospettiva ai partecipanti. \n  \nDocente \nElena D’Alessandro\, giurista esperta del diritto del Terzo settore\, impegnata attivamente dal 2002 in campi sociali e culturali; responsabile Ufficio Consulenze CSV di Verona. \n  \nMetodologia didattica \nLezione frontale molto pratica\, aperta agli interventi e calibrata sulle esigenze dei partecipanti. \n  \n Date e orari \nMartedì 1 febbraio 2022 ǀ 18.00 – 20.00 \n  \nSede  \nWebinar \n  \nDestinatari  \nVolontari\, aspiranti volontari\, rappresentanti degli enti del Terzo settore\, giovani e cittadinanza \n  \nQuota di partecipazione  \nIl corso non prevede la quota d’iscrizione. \n  \nRegolamento per accedere alla formazione \nRegolamento completo \n   \nIscrizioni \nSi deve iscrivere al corso la persona che effettivamente parteciperà alla formazione. \nEffettuando il login
URL:https://csv.verona.it/event/formazione-orientamento-alle-forme-associative-associazione-01-02/
END:VEVENT
BEGIN:VEVENT
DTSTART;TZID=Europe/Rome:20220203T180000
DTEND;TZID=Europe/Rome:20220203T190000
DTSTAMP:20260424T055359
CREATED:20211221T085933Z
LAST-MODIFIED:20220126T090425Z
UID:11046-1643911200-1643914800@csv.verona.it
SUMMARY:WEBINAR  – SPID e firma digitale: cosa sono\, a cosa servono
DESCRIPTION:Obiettivi e contenuti \nI servizi della pubblica amministrazione si stanno integrando fra loro e ci permettono di accedere con credenziali uniche. Attraverso uno standard definito e condiviso\, aziende ci offrono la possibilità di creare un’identità digitale che con la possibilità di accedere a tutti i servizi pubblici\, senza dover creare miriadi di password.\nI partecipanti al webinar impareranno a distinguere SPID (sistema pubblico di identità digitale)\, firma digitale e marche temporali. Apprenderanno ad utilizzare lo SPID per entrare nei portali della pubblica amministrazione e firmare documenti. \nNota bene: il CSV di Verona non offrirà servizi per l’attivazione di SPID e firma digitale degli enti; l’incontro ha lo scopo di offrire una panoramica conoscitiva sui due argomenti e percorsi possibili per l’attivazione in autonomia. \n  \n Docente \nAntonio Faccioli\, formatore professionista nell’ambito delle tecnologie dell’informazione e della comunicazione. \n  \nMetodologia didattica \nLezione frontale molto pratica\, aperta agli interventi e calibrata sulle esigenze dei partecipanti. \n   \nDate e orari \nGiovedì 3 febbraio 2022 ǀ 18.00 – 19.00 \n  \nSede  \nWebinar \n  \nDestinatari  \nVolontari e rappresentanti degli enti del Terzo settore \n   \nContributo di partecipazione  \nIl webinar non prevede la quota d’iscrizione. \n  \nRegolamento per accedere alla formazione \nRegolamento completo \n  \n Iscrizione obbligatoria entro l’1 febbraio \nSi deve iscrivere al corso la persona che effettivamente parteciperà alla formazione. \nEffettuando il login – Alla data 26/01/2022 iscrizioni chiuse per posti disponibili raggiunti. \n 
URL:https://csv.verona.it/event/webinar-spid-firma-digitale-cosa-cosa-servono/
END:VEVENT
BEGIN:VEVENT
DTSTART;TZID=Europe/Rome:20220209T160000
DTEND;TZID=Europe/Rome:20220209T180000
DTSTAMP:20260424T055359
CREATED:20220131T104730Z
LAST-MODIFIED:20220131T104730Z
UID:11180-1644422400-1644429600@csv.verona.it
SUMMARY:INCONTRO - Bando “Con i bambini” per spazi aggregativi di prossimità
DESCRIPTION:L’Impresa Sociale “Con i Bambini”\, nell’ambito del Fondo per il contrasto della povertà educativa minorile\, ha pubblicato un nuovo bando per la creazione o il potenziamento di “spazi aggregativi di prossimità” per i minori tra i 10 e i 17 anni. \nL’obiettivo è offrire opportunità formative e socializzanti\, anche in un’ottica di prevenzione del disagio giovanile\, promuovendo il protagonismo e la partecipazione attiva dei ragazzi e delle ragazze\, lo scambio tra pari e il coinvolgimento della “comunità educante”. \nIl bando scade venerdì 18 marzo 2022 (ore 13.00) e mette a disposizione complessivamente 20 milioni di Euro\, di cui poco meno di 8 milioni per l’area territoriale comprendente il Veneto. \nLe proposte dovranno essere presentate da partenariati composti da un minimo di 3 organizzazioni\, di cui almeno 2 di Terzo settore e il Comune (o la Circoscrizione nel caso di Verona città) in cui verrà realizzato il progetto. Potranno\, inoltre\, far parte del partenariato il mondo delle istituzioni e dei sistemi regionali di istruzione e formazione. È necessario avere la disponibilità di un bene immobile per lo spazio di aggregazione (da creare o da potenziare) per almeno 10 anni. \nIl contributo minimo richiedibile è di € 250.000\,00\, il contributo massimo è di euro 1 milione\, il cofinanziamento minimo è del 10%. Il progetto dovrà durare un minimo di 36 mesi e un massimo di 48 mesi. \nOgni organizzazione potrà presentare una sola proposta\, in qualità di soggetto responsabile\, o prendere parte a una sola proposta in qualità di partner. Fanno eccezione unicamente le amministrazioni locali e territoriali (comuni\, regioni\, ASL\, ecc.)\, le università e i centri di ricerca che possono partecipare\, in qualità di partner\, a più proposte. \nMaggiori informazioni\, bando integrale\, formulario\, FAQ si possono consultare nel sito conibambini.org \nGli enti di Terzo settore impegnati su questi temi possono inoltre partecipare a un incontro informativo on-line promosso dal CSV di Verona\, ad aprirlo Marta Cenzi\, responsabile area attività istituzionali\, Fondazione Cariverona. Si terrà mercoledì 9 febbraio ore 16\, sarà utile per scoprire qualcosa in più sul bando\, comprendere i requisiti e come funziona\, scambiare qualche idea progettuale. \nLink di accesso alla riunione in Zoom: vai alla riunione mercoledì 9 febbraio ore 16. \n  \nPer informazioni \nCSV di Verona\nSegreteria – Daria Rossi info@csv.verona.it \n 
URL:https://csv.verona.it/event/incontro-bando-bambini-spazi-aggregativi-prossimita/
END:VEVENT
BEGIN:VEVENT
DTSTART;TZID=Europe/Rome:20220209T180000
DTEND;TZID=Europe/Rome:20220209T200000
DTSTAMP:20260424T055359
CREATED:20220124T095913Z
LAST-MODIFIED:20220126T111616Z
UID:11149-1644429600-1644436800@csv.verona.it
SUMMARY:FORMAZIONE  – Volontari cercasi
DESCRIPTION:Obiettivi \nQuesto percorso formativo permette l’accesso a una serie di servizi gratuiti finalizzati al reperimento di volontari per la propria associazione o ente del Terzo settore a Verona e provincia.\nPartecipando agli incontri sarà possibile per l’associazione pubblicare uno o più profili ricercati nella piattaforma www.veronavolontariato.it in questa pagina\, consultata da cittadini che cercano opportunità per diventare volontari.\nOltre a questa visibilità\, tutte le proposte raccolte con questa modalità usufruiranno di un servizio di promozione a cura del CSV di Verona.\nPer procedere con questa iniziativa\, i partecipanti verranno accompagnati nella redazione della propria/e richiesta/e volontari e riceveranno utili suggerimenti e nozioni. Saranno inoltre aiutati a valutare le migliori modalità per accogliere e motivare i nuovi volontari che arriveranno. \nLa composizione della richiesta attraverso l’apposita scheda e le azioni di comunicazione che ne seguiranno\, saranno parte di un percorso volto alla capacitazione delle associazioni.   \n  \nContenuti  \n\nNel primo incontro\, “Profilatura nella ricerca dei volontari”\, parte prima\, mercoledì 9 febbraio\, in presenza 18-20 (zona piazza Isolo) della durata di 2 ore\, si riceveranno informazioni utili per il reperimento di un volontario\, come sceglierlo e definire un profilo di ricerca. Verranno date indicazioni per la compilazione di un’apposita scheda di ricerca\, che verrà consegnata al momento dell’iscrizione per consentire ai partecipanti già una prima riflessione e condivisione con la propria associazione\, prima del corso. La scheda andrà infatti compilata insieme ai membri della propria organizzazione\, in modo che sia una scelta condivisa. Si compileranno tante schede quanti sono i differenti profili desiderati. Docente: Cristiano Pravadelli in collaborazioni con Silvia Sartori.\nNel secondo incontro\, “Profilatura nella ricerca dei volontari”\, parte seconda\, mercoledì 23 febbraio\, online 17 -19 (2 ore)\, si revisionano insieme le schede compilate dalle associazioni (complete in ogni campo)\, per consentire alle associazioni stesse l’accesso alla pubblicazione online su portale\, tramite apposita area riservata. Docente: Cristiano Pravadelli in collaborazioni con Silvia Sartori.\n\nAttraverso questi due incontri le associazioni scopriranno che la scheda di ricerca\, oltre ad avere la funzione di cercare volontari\, parla dell’associazione che l’ha redatta e della sua capacità di accogliere. È un modo per promuoversi\, ma anche mettersi nei panni delle persone che vogliamo avvicinare e attrarre\, essere più vicini per essere più coinvolgenti. \n\nNel terzo incontro\, “Riunione operativa”\, mercoledì 16 marzo\, online 17 -19 (2 ore)\, le nuove associazioni aderenti avranno modo di entrare effettivamente nel gruppo delle associazioni coinvolte: dopo a un’introduzione sulla campagna Cercasi Umani\, verranno indicate le imminenti azioni per la comunicazione che verranno attivate dal CSV\, quelle a cura delle associazioni iscritte\, i relativi tempi e materiali a disposizione. A cura di Maria Angela Giacopuzzi con Anna Zanolli.\nQuarto e ultimo incontro\, “Il volontario non si applica! Come passare dalla fase attrattiva alla permanenza”\, mercoledì 6 aprile\, in presenza 18-20 (zona piazza Isolo) della durata di 2 ore\, sarà una formazione utile per capire come accogliere e motivare i nuovi volontari che arriveranno nell’organizzazione\, con qualche trucco per non farseli scappare.\n\n  \nDocente \nCristiano Pravadelli\, psicologo\, formatore e coach certificato in process communication model (PCM)\nSilvia Sartori\, si occupa di volontariato e Terzo settore da 15 anni. Lavora come consulente per aziende ed enti del Terzo settore sui temi della responsabilità sociale e di impresa\, del bilancio sociale\, della progettazione\, della misurazione dell’impatto.\nMaria Angela Giacopuzzi\, responsabile Comunicazione CSV Verona\nAnna Zanolli\, Ufficio comunicazione CSV Verona \n  \nMetodologia didattica \nLezioni frontali molto laboratoriali\, che richiedono la preparazione di un primo elaborato “da casa” su scheda guida e successivo caricamento online. È indispensabile una frequenza attiva e partecipativa costante. L’incontro è aperto a interventi e confronti. \n  \nDate e orari \nDa febbraio ad aprile 2022\, si veda la voce “Contenuti”. \n  \nSede  \nNegli incontri indicati ci si troverà in presenza\, secondo le indicazioni anti Covid in vigore al momento\, in zona piazza Isolo con possibilità di parcheggio interno. L’indirizzo sarà comunicato agli iscritti al corso.\nDove indicato online\, i corsisti riceveranno link per collegarsi da remoto. \n  \nDestinatari  \n10 associazioni o enti del Terzo settore. Possono partecipare anche più persone per la stessa\, che consegneranno un elaborato comune e condiviso. \n  \nQuota di partecipazione  \nIl percorso non prevede quota di iscrizione. \n  \nRegolamento per accedere alla formazione \nRegolamento completo \n  \nNota \nIMPORTANTE – Le informazioni riportate nella call per questa iniziativa costituiscono parte integrante di questa scheda informativa. È indispensabile che chi si iscrive consideri di partecipare a tutti i quattro incontri previsti. È richiesto il possesso di un sito internet dell’associazione e di social. \n  \nIscrizione obbligatoria entro 1 febbraio \nEffettuando il login In data 26/01/2022 sono stati esauriti i posti disponibili. \n 
URL:https://csv.verona.it/event/formazione-volontari-cercasi-2/
END:VEVENT
BEGIN:VEVENT
DTSTART;TZID=Europe/Rome:20220210T180000
DTEND;TZID=Europe/Rome:20220210T190000
DTSTAMP:20260424T055359
CREATED:20211221T090656Z
LAST-MODIFIED:20211221T114047Z
UID:11050-1644516000-1644519600@csv.verona.it
SUMMARY:WEBINAR  – PEC\, le raccomandate digitali
DESCRIPTION:Obiettivi e contenuti \nPossiamo inviare dei documenti firmati digitalmente e avere una ricevuta valida di invio? Le mail possono avere un valore legale e di evidenza come le raccomandate?\nI partecipanti al webinar approfondiranno la tematica della PEC\, posta elettronica certificata\, come utilizzarla e quali provider esistono per attivarla.\nNota bene: il CSV di Verona non offrirà servizi per l’attivazione della PEC degli enti; l’incontro ha lo scopo di offrire una panoramica conoscitiva sull’argomento e sui possibili provider per ottenerla. \n  \nDocente \nAntonio Faccioli\, formatore professionista nell’ambito delle tecnologie dell’informazione e della comunicazione. \n  \nMetodologia didattica \nLezione frontale molto pratica\, aperta agli interventi e calibrata sulle esigenze dei partecipanti. \n  \nDate e orari \nGiovedì 10 febbraio 2022 ǀ 18.00 – 19.00 \n  \nSede  \nWebinar \n  \nDestinatari  \nVolontari e rappresentanti degli enti del Terzo settore \n  \nContributo di partecipazione  \nIl webinar non prevede la quota d’iscrizione \n  \nRegolamento per accedere alla formazione \nRegolamento completo \n  \nIscrizione obbligatoria entro 8 febbraio \nSi deve iscrivere al corso la persona che effettivamente parteciperà alla formazione. \nEffettuando il login \n 
URL:https://csv.verona.it/event/webinar-pec-le-raccomandate-digitali/
END:VEVENT
BEGIN:VEVENT
DTSTART;TZID=Europe/Rome:20220215T150000
DTEND;TZID=Europe/Rome:20220215T160000
DTSTAMP:20260424T055359
CREATED:20220201T105329Z
LAST-MODIFIED:20220201T105329Z
UID:11184-1644937200-1644940800@csv.verona.it
SUMMARY:WEBINAR  – SPID e firma digitale: cosa sono\, a cosa servono
DESCRIPTION:Obiettivi e contenuti \nI servizi della pubblica amministrazione si stanno integrando fra loro e ci permettono di accedere con credenziali uniche. Attraverso uno standard definito e condiviso\, aziende ci offrono la possibilità di creare un’identità digitale che con la possibilità di accedere a tutti i servizi pubblici\, senza dover creare miriadi di password.\nI partecipanti al webinar impareranno a distinguere SPID (sistema pubblico di identità digitale)\, firma digitale e marche temporali. Apprenderanno ad utilizzare lo SPID per entrare nei portali della pubblica amministrazione e firmare documenti. \nNota bene: il CSV di Verona non offrirà servizi per l’attivazione di SPID e firma digitale degli enti; l’incontro ha lo scopo di offrire una panoramica conoscitiva sui due argomenti e percorsi possibili per l’attivazione in autonomia. \n  \n Docente \nAntonio Faccioli\, formatore professionista nell’ambito delle tecnologie dell’informazione e della comunicazione. \n  \nMetodologia didattica \nLezione frontale molto pratica\, aperta agli interventi e calibrata sulle esigenze dei partecipanti. \n   \nDate e orari \nMartedì 15 febbraio 2022 ǀ 15.00 – 16.00 \n  \nSede  \nWebinar \n  \nDestinatari  \nVolontari e rappresentanti degli enti del Terzo settore \n   \nContributo di partecipazione  \nIl webinar non prevede la quota d’iscrizione. \n  \nRegolamento per accedere alla formazione \nRegolamento completo \n  \n Iscrizione obbligatoria entro il 13 febbraio \nSi deve iscrivere al corso la persona che effettivamente parteciperà alla formazione. \nEffettuando il login  \n 
URL:https://csv.verona.it/event/webinar-spid-firma-digitale-cosa-cosa-servono-2/
END:VEVENT
BEGIN:VEVENT
DTSTART;TZID=Europe/Rome:20220215T180000
DTEND;TZID=Europe/Rome:20220215T200000
DTSTAMP:20260424T055359
CREATED:20211214T111243Z
LAST-MODIFIED:20220207T081505Z
UID:10975-1644948000-1644955200@csv.verona.it
SUMMARY:WEBINAR  – Registro Unico Nazionale del Terzo Settore (RUNTS) e Riforma del Terzo Settore
DESCRIPTION:Obiettivi \nCon l’entrata in vigore del Codice del Terzo Settore\, D.lgs 117/17\, si è dato avvio a quel processo di strutturazione della categoria di Enti del Terzo Settore (ETS) che vede dei passaggi progressivi di attuazione. Nel corso di questi anni molti enti hanno adeguato gli statuti\, come prescritto\, adeguandoli alla nuova normativa per la trasmigrazione nel Registro Unico Nazionale del Terzo Settore (RUNTS)\, altri enti hanno studiato attentamente le varie tipologie di ETS per capire\, una volta operativo il RUNTS\, come potervi accedere e in quale tipologia di ente del Terzo settore trasformarsi\, altri enti sono ancora in una fase di incertezza e di valutazione sulla trasformazione o meno in ETS. \nCon l’entrata in vigore del RUNTS\, lo scorso 23 novembre 2021\, si è concretizzato quel passaggio formale “spartiacque” che consente di conoscere nel dettaglio come funziona non solo l’iscrizione nel RUNTS\, anche potendo simulare una sorta di navigazione nello stesso\, ma anche la permanenza nel Registro\, con una analisi di adempimenti periodici e scadenze legate appunto al mantenimento dello status di ETS. \n  \nContenuti  \nSi affronteranno i seguenti argomenti: \n\nRiforma del Terzo Settore: passaggi e stato dell’arte;\nle differenti situazioni per le diverse tipologia di enti;\ncome iscriversi nel RUNTS e quali sono i passaggi operativi: simulazione ed esempi;\nadempimenti\, comunicazioni e revisione legati all’iscrizione nel RUNTS;\ncosa attendersi per i primi anni di operatività del RUNTS e le valutazioni da effettuare.\n\n  \nDocente \nElena D’Alessandro\, giurista esperta del diritto del Terzo settore\, impegnata attivamente dal 2002 in campi sociali e culturali; responsabile Ufficio Consulenze CSV di Verona. \n  \nMetodologia didattica \nLezione frontale molto pratica\, aperta agli interventi e calibrata sulle esigenze dei partecipanti. \n   \nDate e orari \nMartedì 15 febbraio 2022 ǀ 18.00 – 20.00\n(l’incontro si ripete uguale ogni mese\, il/la partecipante sceglierà la data più congeniale) \n  \nSede  \nWebinar \n  \nDestinatari  \nVolontari e rappresentanti degli enti del Terzo settore \n  \n Quota di partecipazione  \nIl webinar non prevede la quota d’iscrizione. \n  \nRegolamento per accedere alla formazione \nRegolamento completo \n  \n Iscrizione obbligatoria entro il 13 febbraio \nSi deve iscrivere al corso la persona che effettivamente parteciperà alla formazione. \nEffettuando il login – iscrizioni chiuse per posti disponibili raggiunti\, iscriviti al prossimo incontro 15 marzo\, 19 aprile e 17 maggio \n  \n 
URL:https://csv.verona.it/event/webinar-registro-unico-nazionale-del-terzo-settore-runts-riforma-del-terzo-settore-15-02/
END:VEVENT
BEGIN:VEVENT
DTSTART;TZID=Europe/Rome:20220217T180000
DTEND;TZID=Europe/Rome:20220217T190000
DTSTAMP:20260424T055359
CREATED:20211221T090913Z
LAST-MODIFIED:20211221T113657Z
UID:11052-1645120800-1645124400@csv.verona.it
SUMMARY:WEBINAR  – Destreggiarsi su internet e tra le piattaforme
DESCRIPTION:I partecipanti saranno accompagnati nell’uso quotidiano degli strumenti per navigare in rete\, con supporto per fare ricerche puntuali e salvare indirizzi\, indicazioni su quale programma utilizzare\, come registrarsi in una piattaforma ed effettuare gli accessi per le navigazioni successive. \n  \nDocente  \nAntonio Faccioli\, formatore professionista nell’ambito delle tecnologie dell’informazione e della comunicazione. \n  \nMetodologia didattica \nLezione frontale molto pratica\, aperta agli interventi e calibrata sulle esigenze dei partecipanti. \n  \nDate e orari \nGiovedì 17 febbraio 2022 ǀ 18.00 – 19.00 \n  \nSede  \nWebinar \n  \nDestinatari  \nVolontari e rappresentanti degli enti del Terzo settore \n  \nContributo di partecipazione  \nIl webinar non prevede la quota d’iscrizione. \n  \nRegolamento per accedere alla formazione \nRegolamento completo \n  \nIscrizione obbligatoria entro il 15 febbraio \nSi deve iscrivere al corso la persona che effettivamente parteciperà alla formazione. \nEffettuando il login \n 
URL:https://csv.verona.it/event/webinar-destreggiarsi-internet-le-piattaforme/
END:VEVENT
BEGIN:VEVENT
DTSTART;TZID=Europe/Rome:20220222T170000
DTEND;TZID=Europe/Rome:20220222T180000
DTSTAMP:20260424T055359
CREATED:20211221T091251Z
LAST-MODIFIED:20211221T094619Z
UID:11054-1645549200-1645552800@csv.verona.it
SUMMARY:WEBINAR  – Ti mandiamo a quel paese! Opportunità di volontariato all’estero.
DESCRIPTION:Obiettivi \nIllustrare ai giovani in che cosa consiste il progetto di mobilità internazionale del Corpo Europeo di Solidarietà\, e come può arricchire il loro bagaglio personale e professionale; fornire una panoramica generale anche sulle altre opportunità di volontariato all’estero alle quali possono partecipare i giovani. \n  \nContenuti  \nDurante l’incontro verrà illustrato prevalentemente in che cosa consistono i progetti del Corpo Europeo di Solidarietà\, cosa l’Unione Europea garantisce a chi partecipa\, sia dal punto di vista economico sia dal punto di vista formativo\, e che ruolo assume il CSV all’interno di questo percorso; inoltre\, nel corso dell’incontro\, verranno presentate anche altre opportunità di volontariato alle quali i giovani possono partecipare (Es. Campi di volontariato\, scambi giovanili\, progetti di solidarietà\, DiscorverEU ecc.). \n  \nDocente \nFrancesca Rossi – Responsabile dell’ufficio “Promozione – Giovani” del Centro Servizio Volontariato di Verona. \n  \nMetodologia didattica \nL’incontro avrà un approccio molto pratico. Verranno proposti esempi concreti e si lascerà ampio spazio a domande e al confronto per rendere i contenuti il più possibile chiari e comprensibili. \n  \nDate e orari \nMartedì 22 febbraio 2022 ǀ 17.00 – 18.00 \n  \nSede  \nWebinar \n  \nDestinatari  \nGiovani di età compresa tra i 17 e i 30 anni \n  \nQuota di partecipazione  \nIl corso non prevede la quota d’iscrizione \n  \nRegolamento per accedere alla formazione \nSi deve iscrivere al corso la persona che effettivamente parteciperà alla formazione. \nPer il regolamento completo \n  \nIscrizioni \nEffettuando il login \n 
URL:https://csv.verona.it/event/webinar-ti-mandiamo-quel-paese-opportunita-volontariato-allestero-22-02/
END:VEVENT
BEGIN:VEVENT
DTSTART;TZID=Europe/Rome:20220224T180000
DTEND;TZID=Europe/Rome:20220224T203000
DTSTAMP:20260424T055359
CREATED:20211221T091749Z
LAST-MODIFIED:20211221T113444Z
UID:11056-1645725600-1645734600@csv.verona.it
SUMMARY:FORMAZIONE – Rendiconto per associazioni e bilancio sociale
DESCRIPTION:Raccontare storie di passione e impegno\nObiettivi \nL’incontro intende individuare il valore e l’utilità del bilancio sociale per tutte le organizzazioni del Terzo settore\, come strumento di crescita organizzativa e di valorizzazione del prezioso servizio svolto dai volontari. Il tema del bilancio sociale è di strettissima attualità dopo l’emanazione del Codice del Terzo Settore (CTS) che lo ha più chiaramente definito avvalendosi anche di Linee Guida Ministeriali emanate nel corso del 2019. Lo stesso CTS ha definito la tipologia di organizzazioni che sono obbligate alla redazione di questo documento. \n  \n Contenuti  \nIl corso intende offrire due tipologie di supporto: da un lato motivare e individuare le potenzialità insite nello strumento del bilancio sociale per le organizzazioni del Terzo settore e dall’altro mettere a disposizione strumenti pratici\, di facile utilizzo per costruire un documento di rendicontazione sociale adatto a tutte le realtà che si muovono nel sociale. \n  \n Docente \nFabio Fornasini\, si occupa da anni di responsabilità sociale di impresa e consulenza per il Terzo settore. Svolge attività come auditor per enti di certificazione qualità per schemi di certificazione etica e sociale. In questi anni ha approfondito modelli di misurazione del valore aggiunto sociale nel Terzo settore. Ha studiato economia all’Università di Genova e sociologia a Trento. \n  \nMetodologia didattica \nLezione frontale molto pratica\, aperta agli interventi e calibrata sulle esigenze dei partecipanti. \n   \nDate e orari \nIl corso si svolge in due incontri: giovedì 24 febbraio e giovedì 3 marzo 2022 ǀ 18.00 – 20.30 \n  \nSede  \nIl corso si svolgerà in presenza\, in zona Piazza Isolo con possibilità di parcheggio interno. L’indirizzo sarà comunicato agli iscritti al corso. La formazione si svolgerà in modalità webinar qualora le norme anti Covid\, in vigore in quel momento\, non permetteranno le lezioni in presenza; in questo caso sarà data tempestiva comunicazione agli iscritti. \n  \nDestinatari  \n25 volontari – Tipologia: è consigliabile che il corso sia frequentato dalle figure interne che si occupano di raccogliere i dati e redigere il bilancio sociale dell’associazione\, come presidente\, membri del direttivo\, amministrativi\, volontari. \n  \nContributo di partecipazione  \nODV 20 Euro a corsista (nell’area personale per l’iscrizione assicurarsi di essere collegati alla propria associazione\, diversamente la quota sarà di 40 Euro); altre forme associative e singoli cittadini 40 Euro a corsista. \nIl pagamento della quota può essere effettuato: \n\nCon PayPal all’atto dell’iscrizione;\ntramite bonifico bancario a FEDERAZIONE DEL VOLONTARIATO DI VERONA – BANCO BPM SPA VERONA (ITALY)\, BIC BAPPIT21004\, IBAN IT76O0503411704000000051276\, indicando come causale nome + cognome + titolo corso abbreviato. Il pagamento deve essere effettuato entro il 20 febbraio 2022 per permettere all’amministrazione del CSV la verifica contabile.\n\n   \nRegolamento per accedere alla formazione \nPrima ci si iscrive al corso e solo dopo l’iscrizione si effettua il saldo del contributo di partecipazione. \nRegolamento completo \n   \nIscrizione obbligatoria e pagamento entro il 20 febbraio \nSi deve iscrivere al corso la persona che effettivamente parteciperà alla formazione. Non saranno ammesse persone che non figurano nel nostro registro. \nEffettuando il login
URL:https://csv.verona.it/event/formazione-rendiconto-associazioni-bilancio-sociale/
END:VEVENT
END:VCALENDAR