BEGIN:VCALENDAR
VERSION:2.0
PRODID:-//CSV - ECPv6.15.20//NONSGML v1.0//EN
CALSCALE:GREGORIAN
METHOD:PUBLISH
X-ORIGINAL-URL:https://csv.verona.it
X-WR-CALDESC:Eventi per CSV
REFRESH-INTERVAL;VALUE=DURATION:PT1H
X-Robots-Tag:noindex
X-PUBLISHED-TTL:PT1H
BEGIN:VTIMEZONE
TZID:Europe/Rome
BEGIN:DAYLIGHT
TZOFFSETFROM:+0100
TZOFFSETTO:+0200
TZNAME:CEST
DTSTART:20200329T010000
END:DAYLIGHT
BEGIN:STANDARD
TZOFFSETFROM:+0200
TZOFFSETTO:+0100
TZNAME:CET
DTSTART:20201025T010000
END:STANDARD
BEGIN:DAYLIGHT
TZOFFSETFROM:+0100
TZOFFSETTO:+0200
TZNAME:CEST
DTSTART:20210328T010000
END:DAYLIGHT
BEGIN:STANDARD
TZOFFSETFROM:+0200
TZOFFSETTO:+0100
TZNAME:CET
DTSTART:20211031T010000
END:STANDARD
BEGIN:DAYLIGHT
TZOFFSETFROM:+0100
TZOFFSETTO:+0200
TZNAME:CEST
DTSTART:20220327T010000
END:DAYLIGHT
BEGIN:STANDARD
TZOFFSETFROM:+0200
TZOFFSETTO:+0100
TZNAME:CET
DTSTART:20221030T010000
END:STANDARD
END:VTIMEZONE
BEGIN:VEVENT
DTSTART;TZID=Europe/Rome:20210608T150000
DTEND;TZID=Europe/Rome:20210608T170000
DTSTAMP:20260424T180933
CREATED:20201210T095119Z
LAST-MODIFIED:20210520T101114Z
UID:9756-1623164400-1623171600@csv.verona.it
SUMMARY:WEBINAR – L’assicurazione per associazione e volontari
DESCRIPTION:Obiettivi \nL’incontro intende: illustrare l’obbligo di assicurare i volontari dell’associazione contro infortuni\, malattia e responsabilità civile verso terzi (art.18 Dlgs. 117/17); approfondire i casi di polizze facoltative in casi di particolari eventi (feste\, convegni) o di specifiche attività; sensibilizzare sul tema della responsabilità civile degli amministratori dell’associazione e sulla tutela legale. \n  \nContenuti  \nArt.18 Dlgs. 117/17;\nrischio e responsabilità contrattuale ed extracontrattuale;\npersonalità giuridica;\nassicurazione contro gli infortuni\, malattie\, responsabilità civile verso terzi;\nla tutela legale;\nle polizze facoltative in casi particolari. \n  \nDocente \nRendina Francesco\, consulente e professionista dell’ambito assicurativo. \n  \nMetodologia didattica \nLezione frontale molto pratica\, aperta agli interventi e calibrata sulle esigenze dei partecipanti. \n  \nDate e orari \nMartedì 8 giugno 2021 ǀ 15.00 – 17.00 \n  \nSede  \nWebinar \n  \nDestinatari  \n25 volontari – Tipologia: presidenti\, membri del direttivo\, amministrativi\, volontari. \n  \nContributo di partecipazione  \nODV 10 Euro (chi effettua l’iscrizione si assicuri di essere collegato alla propria associazione altrimenti la quota sarà di 20 Euro); altre forme associative e singoli cittadini 20 Euro. \nIl pagamento della quota può essere effettuato: \n\nCon PayPal all’atto dell’iscrizione;\ntramite bonifico bancario a FEDERAZIONE DEL VOLONTARIATO DI VERONA – BANCO BPM SPA VERONA (ITALY)\, BIC BAPPIT21004\, IBAN IT76O0503411704000000051276\, indicando come causale nome + cognome + titolo corso abbreviato. Il pagamento deve essere effettuato entro il 2 giugno per permettere all’amministrazione del CSV la verifica contabile e il successivo invio del link per la partecipazione al webinar. Il link sarà inviato il giorno prima o la mattina stessa del giorno del corso.\n\n  \nRegolamento per accedere alla formazione \nVai alla pagina  \n  \nIscrizione obbligatoria e pagamento entro il 2 giugno \nEffettuando il login
URL:https://csv.verona.it/event/formazione-lassicurazione-associazione-volontari-2/
END:VEVENT
BEGIN:VEVENT
DTSTART;TZID=Europe/Rome:20210622T180000
DTEND;TZID=Europe/Rome:20210622T200000
DTSTAMP:20260424T180933
CREATED:20201201T153802Z
LAST-MODIFIED:20210520T101056Z
UID:9609-1624384800-1624392000@csv.verona.it
SUMMARY:WEBINAR  – Orientamento alle forme associative: che associazione siamo?
DESCRIPTION:Obiettivi \nIllustrare i diversi passaggi per costituire e fondare una associazione.\nEsaminare le diverse tipologie giuridiche di enti del Terzo settore (ETS).\nIndividuare quale forma sia la più adeguata alle esigenze sollevate dai partecipanti per le singole attività.\nIllustrare aspetti gestionali dell’associazione\, anche già costituita\, alla luce inoltre del Codice del Terzo Settore (D.lgs 117/17). \n  \nContenuti  \nIl corso si articola in una prima parte frontale dove vengono illustrati i passaggi formali e gli adempimenti per costituire una associazione\, per approfondire poi le diverse tipologie di enti del Terzo settore (ETS) esaminando caratteristiche ed evoluzione. Si esamineranno i principali adempimenti gestionali associativi e quali attività si possano o meno svolgere\, e in che forme. La seconda parte dell’incontro è di confronto e risoluzione di dubbi e casi pratici relativi alle esigenze dei partecipanti\, cercando di individuare quale sia la forma di ente più funzionale al perseguimento dell’obiettivo e quali siano i passaggi formali da percorrere.\nL’incontro fornisce anche una rassegna dei principali aspetti del Codice del Terzo Settore (D.lgs 117/17) per fornire strumenti in prospettiva ai partecipanti. \n  \nDocente \nElena D’Alessandro\, giurista esperta del diritto del Terzo settore\, impegnata attivamente dal 2002 in campi sociali e culturali; responsabile Ufficio Consulenze CSV di Verona. \n  \nMetodologia didattica \nLezione frontale molto pratica\, aperta agli interventi e calibrata sulle esigenze dei partecipanti. \n  \nDate e orari \nMartedì 22 giugno 2021 ǀ 18.00 – 20.00 \n  \nSede  \nWebinar \n  \nDestinatari  \nVolontari\, aspiranti volontari\, rappresentanti degli enti del Terzo settore\, giovani e cittadinanza \n  \nQuota di partecipazione  \nIl webinar non prevede la quota d’iscrizione. \n  \nRegolamento per accedere alla formazione \nVai alla pagina  \n  \nIscrizioni \nEffettuando il login
URL:https://csv.verona.it/event/formazione-orientamento-alle-forme-associative-associazione-22-06/
END:VEVENT
END:VCALENDAR