BEGIN:VCALENDAR
VERSION:2.0
PRODID:-//CSV - ECPv6.15.20//NONSGML v1.0//EN
CALSCALE:GREGORIAN
METHOD:PUBLISH
X-ORIGINAL-URL:https://csv.verona.it
X-WR-CALDESC:Eventi per CSV
REFRESH-INTERVAL;VALUE=DURATION:PT1H
X-Robots-Tag:noindex
X-PUBLISHED-TTL:PT1H
BEGIN:VTIMEZONE
TZID:Europe/Rome
BEGIN:DAYLIGHT
TZOFFSETFROM:+0100
TZOFFSETTO:+0200
TZNAME:CEST
DTSTART:20200329T010000
END:DAYLIGHT
BEGIN:STANDARD
TZOFFSETFROM:+0200
TZOFFSETTO:+0100
TZNAME:CET
DTSTART:20201025T010000
END:STANDARD
BEGIN:DAYLIGHT
TZOFFSETFROM:+0100
TZOFFSETTO:+0200
TZNAME:CEST
DTSTART:20210328T010000
END:DAYLIGHT
BEGIN:STANDARD
TZOFFSETFROM:+0200
TZOFFSETTO:+0100
TZNAME:CET
DTSTART:20211031T010000
END:STANDARD
BEGIN:DAYLIGHT
TZOFFSETFROM:+0100
TZOFFSETTO:+0200
TZNAME:CEST
DTSTART:20220327T010000
END:DAYLIGHT
BEGIN:STANDARD
TZOFFSETFROM:+0200
TZOFFSETTO:+0100
TZNAME:CET
DTSTART:20221030T010000
END:STANDARD
END:VTIMEZONE
BEGIN:VEVENT
DTSTART;TZID=Europe/Rome:20210504T140000
DTEND;TZID=Europe/Rome:20210504T160000
DTSTAMP:20260424T193616
CREATED:20201201T153404Z
LAST-MODIFIED:20201201T154532Z
UID:9605-1620136800-1620144000@csv.verona.it
SUMMARY:WEBINAR – Orientamento alle forme associative: che associazione siamo?
DESCRIPTION:Obiettivi \nIllustrare i diversi passaggi per costituire e fondare una associazione.\nEsaminare le diverse tipologie giuridiche di enti del Terzo settore (ETS).\nIndividuare quale forma sia la più adeguata alle esigenze sollevate dai partecipanti per le singole attività.\nIllustrare aspetti gestionali dell’associazione\, anche già costituita\, alla luce inoltre del Codice del Terzo Settore (D.lgs 117/17). \n  \nContenuti  \nIl corso si articola in una prima parte frontale dove vengono illustrati i passaggi formali e gli adempimenti per costituire una associazione\, per approfondire poi le diverse tipologie di enti del Terzo settore (ETS) esaminando caratteristiche ed evoluzione. Si esamineranno i principali adempimenti gestionali associativi e quali attività si possano o meno svolgere\, e in che forme. La seconda parte dell’incontro è di confronto e risoluzione di dubbi e casi pratici relativi alle esigenze dei partecipanti\, cercando di individuare quale sia la forma di ente più funzionale al perseguimento dell’obiettivo e quali siano i passaggi formali da percorrere.\nL’incontro fornisce anche una rassegna dei principali aspetti del Codice del Terzo Settore (D.lgs 117/17) per fornire strumenti in prospettiva ai partecipanti. \n \nDocente \nElena D’Alessandro\, giurista esperta del diritto del Terzo settore\, impegnata attivamente dal 2002 in campi sociali e culturali; responsabile Ufficio Consulenze CSV di Verona. \n \nMetodologia didattica \nLezione frontale molto pratica\, aperta agli interventi e calibrata sulle esigenze dei partecipanti. \n  \nDate e orari \nMartedì 4 maggio 2021 ǀ 14.00 – 16.00 \n \nSede  \nWebinar \n \nDestinatari  \nVolontari\, aspiranti volontari\, rappresentanti degli enti del Terzo settore\, giovani e cittadinanza \n  \nQuota di partecipazione  \nIl webinar non prevede la quota d’iscrizione. \n \nRegolamento per accedere alla formazione \nVai alla pagina \n  \nIscrizioni \nEffettuando il login
URL:https://csv.verona.it/event/webinar-orientamento-alle-forme-associative-associazione-04-05/
END:VEVENT
BEGIN:VEVENT
DTSTART;TZID=Europe/Rome:20210504T180000
DTEND;TZID=Europe/Rome:20210504T193000
DTSTAMP:20260424T193616
CREATED:20201210T094053Z
LAST-MODIFIED:20210413T123837Z
UID:9749-1620151200-1620156600@csv.verona.it
SUMMARY:WEBINAR – Fundraising: uno e più modi per ringraziare il donatore
DESCRIPTION:Obiettivi \nQuante volte ti è capitato di ricevere una donazione e preso da altri mille impegni\, esserti scordato di ringraziare?  Oppure di trovarti davanti al foglio bianco chiedendoti cosa scrivere per ringraziare di una donazione? Ringraziare è fondamentale\, è il modo in cui stai dicendo al tuo donatore che lo rispetti e che il suo gesto è davvero importante per la tua associazione. Per questo bisogna imparare a farlo bene e soprattutto a pianificarlo. Durante questo incontro impareremo come scrivere e pianificare dei ringraziamenti che facciano davvero sentire importante il donatore.  L’obiettivo è quello di non trovarci impreparati alla prossima donazione e continuare a rafforzare la relazione con i nostri sostenitori. \n  \nContenuti  \nL’importanza del ringraziare.\nParti indispensabili per scrivere un ringraziamento.\nModi per ringraziare. \n  \nDocente \nLaura Zecchin\, fundraiser impegnata in piccole e medie organizzazioni; consulente Sportello Fundraising CSV di Verona. \n  \nMetodologia didattica \nLezione frontale molto pratica\, aperta agli interventi e calibrata sulle esigenze dei partecipanti. \n  \nDate e orari \nMartedì 4 maggio 2021 ǀ 18.00 – 19.30 \n  \nSede  \nWebinar \n  \nDestinatari  \n25 volontari – Tipologia: il corso è rivolto a coloro che in associazione si occupano di fundraising\, presidente\, membri del direttivo\, segretario\, amministrativi\, volontari. \n  \nContributo di partecipazione  \nODV 10 Euro (chi effettua l’iscrizione si assicuri di essere collegato alla propria associazione altrimenti la quota sarà di 20 Euro); altre forme associative e singoli cittadini 20 Euro. \nIl pagamento della quota può essere effettuato: \n\nCon PayPal all’atto dell’iscrizione;\ntramite bonifico bancario a FEDERAZIONE DEL VOLONTARIATO DI VERONA – BANCO BPM SPA VERONA (ITALY)\, BIC BAPPIT21004\, IBAN IT76O0503411704000000051276\, indicando come causale nome + cognome + titolo corso abbreviato. Il pagamento deve essere effettuato entro il 28 aprile 2021 per permettere all’amministrazione del CSV la verifica contabile e il successivo invio del link per la partecipazione al webinar. Il link sarà inviato il giorno prima o la mattina stessa del giorno del corso.\n\n  \nRegolamento per accedere alla formazione \nVai alla pagina  \n  \nIscrizione obbligatoria e pagamento entro il 28 aprile \nEffettuando il login
URL:https://csv.verona.it/event/webinar-fundraising-uno-piu-modi-ringraziare-donatore/
END:VEVENT
BEGIN:VEVENT
DTSTART;TZID=Europe/Rome:20210512T180000
DTEND;TZID=Europe/Rome:20210512T200000
DTSTAMP:20260424T193616
CREATED:20210419T090826Z
LAST-MODIFIED:20210419T090826Z
UID:10180-1620842400-1620849600@csv.verona.it
SUMMARY:WEBINAR – Bilancio e aspetti amministrativi delle associazioni
DESCRIPTION:Obiettivi \nIl corso\, a partire dall’obbligo annuale di redazione e approvazione del bilancio delle associazioni intende esaminare i principali adempimenti amministrativi a seconda della diversa casistica di enti del Terzo settore. Gli obiettivi dell’incontro sono: esaminare i principali adempimenti amministrativi legati alla redazione del bilancio; analizzare i vari aspetti della rendicontazione in relazione alle diverse tipologie di associazioni; esaminare le principali voci di bilancio e i relativi adempimenti (rendiconti specifici\, comunicazioni\, prospetti)\, alla luce della Riforma del Terzo Settore e delle novità normative; fornire cenni di aspetti amministrativo-fiscali; sensibilizzare sull’importanza e sul ruolo della rendicontazione sociale; illustrare i passaggi di redazione e approvazione del bilancio. \n  \nContenuti  \nSi esamineranno le principali voci di bilancio\, al fine di inquadrare correttamente quelle di entrata e uscita e collegare i rispettivi obblighi\, quali: redazione di rendiconti delle raccolte fondi o dei contributi pubblici ricevuti\, con i relativi adempimenti formali (pubblicazioni\, comunicazioni). Si farà cenno al tema della rendicontazione sociale e della sua complementarietà con la rendicontazione economica anche in ottica di Riforma del Terzo Settore. Si chiuderà il corso con l’illustrazione dei passaggi formali di redazione\, approvazione\, conservazione e pubblicazione dei documenti di bilancio. Verrà trattato anche il nuovo Modello di Bilancio per ETS approvato con DM 5 mar. 2020. \n  \nDocente \nElena D’Alessandro\, giurista esperta del diritto del Terzo settore\, impegnata attivamente dal 2002 in campi sociali e culturali; responsabile Ufficio Consulenze CSV di Verona. \n  \nMetodologia didattica \nLezione frontale molto pratica\, aperta agli interventi e calibrata sulle esigenze dei partecipanti. \n  \nDate e orari \nIl corso si svolge in due incontri: mercoledì 12 e 19 maggio 2021 ǀ 18.00 – 20.00 \n  \nSede  \nWebinar \n  \nDestinatari  \n25 volontari – Tipologia: è consigliabile che il corso sia frequentato dalla figura interna che segue gli aspetti di bilancio dell’associazione\, tesoriere\, presidente\, amministrativi\, segretario\, volontari. \n  \nContributo di partecipazione  \nODV 20 Euro (chi effettua l’iscrizione si assicuri di essere collegato alla propria associazione altrimenti la quota sarà di 40 Euro); altre forme associative e singoli cittadini 40 Euro. \nIl pagamento della quota può essere effettuato: \n\nCon PayPal all’atto dell’iscrizione;\ntramite bonifico bancario a FEDERAZIONE DEL VOLONTARIATO DI VERONA – BANCO BPM SPA VERONA (ITALY)\, BIC BAPPIT21004\, IBAN IT76O0503411704000000051276\, indicando come causale nome + cognome + titolo corso abbreviato. Il pagamento deve essere effettuato entro il 6 maggio 2021 per permettere all’amministrazione del CSV la verifica contabile e il successivo invio del link per la partecipazione al webinar. Il link sarà inviato il giorno prima o la mattina stessa del giorno del corso.\n\n  \nRegolamento per accedere alla formazione \nVai alla pagina  \n  \nIscrizione obbligatoria e pagamento entro il 6 maggio \nEffettuando il login:
URL:https://csv.verona.it/event/webinar-bilancio-aspetti-amministrativi-delle-associazioni-2-2/
END:VEVENT
BEGIN:VEVENT
DTSTART;TZID=Europe/Rome:20210518T180000
DTEND;TZID=Europe/Rome:20210518T200000
DTSTAMP:20260424T193616
CREATED:20201201T153603Z
LAST-MODIFIED:20201201T154338Z
UID:9607-1621360800-1621368000@csv.verona.it
SUMMARY:WEBINAR – Orientamento alle forme associative: che associazione siamo?
DESCRIPTION:Obiettivi \nIllustrare i diversi passaggi per costituire e fondare una associazione.\nEsaminare le diverse tipologie giuridiche di enti del Terzo settore (ETS).\nIndividuare quale forma sia la più adeguata alle esigenze sollevate dai partecipanti per le singole attività.\nIllustrare aspetti gestionali dell’associazione\, anche già costituita\, alla luce inoltre del Codice del Terzo Settore (D.lgs 117/17). \n  \nContenuti  \nIl corso si articola in una prima parte frontale dove vengono illustrati i passaggi formali e gli adempimenti per costituire una associazione\, per approfondire poi le diverse tipologie di enti del Terzo settore (ETS) esaminando caratteristiche ed evoluzione. Si esamineranno i principali adempimenti gestionali associativi e quali attività si possano o meno svolgere\, e in che forme. La seconda parte dell’incontro è di confronto e risoluzione di dubbi e casi pratici relativi alle esigenze dei partecipanti\, cercando di individuare quale sia la forma di ente più funzionale al perseguimento dell’obiettivo e quali siano i passaggi formali da percorrere.\nL’incontro fornisce anche una rassegna dei principali aspetti del Codice del Terzo Settore (D.lgs 117/17) per fornire strumenti in prospettiva ai partecipanti. \n\n \nDocente \nElena D’Alessandro\, giurista esperta del diritto del Terzo settore\, impegnata attivamente dal 2002 in campi sociali e culturali; responsabile Ufficio Consulenze CSV di Verona. \n\n \nMetodologia didattica \nLezione frontale molto pratica\, aperta agli interventi e calibrata sulle esigenze dei partecipanti. \n  \nDate e orari \nMartedì 18 maggio 2021 ǀ 18.00 – 20.00 \n\n \nSede  \nWebinar \n\n \nDestinatari  \nVolontari\, aspiranti volontari\, rappresentanti degli enti del Terzo settore\, giovani e cittadinanza \n  \nQuota di partecipazione  \nIl webinar non prevede la quota d’iscrizione. \n\n \nRegolamento per accedere alla formazione \nVai alla pagina \n  \nIscrizioni \nEffettuando il login
URL:https://csv.verona.it/event/webinar-orientamento-alle-forme-associative-associazione-18-05/
END:VEVENT
END:VCALENDAR