BEGIN:VCALENDAR
VERSION:2.0
PRODID:-//CSV - ECPv6.15.20//NONSGML v1.0//EN
CALSCALE:GREGORIAN
METHOD:PUBLISH
X-ORIGINAL-URL:https://csv.verona.it
X-WR-CALDESC:Eventi per CSV
REFRESH-INTERVAL;VALUE=DURATION:PT1H
X-Robots-Tag:noindex
X-PUBLISHED-TTL:PT1H
BEGIN:VTIMEZONE
TZID:Europe/Rome
BEGIN:DAYLIGHT
TZOFFSETFROM:+0100
TZOFFSETTO:+0200
TZNAME:CEST
DTSTART:20200329T010000
END:DAYLIGHT
BEGIN:STANDARD
TZOFFSETFROM:+0200
TZOFFSETTO:+0100
TZNAME:CET
DTSTART:20201025T010000
END:STANDARD
BEGIN:DAYLIGHT
TZOFFSETFROM:+0100
TZOFFSETTO:+0200
TZNAME:CEST
DTSTART:20210328T010000
END:DAYLIGHT
BEGIN:STANDARD
TZOFFSETFROM:+0200
TZOFFSETTO:+0100
TZNAME:CET
DTSTART:20211031T010000
END:STANDARD
BEGIN:DAYLIGHT
TZOFFSETFROM:+0100
TZOFFSETTO:+0200
TZNAME:CEST
DTSTART:20220327T010000
END:DAYLIGHT
BEGIN:STANDARD
TZOFFSETFROM:+0200
TZOFFSETTO:+0100
TZNAME:CET
DTSTART:20221030T010000
END:STANDARD
END:VTIMEZONE
BEGIN:VEVENT
DTSTART;TZID=Europe/Rome:20210309T140000
DTEND;TZID=Europe/Rome:20210309T160000
DTSTAMP:20260424T222055
CREATED:20201201T152426Z
LAST-MODIFIED:20210223T170045Z
UID:9597-1615298400-1615305600@csv.verona.it
SUMMARY:WEBINAR ESAURITO – Orientamento alle forme associative: che associazione siamo?
DESCRIPTION:Obiettivi \nIllustrare i diversi passaggi per costituire e fondare una associazione.\nEsaminare le diverse tipologie giuridiche di enti del Terzo settore (ETS).\nIndividuare quale forma sia la più adeguata alle esigenze sollevate dai partecipanti per le singole attività.\nIllustrare aspetti gestionali dell’associazione\, anche già costituita\, alla luce inoltre del Codice del Terzo Settore (D.lgs 117/17). \n  \nContenuti  \nIl corso si articola in una prima parte frontale dove vengono illustrati i passaggi formali e gli adempimenti per costituire una associazione\, per approfondire poi le diverse tipologie di enti del Terzo settore (ETS) esaminando caratteristiche ed evoluzione. Si esamineranno i principali adempimenti gestionali associativi e quali attività si possano o meno svolgere\, e in che forme. La seconda parte dell’incontro è di confronto e risoluzione di dubbi e casi pratici relativi alle esigenze dei partecipanti\, cercando di individuare quale sia la forma di ente più funzionale al perseguimento dell’obiettivo e quali siano i passaggi formali da percorrere.\nL’incontro fornisce anche una rassegna dei principali aspetti del Codice del Terzo Settore (D.lgs 117/17) per fornire strumenti in prospettiva ai partecipanti. \n  \nDocente \nElena D’Alessandro\, giurista esperta del diritto del Terzo settore\, impegnata attivamente dal 2002 in campi sociali e culturali; responsabile Ufficio Consulenze CSV di Verona. \n  \nMetodologia didattica \nLezione frontale molto pratica\, aperta agli interventi e calibrata sulle esigenze dei partecipanti. \n  \nDate e orari \nMartedì 9 marzo 2021 ǀ 14.00 – 16.00 \n  \nSede  \nWebinar \n  \nDestinatari  \nVolontari\, aspiranti volontari\, rappresentanti degli enti del Terzo settore\, giovani e cittadinanza \n  \nQuota di partecipazione  \nIl webinar non prevede la quota d’iscrizione. \n  \nRegolamento per accedere alla formazione \nVai alla pagina  \n  \nIscrizioni \nEffettuando il login  posti esauriti
URL:https://csv.verona.it/event/webinar-orientamento-alle-forme-associative-associazione-09-03/
END:VEVENT
BEGIN:VEVENT
DTSTART;TZID=Europe/Rome:20210309T180000
DTEND;TZID=Europe/Rome:20210309T200000
DTSTAMP:20260424T222055
CREATED:20201210T083728Z
LAST-MODIFIED:20201210T102632Z
UID:9723-1615312800-1615320000@csv.verona.it
SUMMARY:WEBINAR – Obiettivi dell’Agenda 2030 delle Nazioni Unite e creazione di bene comune
DESCRIPTION:Obiettivi \nVuoi scoprire il tuo contributo attivo alla realizzazione degli obiettivi dell’Agenda 2030 e il tuo potenziale ancora inespresso (come cittadino e come organizzazione) per attuare un cambiamento positivo nella realtà di riferimento? Vuoi prendere consapevolezza della capacità d’impatto complessiva di persone e organizzazioni di volontariato nel contesto della nostra provincia? La partecipazione al corso ti permetterà di: conoscere gli obiettivi di sviluppo sostenibile dell’Agenda 2030 dell’ONU (SDGs); riflettere sugli SDGs che le associazioni raggiungono\, anche in maniera inconsapevole\, attraverso le proprie attività; prendere consapevolezza della valenza sistemica delle proprie attività; riconoscere gli SDGs comuni tra le associazioni e le eventuali connessioni possibili. \n  \nContenuti  \nBreve dinamica di presentazione dei partecipanti e delle loro organizzazioni.\nAttività di primo approccio all’Agenda 2030.\nLavoro di riflessione attiva sulle organizzazioni e su quali SDGs raggiungono in maniera consapevole e inconsapevole.\nAttività maieutica di scoperta del proprio valore sistemico.\nCostruzione della visione globale del volontariato nella nostra provincia come attivatore di soggetti changemaker in grado di portare impatto positivo su tutti gli SDGs. \n  \nDocente \nLucia Vesentini\, avvocato\, specializzata in Studi sulla Comunità internazionale e stage alle Nazione Unite e Etica d’Impresa e Master in Social Foresight. Da sempre animata dalla passione e dall’impegno per il bene comune\, si dedica ad attività di formazione e consulenza in materia di sostenibilità\, future literature\, cittadinanza attiva. \n  \nMetodologia didattica \nLezione frontale molto pratica\, aperta agli interventi e calibrata sulle esigenze dei partecipanti. \n  \nDate e orari \nMartedì 9 marzo 2021 ǀ 18.00 – 20.00 \n  \nSede  \nWebinar \n  \nDestinatari  \n25 volontari – Tipologia: presidente\, membri del direttivo\, segretari\, volontari dell’associazione. \n  \nContributo di partecipazione  \nODV 10 Euro (chi effettua l’iscrizione si assicuri di essere collegato alla propria associazione altrimenti la quota sarà di 20 Euro); altre forme associative e singoli cittadini 20 Euro. \nIl pagamento della quota può essere effettuato: \n\nCon PayPal all’atto dell’iscrizione;\ntramite bonifico bancario a FEDERAZIONE DEL VOLONTARIATO DI VERONA – BANCO BPM SPA VERONA (ITALY)\, BIC BAPPIT21004\, IBAN IT76O0503411704000000051276\, indicando come causale nome + cognome + titolo corso abbreviato. Il pagamento deve essere effettuato entro il 3 marzo 2021 per permettere all’amministrazione del CSV la verifica contabile e il successivo invio del link per la partecipazione al webinar. Il link sarà inviato il giorno prima o la mattina stessa del giorno del corso.\n\n  \nRegolamento per accedere alla formazione \nVai alla pagina \n  \nIscrizione obbligatoria e pagamento entro il 3 marzo \nEffettuando il login:
URL:https://csv.verona.it/event/webinar-obiettivi-dellagenda-2030-delle-nazioni-unite-creazione-bene-comune/
END:VEVENT
BEGIN:VEVENT
DTSTART;TZID=Europe/Rome:20210311T180000
DTEND;TZID=Europe/Rome:20210311T200000
DTSTAMP:20260424T222055
CREATED:20201210T084527Z
LAST-MODIFIED:20201210T102707Z
UID:9728-1615485600-1615492800@csv.verona.it
SUMMARY:WEBINAR – Il leader informale: costruire e guidare il gruppo
DESCRIPTION:Obiettivi \nUn leader è una persona che traccia il sentiero\, si impegna a seguirlo e a motivare il gruppo a fare lo stesso.\nEssere leader è dovere di tutti e non solo di chi ha la responsabilità del comando. Ad esempio in un’associazione di volontariato il leader è chi si impegna a valorizzare le persone\, traendone il meglio\, e perseguire insieme gli obiettivi sociali.\nIl corso propone i seguenti obiettivi formativi: comprendere cos’è davvero la leadership; trovare la propria modalità di leadership (non siamo tutti uguali); allenare le proprie caratteristiche e metterle a disposizione del team. \n  \nContenuti  \nCondivisione del significato di leadership.\nSpingere o guidare? Cosa funziona meglio e perché.\nDiversi stili di leadership: politica\, religiosa\, mediatica\, personale.\nSviluppare il proprio carisma personale. \n  \nDocente \nCarla Favazza – Personal coach e trainer di laughter yoga con esperienza sia nel mondo profit sia nel Terzo settore. \n  \nMetodologia didattica \nLezione frontale molto pratica\, aperta agli interventi e calibrata sulle esigenze dei partecipanti. \n  \nDate e orari \nIl corso si svolge in due incontri: giovedì 11 e 18 marzo 2021 ǀ 18.00 – 20.00 \n  \nSede  \nWebinar \n  \nDestinatari  \n25 volontari – Tipologia: responsabile dei volontari\, presidente\, tesoriere\, amministrativi\, segretario\, volontari. \n  \nContributo di partecipazione  \nODV 20 Euro (chi effettua l’iscrizione si assicuri di essere collegato alla propria associazione altrimenti la quota sarà di 40 Euro); altre forme associative e singoli cittadini 40 Euro. \nIl pagamento della quota può essere effettuato: \n\nCon PayPal all’atto dell’iscrizione;\ntramite bonifico bancario a FEDERAZIONE DEL VOLONTARIATO DI VERONA – BANCO BPM SPA VERONA (ITALY)\, BIC BAPPIT21004\, IBAN IT76O0503411704000000051276\, indicando come causale nome + cognome + titolo corso abbreviato. Il pagamento deve essere effettuato entro il 5 marzo 2021 per permettere all’amministrazione del CSV la verifica contabile e il successivo invio del link per la partecipazione al webinar. Il link sarà inviato il giorno prima o la mattina stessa del giorno del corso.\n\n  \nRegolamento per accedere alla formazione \nVai alla pagina  \n   \nIscrizione obbligatoria e pagamento entro il 5 marzo \nEffettuando il login:
URL:https://csv.verona.it/event/webinar-leader-informale-costruire-guidare-gruppo/
END:VEVENT
BEGIN:VEVENT
DTSTART;TZID=Europe/Rome:20210316T180000
DTEND;TZID=Europe/Rome:20210316T200000
DTSTAMP:20260424T222055
CREATED:20201210T085132Z
LAST-MODIFIED:20201210T102758Z
UID:9732-1615917600-1615924800@csv.verona.it
SUMMARY:WEBINAR – Come funziona il 5X1000
DESCRIPTION:Obiettivi \nL’incontro intende fornire un’analisi completa del meccanismo del 5X1000 alle associazioni di volontariato\, esaminandone natura\, modalità di accreditamento e obblighi a esso legati. Il contributo ha subito diversi interventi normativi e trasformazioni\, fino ad arrivare negli ultimi anni\, a una delineazione chiara: dal 2017 il 5X1000 è diventato meccanismo “fisso”\, non più legato alla Legge di Bilancio\, sono stati fissati termini e adempimenti\, sono stati pubblicati gli elenchi permanenti per evitare l’accreditamento di anno in anno. Il corso\, attraverso un rapido excursus sulla natura del 5X1000\, fornisce informazioni chiare sulla procedura per accreditarsi\, sugli adempimenti e sulla tempistica\, esaminando l’importante capitolo della rendicontazione alla luce della riforma del Dlgs 111/17 e del Dpcm 23 lug. 20. Il meccanismo tributario verrà anche esaminato da un punto di vista non solo procedurale\, ma anche di raccolta fondi. Si tratterà infatti\, nella seconda parte del corso\, di individuare i donatori\, come programmare la promozione e sensibilizzazione alla scelta del 5X1000\, come utilizzare i fondi ricevuti\, come comunicare nell’ottica di aumentare la raccolta fondi. \n  \nContenuti  \nIl meccanismo del 5X1000 e la sua importanza all’interno del sistema del privato sociale e del volontariato;\ni requisiti e le qualifiche necessarie per poter ricevere il contributo;\nle scadenze e i passaggi formali di accreditamento e ricezione del 5X1000;\nl’obbligo della rendicontazione;\nle novità e i cambiamenti in seguito alla Riforma del Dlgs 111/17 e Dpcm 23 lug. 2020;\nil 5X1000 da rendicontare nel 2020: nuovi termini e proroghe;\nla campagna per il 5X1000;\nle potenzialità e la promozione di questo contributo. \n  \nDocente \nElena D’Alessandro\, giurista esperta del diritto del Terzo settore\, impegnata attivamente dal 2002 in campi sociali e culturali; responsabile Ufficio Consulenze CSV di Verona. Laura Zecchin\, fundraiser impegnata in piccole e medie organizzazioni; consulente Sportello Fundraising CSV di Verona. \n  \nMetodologia didattica \nLezione frontale molto pratica\, aperta agli interventi e calibrata sulle esigenze dei partecipanti. \n  \nDate e orari \nMartedì 16 marzo 2021 ǀ 18.00 – 20.00 \n  \nSede  \nWebinar \n  \nDestinatari  \n25 volontari – Tipologia: presidente\, membri del direttivo\, segretario\, amministrativi\, volontari. \n  \nContributo di partecipazione  \nODV 10 Euro (chi effettua l’iscrizione si assicuri di essere collegato alla propria associazione altrimenti la quota sarà di 20 Euro); altre forme associative e singoli cittadini 20 Euro. \nIl pagamento della quota può essere effettuato: \n\nCon PayPal all’atto dell’iscrizione;\ntramite bonifico bancario a FEDERAZIONE DEL VOLONTARIATO DI VERONA – BANCO BPM SPA VERONA (ITALY)\, BIC BAPPIT21004\, IBAN IT76O0503411704000000051276\, indicando come causale nome + cognome + titolo corso abbreviato. Il pagamento deve essere effettuato entro il 10 marzo 2021 per permettere all’amministrazione del CSV la verifica contabile e il successivo invio del link per la partecipazione al webinar. Il link sarà inviato il giorno prima o la mattina stessa del giorno del corso.\n\n  \n  \nRegolamento per accedere alla formazione \nVai alla pagina  \n  \nIscrizione obbligatoria e pagamento entro il 10 marzo \nEffettuando il login \n  \n  \n 
URL:https://csv.verona.it/event/webinar-funziona-5x1000/
END:VEVENT
BEGIN:VEVENT
DTSTART;TZID=Europe/Rome:20210323T180000
DTEND;TZID=Europe/Rome:20210323T200000
DTSTAMP:20260424T222055
CREATED:20201201T152726Z
LAST-MODIFIED:20210309T153629Z
UID:9599-1616522400-1616529600@csv.verona.it
SUMMARY:WEBINAR ESAURITO – Orientamento alle forme associative: che associazione siamo?
DESCRIPTION:Obiettivi \nIllustrare i diversi passaggi per costituire e fondare una associazione.\nEsaminare le diverse tipologie giuridiche di enti del Terzo settore (ETS).\nIndividuare quale forma sia la più adeguata alle esigenze sollevate dai partecipanti per le singole attività.\nIllustrare aspetti gestionali dell’associazione\, anche già costituita\, alla luce inoltre del Codice del Terzo Settore (D.lgs 117/17). \n  \nContenuti  \nIl corso si articola in una prima parte frontale dove vengono illustrati i passaggi formali e gli adempimenti per costituire una associazione\, per approfondire poi le diverse tipologie di enti del Terzo settore (ETS) esaminando caratteristiche ed evoluzione. Si esamineranno i principali adempimenti gestionali associativi e quali attività si possano o meno svolgere\, e in che forme. La seconda parte dell’incontro è di confronto e risoluzione di dubbi e casi pratici relativi alle esigenze dei partecipanti\, cercando di individuare quale sia la forma di ente più funzionale al perseguimento dell’obiettivo e quali siano i passaggi formali da percorrere.\nL’incontro fornisce anche una rassegna dei principali aspetti del Codice del Terzo Settore (D.lgs 117/17) per fornire strumenti in prospettiva ai partecipanti. \n  \nDocente \nElena D’Alessandro\, giurista esperta del diritto del Terzo settore\, impegnata attivamente dal 2002 in campi sociali e culturali; responsabile Ufficio Consulenze CSV di Verona. \n  \nMetodologia didattica \nLezione frontale molto pratica\, aperta agli interventi e calibrata sulle esigenze dei partecipanti. \n  \nDate e orari \nMartedì 23 marzo 2021 ǀ 18.00 – 20.00 \n  \nSede  \nWebinar \n  \nDestinatari  \nVolontari\, aspiranti volontari\, rappresentanti degli enti del Terzo settore\, giovani e cittadinanza \n  \nQuota di partecipazione  \nIl webinar non prevede la quota d’iscrizione. \n  \nRegolamento per accedere alla formazione \nVai alla pagina  \n  \nIscrizioni \nEffettuando il login posti esauriti
URL:https://csv.verona.it/event/webinar-orientamento-alle-forme-associative-associazione-23-03/
END:VEVENT
BEGIN:VEVENT
DTSTART;TZID=Europe/Rome:20210325T180000
DTEND;TZID=Europe/Rome:20210325T190000
DTSTAMP:20260424T222055
CREATED:20201210T085559Z
LAST-MODIFIED:20201210T102820Z
UID:9735-1616695200-1616698800@csv.verona.it
SUMMARY:WEBINAR – Fundraising: il metodo per non farsi scappare i propri donatori
DESCRIPTION:Obiettivi \nPensi che puntare sulla cura della relazione col donatore è davvero una cosa importante per la tua organizzazione? Ottimo\, perché è davvero così! Paradossalmente la cosa più facile e meno costosa\, per le piccole organizzazioni\, è proprio quella di far sentire coccolati e parte integrante del progetto i pochi (o tanti) donatori che hanno. Spesso però anche nelle micro-realtà\, questo non avviene e tutto si esaurisce in una lettera di ringraziamento\, quando va bene.\nL’incontro vuole porre il focus proprio sul rafforzare il legame tra donatore e organizzazione\, vero fulcro di una crescita armonica e costante della raccolta fondi\, andando ad analizzare tutte quelle attività che un ente può mettere in pratica per curare e nutrire nel tempo questo rapporto. \n  \nContenuti  \nIl ciclo della comunicazione.\nCome far sentire il donatore importante.\nGli strumenti che si possono utilizzare. \n  \nDocente \nLaura Zecchin\, fundraiser impegnata in piccole e medie organizzazioni; consulente Sportello Fundraising CSV di Verona. \n  \nMetodologia didattica \nLezione frontale molto pratica\, aperta agli interventi e calibrata sulle esigenze dei partecipanti. \n  \nDate e orari \nGiovedì 25 marzo 2021 ǀ 18.00 – 19.00 \n  \nSede  \nWebinar \n  \nDestinatari  \n25 volontari – Tipologia: il corso è rivolto a coloro che in associazione si occupano di fundraising\, presidente\, membri del direttivo\, segretario\, amministrativi\, volontari. \n  \nContributo di partecipazione  \nODV 10 Euro (chi effettua l’iscrizione si assicuri di essere collegato alla propria associazione altrimenti la quota sarà di 20 Euro); altre forme associative e singoli cittadini 20 Euro. \nIl pagamento della quota può essere effettuato: \n\nCon PayPal all’atto dell’iscrizione;\ntramite bonifico bancario a FEDERAZIONE DEL VOLONTARIATO DI VERONA – BANCO BPM SPA VERONA (ITALY)\, BIC BAPPIT21004\, IBAN IT76O0503411704000000051276\, indicando come causale nome + cognome + titolo corso abbreviato. Il pagamento deve essere effettuato entro il 19 marzo 2021 per permettere all’amministrazione del CSV la verifica contabile e il successivo invio del link per la partecipazione al webinar. Il link sarà inviato il giorno prima o la mattina stessa del giorno del corso.\n\n  \nRegolamento per accedere alla formazione \nVai alla pagina  \n  \nIscrizione obbligatoria e pagamento entro il 19 marzo \nEffettuando il login
URL:https://csv.verona.it/event/webinar-fundraising-metodo-non-farsi-scappare-propri-donatori/
END:VEVENT
END:VCALENDAR