BEGIN:VCALENDAR
VERSION:2.0
PRODID:-//CSV - ECPv6.15.20//NONSGML v1.0//EN
CALSCALE:GREGORIAN
METHOD:PUBLISH
X-ORIGINAL-URL:https://csv.verona.it
X-WR-CALDESC:Eventi per CSV
REFRESH-INTERVAL;VALUE=DURATION:PT1H
X-Robots-Tag:noindex
X-PUBLISHED-TTL:PT1H
BEGIN:VTIMEZONE
TZID:Europe/Rome
BEGIN:DAYLIGHT
TZOFFSETFROM:+0100
TZOFFSETTO:+0200
TZNAME:CEST
DTSTART:20200329T010000
END:DAYLIGHT
BEGIN:STANDARD
TZOFFSETFROM:+0200
TZOFFSETTO:+0100
TZNAME:CET
DTSTART:20201025T010000
END:STANDARD
BEGIN:DAYLIGHT
TZOFFSETFROM:+0100
TZOFFSETTO:+0200
TZNAME:CEST
DTSTART:20210328T010000
END:DAYLIGHT
BEGIN:STANDARD
TZOFFSETFROM:+0200
TZOFFSETTO:+0100
TZNAME:CET
DTSTART:20211031T010000
END:STANDARD
BEGIN:DAYLIGHT
TZOFFSETFROM:+0100
TZOFFSETTO:+0200
TZNAME:CEST
DTSTART:20220327T010000
END:DAYLIGHT
BEGIN:STANDARD
TZOFFSETFROM:+0200
TZOFFSETTO:+0100
TZNAME:CET
DTSTART:20221030T010000
END:STANDARD
END:VTIMEZONE
BEGIN:VEVENT
DTSTART;TZID=Europe/Rome:20210201T143000
DTEND;TZID=Europe/Rome:20210201T163000
DTSTAMP:20260424T234810
CREATED:20201203T162501Z
LAST-MODIFIED:20201210T102428Z
UID:9684-1612189800-1612197000@csv.verona.it
SUMMARY:WEBINAR – Riunioni telematiche: aspetti legali e tecnici
DESCRIPTION:Obiettivi \nL’emergenza sanitaria ha rilevato la necessità di effettuare riunioni e assemblee in modalità telematica\, soluzione che può essere trasformata in un’occasione sia per l’organizzazione\, sia per la gestione futura della vita associativa. Per espressa previsione del Decreto CuraItalia\, inoltre\, per gli enti associativi è possibile convocare assemblee e riunioni telematiche anche se non espressamente previsto\, e quindi regolamentato\, da statuto.\nLa modalità di riunione “da remoto” non sempre è agevole e immediata\, sia dal punto di vista del rispetto di statuto e adempimenti normativi\, sia dal punto di vista del mezzo informatico.\nIl corso intende fornire strumenti e suggerimenti per condurre riunioni in modalità telematica rispettando le principali regole assembleari come il principio di partecipazione e di democraticità. \n  \nContenuti  \nAspetti legali: \n\nle riunioni telematiche e il rispetto dei principi di partecipazione\, trasparenza e simultaneità\nla regolamentazione delle video-riunioni\nassemblea e approvazione del bilancio\nvideo-riunioni di altri organi\n\nAspetti tecnici: \n\npiattaforme di videoconferenza\nGoogle Meet\, uno strumento già a nostra disposizione\nGSUITE for no profit\, cos’è e come funziona\nfare videoconferenze con Google Meet\, convocare riunioni e come gestirle\nstrumenti di votazione online\n\nAspetti metodologici – le fasi di lavoro: \n\nideazione\norganizzazione\nfase di accoglienza\ngestione della riunione\n\n  \nDocenti \nElena D’Alessandro\, giurista esperta del diritto del Terzo settore e responsabile Ufficio Consulenze CSV di Verona; Antonio Faccioli\, formatore professionista nell’ambito delle tecnologie dell’informazione e della comunicazione; Annunziata Ferraro\, esperta nei processi formativi e responsabile Ufficio Formazione CSV di Verona. \n  \nMetodologia didattica \nLezione frontale molto pratica\, aperta agli interventi e calibrata sulle esigenze dei partecipanti. \n  \nDate e orari \nIl corso si svolge in due lezioni: lunedì 1 e 8 febbraio 2021 ǀ 14.30 – 16.30 \n  \nSede  \nWebinar \n  \nDestinatari  \n25 volontari – Tipologia: presidente\, membri del direttivo\, segretari\, volontari dell’associazione. \n  \nContributo di partecipazione \nODV 20 Euro (chi effettua l’iscrizione si assicuri di essere collegato alla propria associazione altrimenti la quota sarà di 40 Euro); altre forme associative e singoli cittadini 40 Euro. \nIl pagamento della quota può essere effettuato: \n\nCon PayPal all’atto dell’iscrizione;\ntramite bonifico bancario a FEDERAZIONE DEL VOLONTARIATO DI VERONA – BANCO BPM SPA VERONA (ITALY)\, BIC BAPPIT21004\, IBAN IT76O0503411704000000051276\, indicando come causale nome + cognome + titolo corso abbreviato. Il pagamento deve essere effettuato entro il 26 gennaio 2021 per permettere all’amministrazione del CSV la verifica contabile e il successivo invio del link per la partecipazione al webinar. Il link sarà inviato il giorno prima o la mattina stessa del giorno del corso.\n\n  \nRegolamento per accedere alla formazione \nVai alla pagina  \n  \nIscrizione obbligatoria e pagamento entro il 26 gennaio \nEffettuando il login
URL:https://csv.verona.it/event/webinar-riunioni-telematiche-aspetti-legali-tecnici/
END:VEVENT
BEGIN:VEVENT
DTSTART;TZID=Europe/Rome:20210209T140000
DTEND;TZID=Europe/Rome:20210209T160000
DTSTAMP:20260424T234810
CREATED:20201201T151850Z
LAST-MODIFIED:20210204T091752Z
UID:9593-1612879200-1612886400@csv.verona.it
SUMMARY:WEBINAR ESAURITO – Orientamento alle forme associative: che associazione siamo?
DESCRIPTION:Obiettivi \nIllustrare i diversi passaggi per costituire e fondare una associazione.\nEsaminare le diverse tipologie giuridiche di enti del Terzo settore (ETS).\nIndividuare quale forma sia la più adeguata alle esigenze sollevate dai partecipanti per le singole attività.\nIllustrare aspetti gestionali dell’associazione\, anche già costituita\, alla luce inoltre del Codice del Terzo Settore (D.lgs 117/17). \n  \nContenuti  \nIl corso si articola in una prima parte frontale dove vengono illustrati i passaggi formali e gli adempimenti per costituire una associazione\, per approfondire poi le diverse tipologie di enti del Terzo settore (ETS) esaminando caratteristiche ed evoluzione. Si esamineranno i principali adempimenti gestionali associativi e quali attività si possano o meno svolgere\, e in che forme. La seconda parte dell’incontro è di confronto e risoluzione di dubbi e casi pratici relativi alle esigenze dei partecipanti\, cercando di individuare quale sia la forma di ente più funzionale al perseguimento dell’obiettivo e quali siano i passaggi formali da percorrere.\nL’incontro fornisce anche una rassegna dei principali aspetti del Codice del Terzo Settore (D.lgs 117/17) per fornire strumenti in prospettiva ai partecipanti. \n  \nDocente \nElena D’Alessandro\, giurista esperta del diritto del Terzo settore\, impegnata attivamente dal 2002 in campi sociali e culturali; responsabile Ufficio Consulenze CSV di Verona. \n  \nMetodologia didattica \nLezione frontale molto pratica\, aperta agli interventi e calibrata sulle esigenze dei partecipanti. \n  \nDate e orari \nMartedì 9 febbraio 2021 ǀ 14.00 – 16.00 \n  \nSede  \nWebinar \n  \nDestinatari  \nVolontari\, aspiranti volontari\, rappresentanti degli enti del Terzo settore\, giovani e cittadinanza \n  \nQuota di partecipazione  \nIl webinar non prevede la quota d’iscrizione. \n  \nRegolamento per accedere alla formazione \nVai alla pagina  \n  \nIscrizioni \nEffettuando il login  posti esauriti \n 
URL:https://csv.verona.it/event/webinar-orientamento-alle-forme-associative-associazione-09-02/
END:VEVENT
BEGIN:VEVENT
DTSTART;TZID=Europe/Rome:20210209T180000
DTEND;TZID=Europe/Rome:20210209T200000
DTSTAMP:20260424T234810
CREATED:20201203T163151Z
LAST-MODIFIED:20201210T102441Z
UID:9689-1612893600-1612900800@csv.verona.it
SUMMARY:WEBINAR – Rendiconto per associazioni e bilancio sociale
DESCRIPTION:Raccontare storie di passione e impegno\nObiettivi \nL’incontro intende individuare il valore e l’utilità del bilancio sociale per tutte le organizzazioni del Terzo settore\, come strumento di crescita organizzativa e di valorizzazione del prezioso servizio svolto dai volontari. Il tema del bilancio sociale è di strettissima attualità dopo l’emanazione del Codice del Terzo Settore (CTS) che lo ha più chiaramente definito avvalendosi anche di Linee Guida Ministeriali emanate nel corso del 2019. Lo stesso CTS ha definito la tipologia di organizzazioni che sono obbligate alla redazione di tale documento. \n  \nContenuti  \nIl corso intende offrire due tipologie di supporto: da un lato motivare e individuare le potenzialità insite nello strumento del Bilancio Sociale per le organizzazioni del Terzo settore e dall’altro mettere a disposizione strumenti pratici\, di facile utilizzo per costruire un documento di rendicontazione sociale adatto a tutte le realtà che si muovono nel sociale. \n  \nDocente \nFabio Fornasini\, si occupa da anni di responsabilità sociale di impresa e consulenza per il Terzo settore. Svolge attività come auditor per enti di certificazione qualità per schemi di certificazione etica e sociale. Ha studiato Economia all’Università di Genova e Sociologia a Trento. \n  \nMetodologia didattica \nLezione frontale molto pratica\, aperta agli interventi e calibrata sulle esigenze dei partecipanti. \n  \nDate e orari \nIl corso si svolge in due incontri: martedì 9 e giovedì 11 febbraio 2021 ǀ 18.00 – 20.00 \n  \nSede  \nWebinar \n  \nDestinatari  \n25 volontari – Tipologia: è consigliabile che il corso sia frequentato dalle figure interne che si occupano di raccogliere i dati e redigere il bilancio sociale dell’associazione\, come presidente\, membri del direttivo\, amministrativi\, volontari. \n  \nContributo di partecipazione \nODV 20 Euro (chi effettua l’iscrizione si assicuri di essere collegato alla propria associazione altrimenti la quota sarà di 40 Euro); altre forme associative e singoli cittadini 40 Euro. \nIl pagamento della quota può essere effettuato: \n\nCon PayPal all’atto dell’iscrizione;\ntramite bonifico bancario a FEDERAZIONE DEL VOLONTARIATO DI VERONA – BANCO BPM SPA VERONA (ITALY)\, BIC BAPPIT21004\, IBAN IT76O0503411704000000051276\, indicando come causale nome + cognome + titolo corso abbreviato. Il pagamento deve essere effettuato entro il 3 febbraio 2021 per permettere all’amministrazione del CSV la verifica contabile ed il successivo invio del link per la partecipazione al webinar. Il link sarà inviato il giorno prima o la mattina stessa del giorno del corso.\n\n  \nRegolamento per accedere alla formazione \nVai alla pagina  \n  \nIscrizione obbligatoria e pagamento entro il 3 febbraio \nEffettuando il login: \n 
URL:https://csv.verona.it/event/webinar-rendiconto-associazioni-bilancio-sociale/
END:VEVENT
BEGIN:VEVENT
DTSTART;TZID=Europe/Rome:20210216T180000
DTEND;TZID=Europe/Rome:20210216T200000
DTSTAMP:20260424T234810
CREATED:20201203T163948Z
LAST-MODIFIED:20201210T102452Z
UID:9692-1613498400-1613505600@csv.verona.it
SUMMARY:WEBINAR – Riunioni telematiche: modalità e regole per renderle efficaci
DESCRIPTION:Obiettivi \nStiamo sperimentando sempre più una modalità virtuale di gestione delle riunioni. In questo corso presentiamo alcuni elementi per far funzionare al meglio anche le nostre riunioni virtuali\, tenendo alto sia lo “spirito di squadra” sia la giusta concentrazione verso il raggiungimento dell’obiettivo.\nObiettivi dell’incontro:\nfornire delle indicazioni sulle modalità e le regole da seguire per rendere efficaci le riunioni virtuali;\nsviluppare la capacità di gestire e coordinare le riunioni con efficacia ed efficienza;\ndiminuire il tempo dedicato alle riunioni\, migliorare i risultati. \n  \nContenuti  \nCome organizzare e gestire la riunione virtuale: obiettivo\, piattaforma\, partecipanti.\nLe fasi della riunione.\nRuoli\, compiti ed aspettative dei partecipanti.\nComportamenti da tenere durante la riunione on line: consigli di «netiquette».\nChiusura della riunione.\nFollow up della riunione. \n  \nDocente \nDaniela Sarigu – consulente e formatrice specializzata in ambito comunicativo e relazionale\, con esperienza aziendale pluriennale in formazione e gestione delle risorse umane. Nel Terzo settore lavora soprattutto su temi di leadership nei gruppi di volontariato. \n  \nMetodologia didattica \nLezione frontale molto pratica\, aperta agli interventi e calibrata sulle esigenze dei partecipanti. \n  \nDate e orari \nMartedì 16 febbraio 2021 ǀ 18.00 – 20.00 \n  \nSede  \nWebinar \n  \nDestinatari  \n25 volontari – Tipologia: presidente\, membri del direttivo\, segretari\, volontari dell’associazione. \n  \nContributo di partecipazione \nODV 10 Euro (chi effettua l’iscrizione si assicuri di essere collegato alla propria associazione altrimenti la quota sarà di 20 Euro); altre forme associative e singoli cittadini 20 Euro. \nIl pagamento della quota può essere effettuato: \n\nCon PayPal all’atto dell’iscrizione;\ntramite bonifico bancario a FEDERAZIONE DEL VOLONTARIATO DI VERONA – BANCO BPM SPA VERONA (ITALY)\, BIC BAPPIT21004\, IBAN IT76O0503411704000000051276\, indicando come causale nome + cognome + titolo corso abbreviato. Il pagamento deve essere effettuato entro il 10 febbraio per permettere all’amministrazione del CSV la verifica contabile ed il successivo invio del link per la partecipazione al webinar. Il link sarà inviato il giorno prima o la mattina stessa del giorno del corso.\n\n  \nRegolamento per accedere alla formazione \nVai alla pagina  \n  \nIscrizione obbligatoria e pagamento entro il 10 febbraio \nEffettuando il login: \n 
URL:https://csv.verona.it/event/webinar-riunioni-telematiche-modalita-regole-renderle-efficaci/
END:VEVENT
BEGIN:VEVENT
DTSTART;TZID=Europe/Rome:20210223T180000
DTEND;TZID=Europe/Rome:20210223T200000
DTSTAMP:20260424T234810
CREATED:20201201T152101Z
LAST-MODIFIED:20210204T091902Z
UID:9595-1614103200-1614110400@csv.verona.it
SUMMARY:WEBINAR ESAURITO – Orientamento alle forme associative: che associazione siamo?
DESCRIPTION:Obiettivi \nIllustrare i diversi passaggi per costituire e fondare una associazione.\nEsaminare le diverse tipologie giuridiche di enti del Terzo settore (ETS).\nIndividuare quale forma sia la più adeguata alle esigenze sollevate dai partecipanti per le singole attività.\nIllustrare aspetti gestionali dell’associazione\, anche già costituita\, alla luce inoltre del Codice del Terzo Settore (D.lgs 117/17). \n  \nContenuti  \nIl corso si articola in una prima parte frontale dove vengono illustrati i passaggi formali e gli adempimenti per costituire una associazione\, per approfondire poi le diverse tipologie di enti del Terzo settore (ETS) esaminando caratteristiche ed evoluzione. Si esamineranno i principali adempimenti gestionali associativi e quali attività si possano o meno svolgere\, e in che forme. La seconda parte dell’incontro è di confronto e risoluzione di dubbi e casi pratici relativi alle esigenze dei partecipanti\, cercando di individuare quale sia la forma di ente più funzionale al perseguimento dell’obiettivo e quali siano i passaggi formali da percorrere.\nL’incontro fornisce anche una rassegna dei principali aspetti del Codice del Terzo Settore (D.lgs 117/17) per fornire strumenti in prospettiva ai partecipanti. \n  \nDocente \nElena D’Alessandro\, giurista esperta del diritto del Terzo settore\, impegnata attivamente dal 2002 in campi sociali e culturali; responsabile Ufficio Consulenze CSV di Verona. \n  \nMetodologia didattica \nLezione frontale molto pratica\, aperta agli interventi e calibrata sulle esigenze dei partecipanti. \n  \nDate e orari \nMartedì 23 febbraio 2021 ǀ 18.00 – 20.00 \n  \nSede  \nWebinar \n  \nDestinatari  \nVolontari\, aspiranti volontari\, rappresentanti degli enti del Terzo settore\, giovani e cittadinanza \n  \nQuota di partecipazione  \nIl webinar non prevede la quota d’iscrizione. \n  \nRegolamento per accedere alla formazione \nVai alla pagina  \n  \nIscrizioni \nEffettuando il login  posti esauriti \n 
URL:https://csv.verona.it/event/webinar-orientamento-alle-forme-associative-associazione-23-02/
END:VEVENT
BEGIN:VEVENT
DTSTART;TZID=Europe/Rome:20210225T180000
DTEND;TZID=Europe/Rome:20210225T200000
DTSTAMP:20260424T234810
CREATED:20201210T083252Z
LAST-MODIFIED:20210211T113246Z
UID:9719-1614276000-1614283200@csv.verona.it
SUMMARY:WEBINAR – Giustizia riparativa e di comunità: ricucire legami con una buona gestione degli interventi di LPU e MAP
DESCRIPTION:Obiettivi \nL’incontro si pone come obiettivo quello di far conoscere e gestire le principali misure di:\ngiustizia di comunità\nLavori di Pubblica Utilità (LPU);\nMessa alla Prova (MAP).\nLa promozione del volontariato e la ricerca di nuovi volontari possono passare attraverso dei canali non usuali. L’accoglienza di persone in misure di comunità\, oltre ad avere un fine sociale di alto valore\, è un ottimo canale di promozione. Le buone pratiche nella gestione delle persone sono un incentivo per fermarsi nell’organizzazione\, una volta terminato il servizio\, e avere dei nuovi volontari. \n  \nContenuti  \nIl significato dell’accoglienza di persone in misure di comunità.\nCome accogliere: dalla convenzione allo sviluppo di buone prassi di gestione.\nLa gestione dei documenti e polizze assicurative. \n  \nDocente \nIrene Magri – Referente\, auditor\, componente del gruppo istruttorio del marchio Merita Fiducia per il CSV di Verona e responsabile Sportello Giustizia di Comunità del CSV di Verona. \n  \nMetodologia didattica \nLezione frontale molto pratica\, aperta agli interventi e calibrata sulle esigenze dei partecipanti. \n  \nDate e orari \nGiovedì 25 febbraio 2021 ǀ 18.00 – 20.00 \n  \nSede  \nWebinar \n  \nDestinatari  \n25 volontari – Tipologia: presidente\, membri del direttivo\, segretari\, volontari dell’associazione. \n  \nContributo di partecipazione  \nIl webinar è gratuito. \n  \nRegolamento per accedere alla formazione \nVai alla pagina \n  \nIscrizione obbligatoria entro il 23 febbraio \nEffettuando il login:
URL:https://csv.verona.it/event/webinar-giustizia-riparativa-comunita-ricucire-legami-buona-gestione-degli-interventi-lpu-map/
END:VEVENT
END:VCALENDAR