BEGIN:VCALENDAR
VERSION:2.0
PRODID:-//CSV - ECPv6.15.20//NONSGML v1.0//EN
CALSCALE:GREGORIAN
METHOD:PUBLISH
X-ORIGINAL-URL:https://csv.verona.it
X-WR-CALDESC:Eventi per CSV
REFRESH-INTERVAL;VALUE=DURATION:PT1H
X-Robots-Tag:noindex
X-PUBLISHED-TTL:PT1H
BEGIN:VTIMEZONE
TZID:Europe/Rome
BEGIN:DAYLIGHT
TZOFFSETFROM:+0100
TZOFFSETTO:+0200
TZNAME:CEST
DTSTART:20200329T010000
END:DAYLIGHT
BEGIN:STANDARD
TZOFFSETFROM:+0200
TZOFFSETTO:+0100
TZNAME:CET
DTSTART:20201025T010000
END:STANDARD
BEGIN:DAYLIGHT
TZOFFSETFROM:+0100
TZOFFSETTO:+0200
TZNAME:CEST
DTSTART:20210328T010000
END:DAYLIGHT
BEGIN:STANDARD
TZOFFSETFROM:+0200
TZOFFSETTO:+0100
TZNAME:CET
DTSTART:20211031T010000
END:STANDARD
BEGIN:DAYLIGHT
TZOFFSETFROM:+0100
TZOFFSETTO:+0200
TZNAME:CEST
DTSTART:20220327T010000
END:DAYLIGHT
BEGIN:STANDARD
TZOFFSETFROM:+0200
TZOFFSETTO:+0100
TZNAME:CET
DTSTART:20221030T010000
END:STANDARD
END:VTIMEZONE
BEGIN:VEVENT
DTSTART;TZID=Europe/Rome:20210112T180000
DTEND;TZID=Europe/Rome:20210112T200000
DTSTAMP:20260425T011428
CREATED:20201201T151453Z
LAST-MODIFIED:20201201T151536Z
UID:9591-1610474400-1610481600@csv.verona.it
SUMMARY:WEBINAR – Orientamento alle forme associative: che associazione siamo?
DESCRIPTION:Obiettivi \nIllustrare i diversi passaggi per costituire e fondare una associazione.\nEsaminare le diverse tipologie giuridiche di enti del Terzo settore (ETS).\nIndividuare quale forma sia la più adeguata alle esigenze sollevate dai partecipanti per le singole attività.\nIllustrare aspetti gestionali dell’associazione\, anche già costituita\, alla luce inoltre del Codice del Terzo Settore (D.lgs 117/17). \n  \nContenuti  \nIl corso si articola in una prima parte frontale dove vengono illustrati i passaggi formali e gli adempimenti per costituire una associazione\, per approfondire poi le diverse tipologie di enti del Terzo settore (ETS) esaminando caratteristiche ed evoluzione. Si esamineranno i principali adempimenti gestionali associativi e quali attività si possano o meno svolgere\, e in che forme. La seconda parte dell’incontro è di confronto e risoluzione di dubbi e casi pratici relativi alle esigenze dei partecipanti\, cercando di individuare quale sia la forma di ente più funzionale al perseguimento dell’obiettivo e quali siano i passaggi formali da percorrere.\nL’incontro fornisce anche una rassegna dei principali aspetti del Codice del Terzo Settore (D.lgs 117/17) per fornire strumenti in prospettiva ai partecipanti. \n  \nDocente \nElena D’Alessandro\, giurista esperta del diritto del Terzo settore\, impegnata attivamente dal 2002 in campi sociali e culturali; responsabile Ufficio Consulenze CSV di Verona. \n  \nMetodologia didattica \nLezione frontale molto pratica\, aperta agli interventi e calibrata sulle esigenze dei partecipanti. \n  \nDate e orari \nMartedì 12 gennaio 2021 ǀ 18.00 – 20.00 \n  \nSede  \nWebinar \n  \nDestinatari  \nVolontari\, aspiranti volontari\, rappresentanti degli enti del Terzo settore\, giovani e cittadinanza \n  \nQuota di partecipazione  \nIl webinar non prevede la quota d’iscrizione. \n  \nRegolamento per accedere alla formazione \nVai alla pagina \n  \nIscrizioni \nEffettuando il login \n 
URL:https://csv.verona.it/event/webinar-orientamento-alle-forme-associative-associazione-12-01/
END:VEVENT
BEGIN:VEVENT
DTSTART;TZID=Europe/Rome:20210121T180000
DTEND;TZID=Europe/Rome:20210121T200000
DTSTAMP:20260425T011428
CREATED:20201203T155841Z
LAST-MODIFIED:20201210T102257Z
UID:9676-1611252000-1611259200@csv.verona.it
SUMMARY:WEBINAR – Il colloquio di selezione a distanza: tecniche e modalità di intervista
DESCRIPTION:Obiettivi \nCome incontrarsi virtualmente? Come conoscerci e capirci? Come capire se è la persona giusta per l’associazione? La sfida del colloquio di selezione on line risponde a queste domande. Le associazioni sono fatte di persone e si distinguono per il modo in cui le persone che vi operano riescono a erogare un servizio che soddisfi le aspettative dell’utente. Scopo del colloquio di selezione è l’individuazione della persona che meglio interpreterà il ruolo associativo richiesto. Gli obiettivi del webinar saranno dunque il sapere gestire con efficacia un colloquio di selezione on line e il creare uno schema di intervista adatto alle esigenze dell’associazione. \n  \nContenuti  \nLe regole del colloquio on line: piattaforma\, modalità e tempi.\nLe tre fasi del colloquio: preparazione\, colloquio\, valutazione e decisione.\nCreazione dello schema di intervista.\nDefinizione della posizione ricercata.\nIndividuazione delle competenze personali richieste.\nPredisposizione delle domande di verifica.\nConclusione del colloquio. \n  \nDocente \nDaniela Sarigu – consulente e formatrice specializzata in ambito comunicativo e relazionale\, con esperienza aziendale pluriennale in formazione e gestione delle risorse umane. Nel Terzo settore lavora soprattutto su temi di leadership nei gruppi di volontariato. \n  \nMetodologia didattica \nLezione frontale molto pratica\, aperta agli interventi e calibrata sulle esigenze dei partecipanti. \n  \nDate e orari \nGiovedì 21 gennaio 2021 ǀ 18.00 – 20.00 \n  \nSede  \nWebinar \n  \nDestinatari  \n25 volontari – Tipologia: è consigliabile che il corso sia frequentato dalle figure interne che si occupano del colloquio di selezione per l’area di riferimento. \n  \nContributo di partecipazione \nODV 10 Euro (chi effettua l’iscrizione si assicuri di essere collegato alla propria associazione altrimenti la quota sarà di 20 Euro); altre forme associative e singoli cittadini 20 Euro. \nIl pagamento della quota può essere effettuato: \n\nCon PayPal all’atto dell’iscrizione;\ntramite bonifico bancario a FEDERAZIONE DEL VOLONTARIATO DI VERONA – BANCO BPM SPA VERONA (ITALY)\, BIC BAPPIT21004\, IBAN IT76O0503411704000000051276\, indicando come causale nome + cognome + titolo corso abbreviato. Il pagamento deve essere effettuato entro il 15 gennaio per permettere all’amministrazione del CSV la verifica contabile e il successivo invio del link per la partecipazione al webinar. Il link sarà inviato il giorno prima o la mattina stessa del giorno del corso.\n\n  \nRegolamento per accedere alla formazione \nVai alla pagina \n  \nIscrizione obbligatoria e pagamento entro il 15 gennaio \nEffettuando il login:
URL:https://csv.verona.it/event/webinar-colloquio-selezione-distanza-tecniche-modalita-intervista/
END:VEVENT
BEGIN:VEVENT
DTSTART;TZID=Europe/Rome:20210127T143000
DTEND;TZID=Europe/Rome:20210127T163000
DTSTAMP:20260425T011428
CREATED:20201203T161559Z
LAST-MODIFIED:20210112T170618Z
UID:9681-1611757800-1611765000@csv.verona.it
SUMMARY:WEBINAR – Vita associativa: gestione e adempimenti
DESCRIPTION:Obiettivi \nIl corso intende presentare una panoramica dei principali oneri gestionali della così detta “vita associativa”. Si esamineranno i principali adempimenti gestionali associativi\, le attività che si possano o meno svolgere e in che forme. L’incontro avrà un taglio molto pratico\, saranno commentate e fornite check list dei principali oneri gestionali e amministrativi.\nGli obiettivi dell’incontro saranno: riassumere e schematizzare i vari aspetti della gestione della vita associativa; individuare i principali adempimenti in relazione a oneri gestionali; esaminare quali sono gli adempimenti relativi a sicurezza\, privacy\, eventi e responsabilità; illustrare aspetti gestionali dell’associazione alla luce del Codice del Terzo Settore (D.lgs 117/17). \n  \nContenuti  \nSi affronteranno i seguenti argomenti specifici:\ngestione vita associativa in genere;\nadempimenti eventi;\nprivacy (cenni);\nsicurezza volontari;\nsicurezza eventi;\nrapporti con gli enti pubblici e casi particolari. \nIl webinar si pone in continuità con il primo incontro sulla vita associativa\, tenutosi in dicembre 2020\, che ha approfondito i temi degli organi e libri sociali\, argomenti che comunque verranno rapidamente ripresi e riassunti\, mettendo a disposizione il materiale e la check list del primo incontro. \n  \nDocente \nElena D’Alessandro\, giurista esperta del diritto del Terzo settore\, impegnata attivamente dal 2002 in campi sociali e culturali; responsabile Ufficio Consulenze CSV di Verona. \n  \nMetodologia didattica \nLezione frontale molto pratica\, aperta agli interventi e calibrata sulle esigenze dei partecipanti. \n  \nDate e orari \nIl corso si svolge in due incontri: mercoledì 27 gennaio e 3 febbraio 2021 ǀ 14.30 – 16.30 \n  \nSede  \nWebinar \n  \nDestinatari  \n25 volontari – Tipologia: è consigliabile che il corso sia frequentato dalla figura interna che segue gli aspetti gestionali dell’associazione\, segretario\, presidente\, amministrativi\, volontari. \n  \nContributo di partecipazione \nODV 20 Euro (chi effettua l’iscrizione si assicuri di essere collegato alla propria associazione altrimenti la quota sarà di 40 euro); altre forme associative e singoli cittadini 40 Euro. \nIl pagamento della quota può essere effettuato: \n\nCon PayPal all’atto dell’iscrizione;\ntramite bonifico bancario a FEDERAZIONE DEL VOLONTARIATO DI VERONA – BANCO BPM SPA VERONA (ITALY)\, BIC BAPPIT21004\, IBAN IT76O0503411704000000051276\, indicando come causale nome + cognome + titolo corso abbreviato. Il pagamento deve essere effettuato entro il 21 gennaio per permettere all’amministrazione del CSV la verifica contabile e il successivo invio del link per la partecipazione al webinar. Il link sarà inviato il giorno prima o la mattina stessa del giorno del corso.\n\n  \nRegolamento per accedere alla formazione \nVai alla pagina \n  \nIscrizione obbligatoria e pagamento entro il 21 gennaio \nEffettuando il login
URL:https://csv.verona.it/event/webinar-vita-associativa-gestione-adempimenti/
END:VEVENT
END:VCALENDAR