BEGIN:VCALENDAR
VERSION:2.0
PRODID:-//CSV - ECPv6.15.20//NONSGML v1.0//EN
CALSCALE:GREGORIAN
METHOD:PUBLISH
X-ORIGINAL-URL:https://csv.verona.it
X-WR-CALDESC:Eventi per CSV
REFRESH-INTERVAL;VALUE=DURATION:PT1H
X-Robots-Tag:noindex
X-PUBLISHED-TTL:PT1H
BEGIN:VTIMEZONE
TZID:Europe/Rome
BEGIN:DAYLIGHT
TZOFFSETFROM:+0100
TZOFFSETTO:+0200
TZNAME:CEST
DTSTART:20190331T010000
END:DAYLIGHT
BEGIN:STANDARD
TZOFFSETFROM:+0200
TZOFFSETTO:+0100
TZNAME:CET
DTSTART:20191027T010000
END:STANDARD
BEGIN:DAYLIGHT
TZOFFSETFROM:+0100
TZOFFSETTO:+0200
TZNAME:CEST
DTSTART:20200329T010000
END:DAYLIGHT
BEGIN:STANDARD
TZOFFSETFROM:+0200
TZOFFSETTO:+0100
TZNAME:CET
DTSTART:20201025T010000
END:STANDARD
BEGIN:DAYLIGHT
TZOFFSETFROM:+0100
TZOFFSETTO:+0200
TZNAME:CEST
DTSTART:20210328T010000
END:DAYLIGHT
BEGIN:STANDARD
TZOFFSETFROM:+0200
TZOFFSETTO:+0100
TZNAME:CET
DTSTART:20211031T010000
END:STANDARD
END:VTIMEZONE
BEGIN:VEVENT
DTSTART;TZID=Europe/Rome:20200505T180000
DTEND;TZID=Europe/Rome:20200505T200000
DTSTAMP:20260425T135018
CREATED:20191203T090442Z
LAST-MODIFIED:20200402T153500Z
UID:8129-1588701600-1588708800@csv.verona.it
SUMMARY:INCONTRO – RIMANDATO – Orientamento alle forme associative: che associazione siamo?
DESCRIPTION:AVVISO \nIn ottemperanza alle disposizioni per le misure di contenimento dell’emergenza epidemiologica da COVID-2019\, ci troviamo a dover sospendere la presente iniziativa. Ci scusiamo per il disagio e ringraziamo per comprensione. \n  \nObiettivi \nIllustrare i diversi passaggi per costituire e fondare una associazione.\nEsaminare le diverse tipologie giuridiche di enti del Terzo settore (ETS).\nIndividuare quale forma sia la più adeguata alle esigenze sollevate dai partecipanti per le singole attività.\nIllustrare aspetti gestionali dell’associazione\, anche già costituita\, alla luce inoltre del Codice del Terzo Settore (D.lgs 117/17). \n\nContenuti  \nIl corso si articola in una prima parte frontale dove vengono illustrati i passaggi formali e gli adempimenti per costituire una associazione\, per approfondire poi le diverse tipologie di enti del Terzo settore (ETS) esaminando caratteristiche ed evoluzione. Si esamineranno i principali adempimenti gestionali associativi e quali attività si possano o meno svolgere\, e in che forme. La seconda parte dell’incontro è di confronto e risoluzione di dubbi e casi pratici relativi alle esigenze dei partecipanti\, cercando di individuare quale sia la forma di ente più funzionale al perseguimento dell’obiettivo e quali siano i passaggi formali da percorrere.\nL’incontro fornisce anche una rassegna dei principali aspetti del Codice del Terzo Settore (D.lgs 117/17) per fornire strumenti in prospettiva ai partecipanti. \n\nDocente \nElena D’Alessandro\, giurista esperta del diritto del Terzo settore\, impegnata attivamente dal 2002 in campi sociali e culturali; responsabile Ufficio Consulenze CSV di Verona. \n\nMetodologia didattica \nLezione frontale molto pratica\, aperta agli interventi e calibrata sulle esigenze dei partecipanti. \n\nDate e orari \nMartedì 5 maggio 2020 ǀ 18.00 – 20.00 \n\nSede \nCSV di Verona – Via Cantarane 24\, Verona \n\nDestinatari \nVolontari\, aspiranti volontari\, rappresentanti degli enti del Terzo settore\, giovani e cittadinanza \n\nQuota di partecipazione  \nIl corso non prevede la quota d’iscrizione. \n\nRegolamento per accedere alla formazione \nhttps://csv.verona.it/come-iscriversi-ai-corsi/ \n\nIscrizioni \nEffettuando il login \n 
URL:https://csv.verona.it/event/incontro-orientamento-alle-forme-associative-associazione-7/
END:VEVENT
BEGIN:VEVENT
DTSTART;TZID=Europe/Rome:20200507T180000
DTEND;TZID=Europe/Rome:20200507T203000
DTSTAMP:20260425T135018
CREATED:20191209T111405Z
LAST-MODIFIED:20200402T153607Z
UID:8164-1588874400-1588883400@csv.verona.it
SUMMARY:FORMAZIONE – RIMANDATO – Enti del Terzo Settore e le modifiche richieste dal Codice
DESCRIPTION:AVVISO \nIn ottemperanza alle disposizioni per le misure di contenimento dell’emergenza epidemiologica da COVID-2019\, ci troviamo a dover sospendere la presente iniziativa. Ci scusiamo per il disagio e ringraziamo per comprensione. \n  \nObiettivi \nIn seguito all’entrata in vigore del Codice del Terzo Settore (D.lgs 117/17)\, associazioni e in generale enti di diritto privato oggi non iscritti\, dovranno rientrare in una delle forme giuridiche previste dal Codice del Terzo Settore e adattare i propri statuti alle prescrizioni della normativa. L’incontro intende essere un laboratorio pratico per fare il punto sulle modifiche che si rendono necessarie per adeguare gli statuti al Codice del Terzo Settore.\nIl corso intende orientare alla forma giuridica più adeguata tra quelle definite nel Codice del Terzo Settore e illustrare i passaggi operativi per adeguare la propria struttura e il proprio statuto.\nDurante l’incontro non verrà trattato il tema della Riforma del Terzo Settore o le novità introdotte dal D.lgs 117/2017\, ma si affronterà l’applicazione pratica del Codice del Terzo Settore in relazione alle modifiche statutarie e alle necessarie trasformazioni degli enti del Terzo settore per adeguarsi al nuovo sistema. \nPrerequisito obbligatorio per partecipare: avere una conoscenza di base della struttura del D.lgs 117/2017 e della Riforma. Per soddisfare tale requisito è sufficiente aver partecipato a uno degli incontri tenuti dal CSV di Verona sul tema della Riforma o documentarsi presso la sezione apposita del sito CSV Verona. \n\nContenuti  \nOrientamento alla forma giuridica di ente del Terzo settore.\nAnalisi delle caratteristiche statutarie degli enti presenti in aula.\nIllustrazione ed elenco delle caratteristiche e delle prescrizioni statutarie alle quali adeguarsi.\nIllustrazione dei passaggi operativi per l’adeguamento e l’approvazione delle modifiche statutarie. \n\nDocente \nElena D’Alessandro\, giurista esperta del diritto del Terzo settore\, impegnata attivamente dal 2002 in campi sociali e culturali; responsabile Ufficio Consulenze CSV di Verona. \nMonica Bernardello\, consulente e formatore\, si occupa di adeguamenti statutari\, consulenza gestionale\, amministrativa\, fiscale\, GDPR e privacy\, per associazioni ed enti no-profit. Dal 2015 consulente CSV di Verona. \n\nMetodologia didattica \nLezione frontale operativa e pratica \n\nDate e orari \nGiovedì 7 maggio 2020 ǀ 18.00 – 20.30 \n\nSede  \nCSV di Verona – Via Cantarane 24\, Verona \n\nDestinatari \n25 volontari – Tipologia: Associazioni\, Fondazioni\, Comitati\, Altri enti di carattere privato. L’incontro non tratterà di Cooperative e Imprese Sociali. \n\nQuota di partecipazione \nIl corso non prevede la quota d’iscrizione \n\nIscrizioni \nEffettuando il login \n 
URL:https://csv.verona.it/event/formazione-enti-del-terzo-settore-le-modifiche-richieste-dal-codice/
END:VEVENT
BEGIN:VEVENT
DTSTART;TZID=Europe/Rome:20200512T180000
DTEND;TZID=Europe/Rome:20200512T200000
DTSTAMP:20260425T135018
CREATED:20200420T101416Z
LAST-MODIFIED:20200420T101454Z
UID:8719-1589306400-1589313600@csv.verona.it
SUMMARY:WEBINAR – Bilancio e aspetti amministrativi delle associazioni
DESCRIPTION:Obiettivi \nIl corso\, a partire dall’obbligo annuale di redazione e approvazione del bilancio delle associazioni intende esaminare i principali adempimenti amministrativi a seconda della diversa casistica di enti del Terzo settore. Gli obiettivi dell’incontro sono: esaminare i principali adempimenti amministrativi legati alla redazione del bilancio; analizzare i vari aspetti della rendicontazione in relazione alle diverse tipologie di associazioni; esaminare le principali voci di bilancio e i relativi adempimenti (rendiconti specifici\, comunicazioni\, prospetti)\, alla luce della Riforma del Terzo Settore e delle novità normative; fornire cenni di aspetti amministrativo-fiscali; sensibilizzare sull’importanza e sul ruolo della rendicontazione sociale; illustrare i passaggi di redazione e approvazione del bilancio. \n\nContenuti \nSi esamineranno le principali voci di bilancio\, al fine di inquadrare correttamente quelle di entrata e uscita e collegare i rispettivi obblighi\, quali: redazione di rendiconti delle raccolte fondi o dei contributi pubblici ricevuti\, con i relativi adempimenti formali (pubblicazioni\, comunicazioni). Si farà cenno al tema della rendicontazione sociale e della sua complementarietà con la rendicontazione economica (a cui dedichiamo la serata formativa del 6 febbraio) anche in ottica di Riforma del Terzo Settore. Si chiuderà il corso con l’illustrazione dei passaggi formali di redazione\, approvazione\, conservazione e pubblicazione dei documenti di bilancio. \n\nDocente \nElena D’Alessandro\, giurista esperta del diritto del Terzo settore\, impegnata attivamente dal 2002 in campi sociali e culturali; responsabile Ufficio Consulenze CSV di Verona. \n\nMetodologia didattica \nLezione frontale molto pratica\, aperta agli interventi e calibrata sulle esigenze dei partecipanti. \n\nDate e orari \nIl corso si sviluppa in due incontri:\nmartedì 12 maggio ǀ 18.00 – 20.00 (prima parte) e venerdì 14 maggio ǀ 18.00 – 20.00 (seconda parte) \n\nDestinatari \n25 volontari – Tipologia: è consigliabile che il corso sia frequentato dalla figura interna che segue gli aspetti di bilancio dell’associazione\, tesoriere\, presidente\, amministrativi\, segretario\, volontari. \n\nQuota di partecipazione \nIl corso non prevede la quota d’iscrizione. \n  \n Regolamento per accedere alla formazione \nVai alla pagina \n\nIscrizione obbligatoria \nCompila il form \n  \n 
URL:https://csv.verona.it/event/webinar-bilancio-aspetti-amministrativi-delle-associazioni/
END:VEVENT
BEGIN:VEVENT
DTSTART;TZID=Europe/Rome:20200514T180000
DTEND;TZID=Europe/Rome:20200514T193000
DTSTAMP:20260425T135018
CREATED:20191204T090641Z
LAST-MODIFIED:20200402T153709Z
UID:8137-1589479200-1589484600@csv.verona.it
SUMMARY:INCONTRO –  RIMANDATO – Ti mandiamo a quel paese. Incontro informativo sulle opportunità di volontariato all’estero
DESCRIPTION:AVVISO \nIn ottemperanza alle disposizioni per le misure di contenimento dell’emergenza epidemiologica da COVID-2019\, ci troviamo a dover sospendere la presente iniziativa. Ci scusiamo per il disagio e ringraziamo per comprensione. \n  \nObiettivi \nIncontro dedicato ai giovani\, per illustrare in cosa consiste il progetto di mobilità internazionale del Corpo Europeo di Solidarietà e come può arricchire il bagaglio personale e professionale; fornire una panoramica generale anche sulle altre opportunità di volontariato all’estero dedicate ai giovani. \n\nContenuti  \nDurante l’incontro si presenteranno le opportunità di volontariato all’estero offerte dall’Unione Europea che garantiscono supporto economico e formativo. Si introdurranno anche altre opportunità di volontariato come i campi di volontariato\, gli scambi giovanili\, i progetti di solidarietà\, DiscorverEU\, e molte altre occasioni. \n\nDocente \nFrancesca Rossi – Sociologa di formazione e di spirito\, da diversi anni lavora nel mondo del Terzo settore occupandosi di politiche giovanili; dal 2018 è responsabile dell’Ufficio giovani del CSV di Verona. \n\nMetodologia didattica \nL’incontro avrà un approccio molto pratico. Verranno proposti esempi concreti\, si lascerà ampio spazio a domande e al confronto per rendere i contenuti il più possibile chiari e comprensibili. \n\nDate e orari \nGiovedì 14 maggio 2020 ǀ 18.00 – 19.00 \n\nSede \nCSV di Verona – Via Cantarane 24\, Verona \n\nDestinatari \nGiovani di età compresa tra i 17 e i 30 anni \n\nQuota di partecipazione \nIl corso non prevede la quota d’iscrizione \n\nIscrizioni \nEffettuando il login \n  \n  \n 
URL:https://csv.verona.it/event/incontro-ti-mandiamo-quel-paese-incontro-informativo-sulle-opportunita-volontariato-allestero-14-maggio/
END:VEVENT
BEGIN:VEVENT
DTSTART;TZID=Europe/Rome:20200516T093000
DTEND;TZID=Europe/Rome:20200516T110000
DTSTAMP:20260425T135018
CREATED:20200504T073835Z
LAST-MODIFIED:20200504T073858Z
UID:8771-1589621400-1589626800@csv.verona.it
SUMMARY:WEBINAR – Respira\, rilassati e recupera le energie
DESCRIPTION:Obiettivi \nQuando siamo sotto stress e ci sentiamo stanchi\, è fondamentale mettersi in contatto con il proprio respiro. Per chi\, come i volontari delle associazioni\, si può trovare sovente in situazioni di criticità nell’ambito del proprio servizio\, avere delle conoscenze di come il proprio modo di respirare può influenzare positivamente il proprio stato d’animo e le proprie risorse energetiche\, può fare davvero la differenza. Scopo del corso è fornire degli strumenti di auto-analisi del proprio respiro e fornire contemporaneamente delle strategie per migliorarlo nel modo più funzionale alle varie situazioni. Durante l’incontro ci sarà spazio per approfondire argomenti teorici\, ma soprattutto per praticare alcune tecniche di respirazione abbinate alla meditazione/rilassamento.\nVerrà fornita una dispensa per facilitare l’apprendimento di queste tecniche che potranno essere utilizzate in autonomia dal partecipante. \n\nContenuti  \nPartecipando al corso imparerai:\ngli effetti del respiro a livello fisiologico ed emozionale;\ni benefici del respiro consapevole;\ntecniche di respirazione che ti aiuteranno a ripristinare una condizione di equilibrio psico-fisico (rilassandoti e recuperando energie);\na conoscere di più te stesso attraverso i tuoi schemi respiratori;\na migliorare le relazioni con gli altri aprendoti maggiormente al flusso della vita. \n\nDocente \nSilvia Biribin\, naturopata\, counselor a indirizzo olistico specializzata in “breathwork”\, professionista del benessere psicofisico attraverso il massaggio bio naturale\, tecnico sanitario di radiologia medica. \n\nMetodologia didattica \nLezione teorico – pratica. Si consiglia abbigliamento comodo che non stringa sull’addome e sul torace. Corso adatto a tutti e a tutte le età. \n\nDate e orari \nIl corso si sviluppa in due incontri:\nsabato 16 maggio ǀ 9.30 – 11.00 (prima parte) e sabato 23 maggio ǀ 9.30 – 11.00 (seconda parte) \n  \n Destinatari \n12 volontari – Tipologia: volontari\, aspiranti volontari\, rappresentanti degli enti del Terzo settore\, giovani e cittadinanza \n\nQuota di partecipazione \nIl corso non prevede la quota d’iscrizione. \n\nRegolamento per accedere alla formazione \nVai alla pagina \n\nIscrizione obbligatoria \nEffettuando il login \n 
URL:https://csv.verona.it/event/webinar-respira-rilassati-recupera-le-energie/
END:VEVENT
BEGIN:VEVENT
DTSTART;TZID=Europe/Rome:20200519T180000
DTEND;TZID=Europe/Rome:20200519T200000
DTSTAMP:20260425T135018
CREATED:20191203T090618Z
LAST-MODIFIED:20200402T153753Z
UID:8131-1589911200-1589918400@csv.verona.it
SUMMARY:INCONTRO – RIMANDATO – Orientamento alle forme associative: che associazione siamo?
DESCRIPTION:AVVISO \nIn ottemperanza alle disposizioni per le misure di contenimento dell’emergenza epidemiologica da COVID-2019\, ci troviamo a dover sospendere la presente iniziativa. Ci scusiamo per il disagio e ringraziamo per comprensione. \n  \nObiettivi \nIllustrare i diversi passaggi per costituire e fondare una associazione.\nEsaminare le diverse tipologie giuridiche di enti del Terzo settore (ETS).\nIndividuare quale forma sia la più adeguata alle esigenze sollevate dai partecipanti per le singole attività.\nIllustrare aspetti gestionali dell’associazione\, anche già costituita\, alla luce inoltre del Codice del Terzo Settore (D.lgs 117/17). \n\nContenuti  \nIl corso si articola in una prima parte frontale dove vengono illustrati i passaggi formali e gli adempimenti per costituire una associazione\, per approfondire poi le diverse tipologie di enti del Terzo settore (ETS) esaminando caratteristiche ed evoluzione. Si esamineranno i principali adempimenti gestionali associativi e quali attività si possano o meno svolgere\, e in che forme. La seconda parte dell’incontro è di confronto e risoluzione di dubbi e casi pratici relativi alle esigenze dei partecipanti\, cercando di individuare quale sia la forma di ente più funzionale al perseguimento dell’obiettivo e quali siano i passaggi formali da percorrere.\nL’incontro fornisce anche una rassegna dei principali aspetti del Codice del Terzo Settore (D.lgs 117/17) per fornire strumenti in prospettiva ai partecipanti. \n\nDocente \nElena D’Alessandro\, giurista esperta del diritto del Terzo settore\, impegnata attivamente dal 2002 in campi sociali e culturali; responsabile Ufficio Consulenze CSV di Verona. \n\nMetodologia didattica \nLezione frontale molto pratica\, aperta agli interventi e calibrata sulle esigenze dei partecipanti. \n\nDate e orari \nMartedì 19 maggio 2020 ǀ 18.00 – 20.00 \n\nSede \nCSV di Verona – Via Cantarane 24\, Verona \n\nDestinatari \nVolontari\, aspiranti volontari\, rappresentanti degli enti del Terzo settore\, giovani e cittadinanza \n\nQuota di partecipazione  \nIl corso non prevede la quota d’iscrizione. \n\nRegolamento per accedere alla formazione \nhttps://csv.verona.it/come-iscriversi-ai-corsi/ \n\nIscrizioni \nEffettuando il login \n 
URL:https://csv.verona.it/event/incontro-orientamento-alle-forme-associative-associazione-8/
END:VEVENT
BEGIN:VEVENT
DTSTART;TZID=Europe/Rome:20200520T180000
DTEND;TZID=Europe/Rome:20200520T200000
DTSTAMP:20260425T135018
CREATED:20200420T085241Z
LAST-MODIFIED:20200420T094106Z
UID:8698-1589997600-1590004800@csv.verona.it
SUMMARY:WEBINAR – Orientamento alle forme associative: che associazione siamo?
DESCRIPTION:Obiettivi \nIllustrare i diversi passaggi per costituire e fondare una associazione.\nEsaminare le diverse tipologie giuridiche di enti del Terzo settore (ETS).\nIndividuare quale forma sia la più adeguata alle esigenze sollevate dai partecipanti per le singole attività.\nIllustrare aspetti gestionali dell’associazione\, anche già costituita\, alla luce inoltre del Codice del Terzo Settore (D.lgs 117/17). \n\nContenuti  \nIl corso si articola in una prima parte frontale dove vengono illustrati i passaggi formali e gli adempimenti per costituire una associazione\, per approfondire poi le diverse tipologie di enti del Terzo settore (ETS) esaminando caratteristiche ed evoluzione. Si esamineranno i principali adempimenti gestionali associativi e quali attività si possano o meno svolgere\, e in che forme. La seconda parte dell’incontro è di confronto e risoluzione di dubbi e casi pratici relativi alle esigenze dei partecipanti\, cercando di individuare quale sia la forma di ente più funzionale al perseguimento dell’obiettivo e quali siano i passaggi formali da percorrere.\nL’incontro fornisce anche una rassegna dei principali aspetti del Codice del Terzo Settore (D.lgs 117/17) per fornire strumenti in prospettiva ai partecipanti. \n\nDocente \nElena D’Alessandro\, giurista esperta del diritto del Terzo settore\, impegnata attivamente dal 2002 in campi sociali e culturali; responsabile Ufficio Consulenze CSV di Verona. \n\nMetodologia didattica \nLezione frontale molto pratica\, aperta agli interventi e calibrata sulle esigenze dei partecipanti. \n\nDate e orari \nMercoledì 20 maggio 2020 ǀ 18.00 – 20.00 \n\nDestinatari \nVolontari\, aspiranti volontari\, rappresentanti degli enti del Terzo settore\, giovani e cittadinanza \n\nQuota di partecipazione  \nIl corso non prevede la quota d’iscrizione. \n\nRegolamento per accedere alla formazione \nVai alla pagina  \n  \nIscrizione obbligatoria \nCompila il form \n 
URL:https://csv.verona.it/event/webinar-orientamento-alle-forme-associative-associazione-20-05/
END:VEVENT
BEGIN:VEVENT
DTSTART;TZID=Europe/Rome:20200521T180000
DTEND;TZID=Europe/Rome:20200521T200000
DTSTAMP:20260425T135018
CREATED:20200420T102939Z
LAST-MODIFIED:20200507T071255Z
UID:8724-1590084000-1590091200@csv.verona.it
SUMMARY:WEBINAR – Confrontarsi e capirsi: trasformare un conflitto in un incontro
DESCRIPTION:  \nObiettivi \nI partecipanti potranno apprendere alcune semplici tecniche per gestire un confronto limitando le possibilità di scivolare in un conflitto.\nL’incontro punterà nel contempo ad aiutare i corsisti a leggere le dinamiche comunicative\, al fine di generare la necessaria consapevolezza di come ognuno di noi si muove nella relazione con gli altri. \n\nContenuti  \nAttraverso la lezione frontale\, attività pratiche e confronto\, i partecipanti saranno accompagnati a sperimentare come alcune modalità comunicative complichino il dialogo. Nel contempo il gruppo sarà stimolato a elaborare delle strategie alternative per far sì che il confronto resti occasione d’incontro e non si trasformi in motivo di scontro.\nI temi trattati saranno i seguenti:\nle convinzioni fondamentali di una persona su sé stessa e sugli altri e come queste vengono utilizzate per giustificare le proprie decisioni e il proprio comportamento;\nle modalità attraverso le quali si svaluta l’altro o sé stessi e come queste ci incastrano in comunicazioni inefficaci;\nla forma e il contenuto nella comunicazione e il loro potere di influenza;\nla negoziazione. \n\nDocente \nCristiano Pravadelli\, psicologo\, formatore e coach certificato in process communication model (PCM)\, si occupa di comunicazione\, problem solving e strategie di concentrazione. \n\nMetodologia didattica \nLezione frontale molto pratica\, aperta agli interventi e calibrata sulle esigenze dei partecipanti. \n\nDate e orari \nIl corso si sviluppa in due incontri:\ngiovedì 21 maggio ǀ 18.00 – 20.00 e giovedì 28 maggio ǀ 18.00 – 20.00 \n\nDestinatari \nVolontari\, aspiranti volontari\, rappresentanti degli Enti del Terzo settore\, giovani e cittadinanza \n\nQuota di partecipazione \nIl corso non prevede la quota d’iscrizione. \n\nRegolamento per accedere alla formazione \nVai alla pagina \n\nIscrizione obbligatoria \nCompila il form \n  \n 
URL:https://csv.verona.it/event/webinar-confrontarsi-capirsi-trasformare-un-conflitto-un-incontro/
END:VEVENT
BEGIN:VEVENT
DTSTART;TZID=Europe/Rome:20200521T180000
DTEND;TZID=Europe/Rome:20200521T203000
DTSTAMP:20260425T135018
CREATED:20191209T110132Z
LAST-MODIFIED:20200402T153850Z
UID:8156-1590084000-1590093000@csv.verona.it
SUMMARY:FORMAZIONE – RIMANDATO – L’assicurazione per associazione e volontari
DESCRIPTION:AVVISO \nIn ottemperanza alle disposizioni per le misure di contenimento dell’emergenza epidemiologica da COVID-2019\, ci troviamo a dover sospendere la presente iniziativa. Ci scusiamo per il disagio e ringraziamo per comprensione. \n  \nObiettivi \nL’incontro intende: illustrare l’obbligo di assicurare i volontari dell’associazione contro infortuni\, malattia e responsabilità civile verso terzi (art.18 Dlgs. 117/17); approfondire i casi di polizze facoltative in casi di particolari eventi (feste\, convegni) o di specifiche attività; sensibilizzare sul tema della responsabilità civile degli amministratori dell’associazione e sulla tutela legale. \n\nContenuti  \nArt.18 Dlgs. 117/17;\nrischio e responsabilità contrattuale ed extracontrattuale;\npersonalità giuridica;\nassicurazione contro gli infortuni\, malattie\, responsabilità civile verso terzi;\nla tutela legale;\nle polizze facoltative in casi particolari. \n\nDocente \nRendina Francesco\, consulente e professionista dell’ambito assicurativo. \n\nMetodologia didattica \nLezione frontale molto pratica\, aperta agli interventi e calibrata sulle esigenze dei partecipanti. \n\nDate e orari \nGiovedì 21 maggio 2020 ǀ 18.00 – 20.30 \n\nSede \nCSV di Verona – Via Cantarane 24\, Verona \n\nDestinatari \n25 volontari – Tipologia: presidenti\, membri del direttivo\, amministrativi\, volontari. \n\nQuota di partecipazione \nIl corso non prevede la quota d’iscrizione \n\nRegolamento per accedere alla formazione \nhttps://csv.verona.it/come-iscriversi-ai-corsi/ \n\nIscrizione obbligatoria \nEffettuando il login \n 
URL:https://csv.verona.it/event/formazione-lassicurazione-associazione-volontari/
END:VEVENT
END:VCALENDAR