BEGIN:VCALENDAR
VERSION:2.0
PRODID:-//CSV - ECPv6.15.20//NONSGML v1.0//EN
CALSCALE:GREGORIAN
METHOD:PUBLISH
X-ORIGINAL-URL:https://csv.verona.it
X-WR-CALDESC:Eventi per CSV
REFRESH-INTERVAL;VALUE=DURATION:PT1H
X-Robots-Tag:noindex
X-PUBLISHED-TTL:PT1H
BEGIN:VTIMEZONE
TZID:Europe/Rome
BEGIN:DAYLIGHT
TZOFFSETFROM:+0100
TZOFFSETTO:+0200
TZNAME:CEST
DTSTART:20190331T010000
END:DAYLIGHT
BEGIN:STANDARD
TZOFFSETFROM:+0200
TZOFFSETTO:+0100
TZNAME:CET
DTSTART:20191027T010000
END:STANDARD
BEGIN:DAYLIGHT
TZOFFSETFROM:+0100
TZOFFSETTO:+0200
TZNAME:CEST
DTSTART:20200329T010000
END:DAYLIGHT
BEGIN:STANDARD
TZOFFSETFROM:+0200
TZOFFSETTO:+0100
TZNAME:CET
DTSTART:20201025T010000
END:STANDARD
BEGIN:DAYLIGHT
TZOFFSETFROM:+0100
TZOFFSETTO:+0200
TZNAME:CEST
DTSTART:20210328T010000
END:DAYLIGHT
BEGIN:STANDARD
TZOFFSETFROM:+0200
TZOFFSETTO:+0100
TZNAME:CET
DTSTART:20211031T010000
END:STANDARD
END:VTIMEZONE
BEGIN:VEVENT
DTSTART;TZID=Europe/Rome:20200402T180000
DTEND;TZID=Europe/Rome:20200402T203000
DTSTAMP:20260425T152048
CREATED:20191209T110743Z
LAST-MODIFIED:20200402T152426Z
UID:8160-1585850400-1585859400@csv.verona.it
SUMMARY:FORMAZIONE  – RIMANDATO – Come funziona il 5X1000
DESCRIPTION:AVVISO \nIn ottemperanza alle disposizioni per le misure di contenimento dell’emergenza epidemiologica da COVID-2019\, ci troviamo a dover sospendere la presente iniziativa. Ci scusiamo per il disagio e ringraziamo per comprensione. \n  \nObiettivi \nL’incontro intende fornire un’analisi completa del meccanismo del 5X1000 alle associazioni di volontariato\, esaminandone natura\, modalità di accreditamento e obblighi ad esso legati. Il contributo ha subito diversi interventi normativi e trasformazioni\, fino ad arrivare negli ultimi anni\, a una delineazione chiara: dal 2017 il 5X1000 è diventato meccanismo “fisso”\, non più legato alla Legge di Bilancio\, sono stati fissati termini e adempimenti\, sono stati pubblicati gli elenchi permanenti per evitare l’accreditamento di anno in anno. Il corso\, attraverso un rapido excursus sulla natura del 5X1000\, fornisce informazioni chiare sulla procedura per accreditarsi\, sugli adempimenti e sulla tempistica\, esaminando l’importante capitolo della rendicontazione alla luce della riforma del Dlgs 111/17. Il meccanismo tributario verrà anche esaminato da un punto di vista non solo procedurale\, ma anche di raccolta fondi. Si tratterà infatti\, nella seconda parte del corso\, di individuare i donatori\, come programmare la promozione e sensibilizzazione alla scelta del 5X1000\, come utilizzare i fondi ricevuti\, come comunicare nell’ottica di aumentare la raccolta fondi. \n\nContenuti  \nil meccanismo del 5X1000 e la sua importanza all’interno del sistema del privato sociale e del volontariato;\ni requisiti e le qualifiche necessarie per poter ricevere il contributo;\nle scadenze e i passaggi formali di accreditamento e ricezione del 5X1000;\nl’obbligo della rendicontazione;\nle novità e i cambiamenti in seguito alla Riforma del Dlgs 111/17;\nla campagna per il 5X1000;\nle potenzialità e la promozione di questo contributo. \n\nDocente \nElena D’Alessandro\, giurista esperta del diritto del Terzo settore\, impegnata attivamente dal 2002 in campi sociali e culturali; responsabile Ufficio Consulenze CSV di Verona. \n\nMetodologia didattica \nLezione frontale molto pratica\, aperta agli interventi e calibrata sulle esigenze dei partecipanti. \n\nDate e orari \nGiovedì 2 aprile 2020 ǀ 18.00 – 20.30 \n\nSede \nCSV di Verona – Via Cantarane 24\, Verona \n\nDestinatari \n25 volontari – Tipologia: presidente\, membri del direttivo\, segretario\, amministrativi\, volontari. \n\nQuota di partecipazione \nODV 10 Euro; altre forme associative e singoli cittadini 20 Euro.\nIl pagamento della quota può essere effettuato: \n\ntramite bonifico bancario a FEDERAZIONE DEL VOLONTARIATO DI VERONA – BANCOBPMSPA VERONA (ITALY)\, BIC BAPPIT21004\, IBAN IT76O0503411704000000051276\, indicando come causale: nome + cognome+ titolo corso abbreviato;\nla sera del corso (arrivando con 15 minuti d’anticipo) con bancomat\, o altre carte\, tramite POS presente nel nostro ufficio.\n\n\nRegolamento per accedere alla formazione \nhttps://csv.verona.it/come-iscriversi-ai-corsi/ \n\nIscrizione obbligatoria \nEffettuando il login \n 
URL:https://csv.verona.it/event/formazione-funziona-5x1000/
END:VEVENT
BEGIN:VEVENT
DTSTART;TZID=Europe/Rome:20200407T180000
DTEND;TZID=Europe/Rome:20200407T200000
DTSTAMP:20260425T152048
CREATED:20191203T090026Z
LAST-MODIFIED:20200402T152632Z
UID:8125-1586282400-1586289600@csv.verona.it
SUMMARY:INCONTRO – RIMANDATO – Orientamento alle forme associative: che associazione siamo?
DESCRIPTION:AVVISO \nIn ottemperanza alle disposizioni per le misure di contenimento dell’emergenza epidemiologica da COVID-2019\, ci troviamo a dover sospendere la presente iniziativa. Ci scusiamo per il disagio e ringraziamo per comprensione. \n  \nObiettivi \nIllustrare i diversi passaggi per costituire e fondare una associazione.\nEsaminare le diverse tipologie giuridiche di enti del Terzo settore (ETS).\nIndividuare quale forma sia la più adeguata alle esigenze sollevate dai partecipanti per le singole attività.\nIllustrare aspetti gestionali dell’associazione\, anche già costituita\, alla luce inoltre del Codice del Terzo Settore (D.lgs 117/17). \n\nContenuti  \nIl corso si articola in una prima parte frontale dove vengono illustrati i passaggi formali e gli adempimenti per costituire una associazione\, per approfondire poi le diverse tipologie di enti del Terzo settore (ETS) esaminando caratteristiche ed evoluzione. Si esamineranno i principali adempimenti gestionali associativi e quali attività si possano o meno svolgere\, e in che forme. La seconda parte dell’incontro è di confronto e risoluzione di dubbi e casi pratici relativi alle esigenze dei partecipanti\, cercando di individuare quale sia la forma di ente più funzionale al perseguimento dell’obiettivo e quali siano i passaggi formali da percorrere.\nL’incontro fornisce anche una rassegna dei principali aspetti del Codice del Terzo Settore (D.lgs 117/17) per fornire strumenti in prospettiva ai partecipanti. \n\nDocente \nElena D’Alessandro\, giurista esperta del diritto del Terzo settore\, impegnata attivamente dal 2002 in campi sociali e culturali; responsabile Ufficio Consulenze CSV di Verona. \n\nMetodologia didattica \nLezione frontale molto pratica\, aperta agli interventi e calibrata sulle esigenze dei partecipanti. \n\nDate e orari \nMartedì 7 aprile 2020 ǀ 18.00 – 20.00 \n\nSede \nCSV di Verona – Via Cantarane 24\, Verona \n\nDestinatari \nVolontari\, aspiranti volontari\, rappresentanti degli enti del Terzo settore\, giovani e cittadinanza \n\nQuota di partecipazione  \nIl corso non prevede la quota d’iscrizione. \n\nRegolamento per accedere alla formazione \nhttps://csv.verona.it/come-iscriversi-ai-corsi/ \n\nIscrizioni \nEffettuando il login \n 
URL:https://csv.verona.it/event/incontro-orientamento-alle-forme-associative-associazione-5/
END:VEVENT
BEGIN:VEVENT
DTSTART;TZID=Europe/Rome:20200416T180000
DTEND;TZID=Europe/Rome:20200416T203000
DTSTAMP:20260425T152048
CREATED:20191209T111109Z
LAST-MODIFIED:20200402T153309Z
UID:8162-1587060000-1587069000@csv.verona.it
SUMMARY:FORMAZIONE – RIMANDATO –  Confrontarsi e capirsi: trasformare un conflitto in un incontro
DESCRIPTION:AVVISO \nIn ottemperanza alle disposizioni per le misure di contenimento dell’emergenza epidemiologica da COVID-2019\, ci troviamo a dover sospendere la presente iniziativa. Ci scusiamo per il disagio e ringraziamo per comprensione. \n  \nObiettivi \ni partecipanti potranno apprendere alcune semplici tecniche per gestire un confronto limitando le possibilità di scivolare in un conflitto.\nL’incontro punterà nel contempo ad aiutare i corsisti a leggere le dinamiche comunicative\, al fine di generare la necessaria consapevolezza di come ognuno di noi si muove nella relazione con gli altri. \n\nContenuti  \nAttraverso la lezione frontale\, attività pratiche e confronto\, i partecipanti saranno accompagnati a sperimentare come alcune modalità comunicative complichino il dialogo. Nel contempo il gruppo sarà stimolato a elaborare delle strategie alternative per far sì che il confronto resti occasione d’incontro e non si trasformi in motivo di scontro.\nI temi trattati saranno i seguenti:\nle convinzioni fondamentali di una persona su sé stessa e sugli altri e come queste vengono utilizzate per giustificare le proprie decisioni e il proprio comportamento;\nle modalità attraverso le quali si svaluta l’altro o sé stessi e come queste ci incastrano in comunicazioni inefficaci;\nla forma e il contenuto nella comunicazione e il loro potere di influenza;\nla negoziazione. \n\nDocente \nCristiano Pravadelli\, psicologo\, formatore e coach certificato in process communication model (PCM)\, si occupa di comunicazione\, problem solving e strategie di concentrazione. \n\nMetodologia didattica \nLezione frontale molto pratica\, aperta agli interventi e calibrata sulle esigenze dei partecipanti. \n\nDate e orari \nGiovedì 16 aprile 2020 ǀ 18.00 – 20.30 \n\nSede \nCSV di Verona – Via Cantarane 24\, Verona \n\nDestinatari \nVolontari\, aspiranti volontari\, rappresentanti degli Enti del Terzo settore\, giovani e cittadinanza \n\nQuota di partecipazione \nODV 10 Euro; altre forme associative e singoli cittadini 20 Euro.\nIl pagamento della quota può essere effettuato: \n\ntramite bonifico bancario a FEDERAZIONE DEL VOLONTARIATO DI VERONA – BANCOBPMSPA VERONA (ITALY)\, BIC BAPPIT21004\, IBAN IT76O0503411704000000051276\, indicando come causale: nome + cognome + titolo corso abbreviato;\nla sera del corso (arrivando con 10 minuti d’anticipo) con bancomat\, o altre carte\, tramite POS presente nel nostro ufficio.\n\n\nRegolamento per accedere alla formazione \nhttps://csv.verona.it/come-iscriversi-ai-corsi/ \n\nIscrizione obbligatoria \nEffettuando il login \n  \n 
URL:https://csv.verona.it/event/formazione-confrontarsi-capirsi-trasformare-un-conflitto-un-incontro/
END:VEVENT
BEGIN:VEVENT
DTSTART;TZID=Europe/Rome:20200421T180000
DTEND;TZID=Europe/Rome:20200421T200000
DTSTAMP:20260425T152048
CREATED:20191203T090154Z
LAST-MODIFIED:20200402T153355Z
UID:8127-1587492000-1587499200@csv.verona.it
SUMMARY:INCONTRO – RIMANDATO –  Orientamento alle forme associative: che associazione siamo?
DESCRIPTION:AVVISO \nIn ottemperanza alle disposizioni per le misure di contenimento dell’emergenza epidemiologica da COVID-2019\, ci troviamo a dover sospendere la presente iniziativa. Ci scusiamo per il disagio e ringraziamo per comprensione. \n  \nObiettivi \nIllustrare i diversi passaggi per costituire e fondare una associazione.\nEsaminare le diverse tipologie giuridiche di enti del Terzo settore (ETS).\nIndividuare quale forma sia la più adeguata alle esigenze sollevate dai partecipanti per le singole attività.\nIllustrare aspetti gestionali dell’associazione\, anche già costituita\, alla luce inoltre del Codice del Terzo Settore (D.lgs 117/17). \n\nContenuti  \nIl corso si articola in una prima parte frontale dove vengono illustrati i passaggi formali e gli adempimenti per costituire una associazione\, per approfondire poi le diverse tipologie di enti del Terzo settore (ETS) esaminando caratteristiche ed evoluzione. Si esamineranno i principali adempimenti gestionali associativi e quali attività si possano o meno svolgere\, e in che forme. La seconda parte dell’incontro è di confronto e risoluzione di dubbi e casi pratici relativi alle esigenze dei partecipanti\, cercando di individuare quale sia la forma di ente più funzionale al perseguimento dell’obiettivo e quali siano i passaggi formali da percorrere.\nL’incontro fornisce anche una rassegna dei principali aspetti del Codice del Terzo Settore (D.lgs 117/17) per fornire strumenti in prospettiva ai partecipanti. \n\nDocente \nElena D’Alessandro\, giurista esperta del diritto del Terzo settore\, impegnata attivamente dal 2002 in campi sociali e culturali; responsabile Ufficio Consulenze CSV di Verona. \n\nMetodologia didattica \nLezione frontale molto pratica\, aperta agli interventi e calibrata sulle esigenze dei partecipanti. \n\nDate e orari \nMartedì 21 aprile 2020 ǀ 18.00 – 20.00 \n\nSede \nCSV di Verona – Via Cantarane 24\, Verona \n\nDestinatari \nVolontari\, aspiranti volontari\, rappresentanti degli enti del Terzo settore\, giovani e cittadinanza \n\nQuota di partecipazione  \nIl corso non prevede la quota d’iscrizione. \n\nRegolamento per accedere alla formazione \nhttps://csv.verona.it/come-iscriversi-ai-corsi/ \n\nIscrizioni \nEffettuando il login \n 
URL:https://csv.verona.it/event/incontro-orientamento-alle-forme-associative-associazione-6/
END:VEVENT
BEGIN:VEVENT
DTSTART;TZID=Europe/Rome:20200428T093000
DTEND;TZID=Europe/Rome:20200428T120000
DTSTAMP:20260425T152048
CREATED:20200420T100523Z
LAST-MODIFIED:20200420T100523Z
UID:8716-1588066200-1588075200@csv.verona.it
SUMMARY:WEBINAR – Come funziona il 5X1000
DESCRIPTION:  \nObiettivi \nL’incontro intende fornire un’analisi completa del meccanismo del 5X1000 alle associazioni di volontariato\, esaminandone natura\, modalità di accreditamento e obblighi ad esso legati. Il contributo ha subito diversi interventi normativi e trasformazioni\, fino ad arrivare negli ultimi anni\, a una delineazione chiara: dal 2017 il 5X1000 è diventato meccanismo “fisso”\, non più legato alla Legge di Bilancio\, sono stati fissati termini e adempimenti\, sono stati pubblicati gli elenchi permanenti per evitare l’accreditamento di anno in anno. Il corso\, attraverso un rapido excursus sulla natura del 5X1000\, fornisce informazioni chiare sulla procedura per accreditarsi\, sugli adempimenti e sulla tempistica\, esaminando l’importante capitolo della rendicontazione alla luce della riforma del Dlgs 111/17. Il meccanismo tributario verrà anche esaminato da un punto di vista non solo procedurale\, ma anche di raccolta fondi. Si tratterà infatti\, nella seconda parte del corso\, di individuare i donatori\, come programmare la promozione e sensibilizzazione alla scelta del 5X1000\, come utilizzare i fondi ricevuti\, come comunicare nell’ottica di aumentare la raccolta fondi. \n\nContenuti  \nil meccanismo del 5X1000 e la sua importanza all’interno del sistema del privato sociale e del volontariato;\ni requisiti e le qualifiche necessarie per poter ricevere il contributo;\nle scadenze e i passaggi formali di accreditamento e ricezione del 5X1000;\nl’obbligo della rendicontazione;\nle novità e i cambiamenti in seguito alla Riforma del Dlgs 111/17;\nla campagna per il 5X1000;\nle potenzialità e la promozione di questo contributo. \n\nDocente \nElena D’Alessandro\, giurista esperta del diritto del Terzo settore\, impegnata attivamente dal 2002 in campi sociali e culturali; responsabile Ufficio Consulenze CSV di Verona. \n\nMetodologia didattica \nLezione frontale molto pratica\, aperta agli interventi e calibrata sulle esigenze dei partecipanti. \n\nDate e orari \nMartedì 28 aprile 2020 ǀ 9.30 – 12.00 \n\nDestinatari \n25 volontari – Tipologia: presidente\, membri del direttivo\, segretario\, amministrativi\, volontari. \n\nQuota di partecipazione \nIl corso non prevede la quota d’iscrizione. \n\nRegolamento per accedere alla formazione \nVai alla pagina \n\nIscrizione obbligatoria \nCompila il form \n 
URL:https://csv.verona.it/event/webinar-funziona-5x1000-28-04/
END:VEVENT
BEGIN:VEVENT
DTSTART;TZID=Europe/Rome:20200430T100000
DTEND;TZID=Europe/Rome:20200430T120000
DTSTAMP:20260425T152048
CREATED:20200420T095031Z
LAST-MODIFIED:20200420T095031Z
UID:8701-1588240800-1588248000@csv.verona.it
SUMMARY:WEBINAR – Orientamento alle forme associative: che associazione siamo?
DESCRIPTION:Obiettivi \nIllustrare i diversi passaggi per costituire e fondare una associazione.\nEsaminare le diverse tipologie giuridiche di enti del Terzo settore (ETS).\nIndividuare quale forma sia la più adeguata alle esigenze sollevate dai partecipanti per le singole attività.\nIllustrare aspetti gestionali dell’associazione\, anche già costituita\, alla luce inoltre del Codice del Terzo Settore (D.lgs 117/17). \n\nContenuti  \nIl corso si articola in una prima parte frontale dove vengono illustrati i passaggi formali e gli adempimenti per costituire una associazione\, per approfondire poi le diverse tipologie di enti del Terzo settore (ETS) esaminando caratteristiche ed evoluzione. Si esamineranno i principali adempimenti gestionali associativi e quali attività si possano o meno svolgere\, e in che forme. La seconda parte dell’incontro è di confronto e risoluzione di dubbi e casi pratici relativi alle esigenze dei partecipanti\, cercando di individuare quale sia la forma di ente più funzionale al perseguimento dell’obiettivo e quali siano i passaggi formali da percorrere.\nL’incontro fornisce anche una rassegna dei principali aspetti del Codice del Terzo Settore (D.lgs 117/17) per fornire strumenti in prospettiva ai partecipanti. \n\nDocente \nElena D’Alessandro\, giurista esperta del diritto del Terzo settore\, impegnata attivamente dal 2002 in campi sociali e culturali; responsabile Ufficio Consulenze CSV di Verona. \n\nMetodologia didattica \nLezione frontale molto pratica\, aperta agli interventi e calibrata sulle esigenze dei partecipanti. \n\nDate e orari \nMartedì 30 aprile 2020 ǀ 10.00 – 12.00 \n\nDestinatari \nVolontari\, aspiranti volontari\, rappresentanti degli enti del Terzo settore\, giovani e cittadinanza \n\nQuota di partecipazione  \nIl corso non prevede la quota d’iscrizione. \n\nRegolamento per accedere alla formazione \nVai alla pagina \n  \nIscrizione obbligatoria \nCompila il form \n 
URL:https://csv.verona.it/event/incontro-webinar-orientamento-alle-forme-associative-associazione-30-04/
END:VEVENT
END:VCALENDAR