BEGIN:VCALENDAR
VERSION:2.0
PRODID:-//CSV - ECPv6.15.20//NONSGML v1.0//EN
CALSCALE:GREGORIAN
METHOD:PUBLISH
X-ORIGINAL-URL:https://csv.verona.it
X-WR-CALDESC:Eventi per CSV
REFRESH-INTERVAL;VALUE=DURATION:PT1H
X-Robots-Tag:noindex
X-PUBLISHED-TTL:PT1H
BEGIN:VTIMEZONE
TZID:Europe/Rome
BEGIN:DAYLIGHT
TZOFFSETFROM:+0100
TZOFFSETTO:+0200
TZNAME:CEST
DTSTART:20180325T010000
END:DAYLIGHT
BEGIN:STANDARD
TZOFFSETFROM:+0200
TZOFFSETTO:+0100
TZNAME:CET
DTSTART:20181028T010000
END:STANDARD
BEGIN:DAYLIGHT
TZOFFSETFROM:+0100
TZOFFSETTO:+0200
TZNAME:CEST
DTSTART:20190331T010000
END:DAYLIGHT
BEGIN:STANDARD
TZOFFSETFROM:+0200
TZOFFSETTO:+0100
TZNAME:CET
DTSTART:20191027T010000
END:STANDARD
BEGIN:DAYLIGHT
TZOFFSETFROM:+0100
TZOFFSETTO:+0200
TZNAME:CEST
DTSTART:20200329T010000
END:DAYLIGHT
BEGIN:STANDARD
TZOFFSETFROM:+0200
TZOFFSETTO:+0100
TZNAME:CET
DTSTART:20201025T010000
END:STANDARD
END:VTIMEZONE
BEGIN:VEVENT
DTSTART;TZID=Europe/Rome:20191205T180000
DTEND;TZID=Europe/Rome:20191205T203000
DTSTAMP:20260425T205635
CREATED:20190910T081326Z
LAST-MODIFIED:20190910T081326Z
UID:7846-1575568800-1575577800@csv.verona.it
SUMMARY:FORMAZIONE – Calcolatrice alla mano: contabilità negli enti del Terzo settore
DESCRIPTION:Obiettivi \nIl corso illustra le principali voci del rendiconto di un ente del Terzo settore (ETS) e i diversi criteri di rilevazione contabile attraverso esempi e simulazioni\, approfondendo quando sia obbligatorio-o consigliabile-adottare un criterio o un altro.\nGli obiettivi del corso sono:\nfornire una conoscenza di base dei principali strumenti di contabilità;\ndescrivere i diversi criteri di rilevazione contabile al fine di consentire la scelta del più adeguato alla gestione amministrativa dell’ente;\nillustrare la struttura del bilancio e presentare alcuni esempi e schemi di bilancio;\nfornire delle conoscenze sui principali obblighi amministrativi collegati agli aspetti contabili;\nfornire cenni sul controllo e la revisione contabile. \n\nContenuti  \nSaranno illustrati i criteri “per cassa” e “per competenza” con le relative differenze. Sarà approfondito il concetto di “piano dei conti” e il suo uso pratico e l’Inventario dell’associazione. Si analizzerà infine la struttura del bilancio economico con i diversi prospetti che lo compongono. Si presenteranno esempi di rendiconti\, adatti a tutte le dimensioni associative e si concluderà il corso con esempi e simulazioni. \n\nDocente \nIlaria Guarise\, commercialista\, revisore contabile e consulente del Terzo settore \n\nMetodologia didattica \nLezione frontale molto pratica\, aperta agli interventi e calibrata sulle esigenze dei partecipanti \n\nDate e orari \nGiovedì 5-12 dicembre 2019 ǀ 18.00 – 20.30 \n\nSede \nCSV di Verona – Via Cantarane 24\, Verona \n\nDestinatari \n25 volontari – Tipologia: è consigliabile che il corso sia frequentato dalla figura interna che segue gli aspetti contabili dell’associazione\, tesoriere\, presidente\, amministrativi\, volontari. \n\nQuota di partecipazione \nODV 10 Euro; altre forme associative e singoli cittadini 20 Euro.\nIl pagamento della quota può essere effettuato: \n\ntramite bonifico bancario a FEDERAZIONE DEL VOLONTARIATO DI VERONA – BANCOBPMSPA VERONA (ITALY)\, BIC BAPPIT21004\, IBAN IT76O0503411704000000051276\, indicando come causale: nome + cognome+ titolo corso abbreviato;\nla sera del corso (arrivando con 10 minuti d’anticipo) con bancomat\, o altre carte\, tramite POS presente nel nostro ufficio.\n\n\nRegolamento per accedere alla formazione \nhttps://csv.verona.it/come-iscriversi-ai-corsi/ \n\nIscrizione obbligatoria \nEffettuando il login \n 
URL:https://csv.verona.it/event/formazione-calcolatrice-alla-mano-contabilita-negli-enti-del-terzo-settore/
END:VEVENT
BEGIN:VEVENT
DTSTART;TZID=Europe/Rome:20191208T160000
DTEND;TZID=Europe/Rome:20191208T190000
DTSTAMP:20260425T205635
CREATED:20191209T102509Z
LAST-MODIFIED:20191209T102509Z
UID:8151-1575820800-1575831600@csv.verona.it
SUMMARY:“V.V.B. per la vita”\, la maratona del cuore. Evento al centro commerciale Galassia
DESCRIPTION:È in corso la maratona del cuore “V.V.B. per la vita”\, l’iniziativa voluta dalle tre testate del Gruppo Athesis\, L’Arena di Verona\, Il Giornale di Vicenza e Bresciaoggi\, per dare sostegno a cinque associazioni impegnate nel settore sociale e socio-sanitario. \nLa gara del bene è partita ufficialmente lunedì 25 novembre e durerà per due settimane\, fino a domenica 8 dicembre\, durante le quali i lettori dei quotidiani e i telespettatori di TeleArena potranno donare offerte a favore di queste associazioni. \nQuest’anno c’è un valore aggiunto in questa iniziativa che si rivolge alla generosità di tanti lettori e telespettatori. Le quattro associazioni veronesi selezionate per la maratona 2019 hanno tutte il marchio Merita Fiducia\, promosso dal Centro di Servizio per il Volontariato di Verona\, una certificazione di qualità che viene data a quelle realtà che si impegnano nella trasparenza\, nella rendicontazione puntuale della loro attività dal punto di vista economico e sociale\, con la valutazione di un comitato esterno indipendente (www.meritafiducia.it). \nAlzheimer Italia – Verona Onlus\, Amici senza barriere – Daniela Zamboni Onlus\, Famiglie per l’accoglienza e Sinergia onlus Sinergia sono le realtà (Merita Fiducia) del nostro territorio protagoniste della gara di solidarietà di quest’anno. Parteciperà una quinta realtà nazionale: Airc\, l’Associazione italiana per la ricerca sul cancro\, che finanzia progetti di ricerca\, alcuni anche a Verona. Puoi conoscerle anche cliccando nella sezione dedicata di L’Arena.it. \nSingoli cittadini\, imprese\, e tutti coloro che lo desiderano possono sostenere le associazioni attraverso una donazione tramite bonifico bancario indicando il codice IBAN IT 85X05034 11711 000000006210 indicando nella causale “Liberalità progetto + nome dell’associazione che si vuole sostenere”. In alternativa sarà possibile rivolgersi allo sportello Publiadige nella sede del quotidiano L’Arena\, in corso Porta Nuova 67\, aperto dal lunedì al sabato dalle 9 alle 13 e dalle 15 alle 19 e la domenica dalle 16.30 alle 19.30.\nLe associazioni certificate Merita Fiducia sono fra le realtà soggette alle agevolazioni previste dal fisco: le donazioni possono godere di vantaggi fiscali. Scopri come. \nUna maratona che durerà quindi fino a domenica 8 dicembre\, quando si terrà il gran finale per la chiusura di “V.V.B. per la vita”: tutti al centro commerciale Galassia Verona Uno\, le associazioni festeggeranno la chiusura della raccolta fondi. Ci sarà una grande festa dalle 16.00 alle 19.00 in collaborazione con Telearena: associazioni\, singoli cittadini\, imprese\, tutti sono invitati a festeggiare in compagnia di Sergio Pellissier del Chievo\, il canoista Vladi Panato e una delegazione della White Project Band.\nLe 33 associazioni certificare festeggeranno inoltre i 10 anni del marchio Merita Fiducia e nell’occasione verranno consegnati gli attestati alle nuove certificate e i rinnovi biennali che assicurano il mantenimento dei criteri di eticità nel tempo. \n  \n Il marchio Merita Fiducia \n Il marchio Merita Fiducia è uno dei fiori all’occhiello del Centro di Servizio per il Volontariato di Verona. Si tratta di un marchio etico per le organizzazioni di volontariato veronesi\, ideato dal CSV esattamente 10 anni fa e da allora continuamente promosso nel mondo delle associazioni di volontariato\, basato su sistema valutativo biennale\, impostato su modelli internazionali e su quello dell’Istituto Italiano della Donazione e disponibile in due versioni: base e plus. \nLa trasparenza è un aspetto sempre più decisivo in ciascuna donazione\, non solo a parole ma dimostrabile\, dati alla mano\, attraverso il bilancio sociale consolidato che riporta la sommatoria dei bilanci di tutte le 33 associazioni certificate dal marchio etico Merita Fiducia. Nel 2018\, queste associazioni trasparenti sono state in grado di attrarre proventi per 4.445.000 euro di cui 1.808.000 euro da privati (donazioni\, raccolte fondi\, 5xmille\, contributi) e circa tre milioni da convenzioni con enti pubblici che equivalgono alle attività svolte da associazioni di primo soccorso e pronto intervento che complessivamente hanno in atto nove convenzioni\, 38 mezzi circolanti\, e circa 17mila servizi annui effettuati in ambiti diversi. Il mondo delle associazioni con il marchio Merita Fiducia è stato in grado di muovere circa cinquemila soci di cui oltre duemila volontari costantemente attivi (al 51 per cento uomini) che hanno erogato oltre 400mila ore di volontariato\, a fronte di 49 dipendenti che hanno lavorato per 73mila ore. \nAll’evento di domenica 8 dicembre\, ricevono il rinnovo dell’attestato base:\nAssociazione Polo Emergency Amici del Volontariato ONLUS\nAVIS – Terrossa di Roncà\nAVSS Croce Blu ONLUS\nSinergia\nAVIS – Palù\nAUSER Autogestione dei servizi e della solidarietà – Provinciale – Verona \nRicevono il rinnovo dell’attestato plus le associazioni:\nABIO Associazione per il Bambino in Ospedale\nSOS Servizio Operativo Sanitario\nAmici Senza Barriere – Daniela Zamboni\nAssociazione di Volontariato Opero Silente \nSi aggiunge una nuova certificata nel 2019:\nAssociazione Il grande cuore di Moreno ONLUS \n  \nL’impegno del CSV di Verona \nLe persone e le realtà produttive che conoscono e hanno a cuore un’associazione\, la sostengono anche economicamente. Chi non ha un’organizzazione preferita e ne vuole sostenere una\, si affida ad associazioni certificate\, perché c’è un ente terzo (il comitato valutativo) che le valuta e le garantisce\, per la tranquillità dei donatori. \nEssere certificate\, ha reso una bella opportunità per alcune associazioni Merita Fiducia: partecipare alla raccolta fondi che lo scorso anno ha permesso alle associazioni allora coinvolte di raccogliere 52.000 Euro. Inoltre consente loro una notevole visibilità\, grazie agli articoli che incessantemente L’Arena ospita giorno dopo giorno\, i servizi su Telaearena\, la diffusione nei social: una comunicazione costante fino al termine della raccolta fondi.\nUn’opportunità anche per i cittadini\, per aiutare chi sostiene il territorio volontariamente e così facendo aiuta i cittadini stessi\, con una donazione economica a supporto delle spese vive con le quali i volontari si trovano a fare i conti. \nL’impegno del CSV di Verona è stato per tutto il 2019\, in occasione dei 10 anni di vita di Merita Fiducia: durante l’intero anno il CSV di Verona ha lavorato gomito a gomito con Athesis\, che ha preso a cuore le associazioni certificare.\nAlcune delle 33 realtà hanno ottenuto servizi nella pagina dedicata al volontariato o alla cronaca e nei Tg in prima serata\, dove hanno potuto spiegare il loro impegno per il territorio\, la loro esperienza di volontariato\, ma anche i loro bisogni\, non ultimo il sostegno economico al loro impegno solidale. Poi il sodalizio per “V.V.B. per la vita”.\n \nE giovedì 21 novembre\, in prima serata\, l’intera puntata di Diretta Verona\, la trasmissione televisiva in onda su Telearena\, che le ha viste protagoniste. Un’intera trasmissione in orario di punta per parlare di Merita Fiducia\, della certificazione e delle associazioni che l’hanno ottenuta e per lanciare “V.V.B. per la vita”\, proprio con la loro partecipazione per questa seconda edizione della raccolta fondi. Con il CSV sono state ospiti ABIOAssociazione per il Bambino in Ospedale ONLUS\, Associazione Diabetici di Verona\, Associazione VeronettAmica\, AVIS Bussolengo\, AVIS e AIDO Garda\, Croce Bianca – UNIVERSO\, Essere Clown Verona (in rappresentanza per tutte)\, che hanno presentato le loro attività solidali\, e i volontari che hanno raccontato il loro impegno in prima persona. Un’opportunità per i telespettatori\, anche per conoscere temi a volte sconosciuti ai più\, indicazioni utili per tutti e uno spaccato della Verona solidale. A condurre Lucio Salgaro e Francesca Pellegrini. \nIl Centro di Servizio per il Volontariato di Verona ringrazia il gruppo Athesis per il coinvolgimento\, la collaborazione prosegue per il CSV con estremo piacere anche per il 2020.
URL:https://csv.verona.it/event/v-v-b-la-vita-la-maratona-del-cuore-evento-al-centro-commerciale-galassia/
END:VEVENT
BEGIN:VEVENT
DTSTART;TZID=Europe/Rome:20191210T180000
DTEND;TZID=Europe/Rome:20191210T200000
DTSTAMP:20260425T205635
CREATED:20190910T082942Z
LAST-MODIFIED:20190910T122612Z
UID:7854-1576000800-1576008000@csv.verona.it
SUMMARY:FORMAZIONE – Orientamento alle forme associative: che associazione siamo?
DESCRIPTION:Obiettivi \nIllustrare i diversi passaggi per costituire e fondare una associazione.\nEsaminare le diverse tipologie giuridiche di enti del Terzo settore (ETS).\nIndividuare quale forma sia la più adeguata alle esigenze sollevate dai partecipanti per le singole attività.\nIllustrare aspetti gestionali dell’associazione\, anche già costituita\, alla luce inoltre del Codice del Terzo Settore (D.lgs 117/17). \n\nContenuti  \nIl corso si articola in una prima parte frontale dove vengono illustrati i passaggi formali e gli adempimenti per costituire una associazione\, per approfondire poi le diverse tipologie di enti del Terzo settore (ETS) esaminando caratteristiche ed evoluzione. Si esamineranno i principali adempimenti gestionali associativi e quali attività si possano o meno svolgere\, e in che forme. La seconda parte dell’incontro è di confronto e risoluzione di dubbi e casi pratici relativi alle esigenze dei partecipanti\, cercando di individuare quale sia la forma di ente più funzionale al perseguimento dell’obiettivo e quali siano i passaggi formali da percorrere.\nL’incontro fornisce anche una rassegna dei principali aspetti del Codice del Terzo Settore (D.lgs 117/17) per fornire strumenti in prospettiva ai partecipanti. \n\nDocente \nElena D’Alessandro\, giurista esperta del diritto del Terzo settore\, impegnata attivamente dal 2002 in campi sociali e culturali; responsabile Ufficio Consulenze CSV di Verona. \n\nMetodologia didattica \nLezione frontale molto pratica\, aperta agli interventi e calibrata sulle esigenze dei partecipanti. \n\nDate e orari \nMartedì 10 dicembre 2019 ǀ 18.00 – 20.00 \n\nSede \nCSV di Verona – Via Cantarane 24\, Verona \n\nDestinatari \nVolontari\, aspiranti volontari\, rappresentanti degli enti del Terzo settore\, giovani e cittadinanza \n\nQuota di partecipazione  \nIl corso non prevede la quota d’iscrizione. \n\nRegolamento per accedere alla formazione \nhttps://csv.verona.it/come-iscriversi-ai-corsi/ \n\nIscrizioni \nEffettuando il login \n 
URL:https://csv.verona.it/event/formazione-orientamento-alle-forme-associative-10-dicembre/
END:VEVENT
END:VCALENDAR