BEGIN:VCALENDAR
VERSION:2.0
PRODID:-//CSV - ECPv6.15.20//NONSGML v1.0//EN
CALSCALE:GREGORIAN
METHOD:PUBLISH
X-WR-CALNAME:CSV
X-ORIGINAL-URL:https://csv.verona.it
X-WR-CALDESC:Eventi per CSV
REFRESH-INTERVAL;VALUE=DURATION:PT1H
X-Robots-Tag:noindex
X-PUBLISHED-TTL:PT1H
BEGIN:VTIMEZONE
TZID:Europe/Rome
BEGIN:DAYLIGHT
TZOFFSETFROM:+0100
TZOFFSETTO:+0200
TZNAME:CEST
DTSTART:20180325T010000
END:DAYLIGHT
BEGIN:STANDARD
TZOFFSETFROM:+0200
TZOFFSETTO:+0100
TZNAME:CET
DTSTART:20181028T010000
END:STANDARD
BEGIN:DAYLIGHT
TZOFFSETFROM:+0100
TZOFFSETTO:+0200
TZNAME:CEST
DTSTART:20190331T010000
END:DAYLIGHT
BEGIN:STANDARD
TZOFFSETFROM:+0200
TZOFFSETTO:+0100
TZNAME:CET
DTSTART:20191027T010000
END:STANDARD
BEGIN:DAYLIGHT
TZOFFSETFROM:+0100
TZOFFSETTO:+0200
TZNAME:CEST
DTSTART:20200329T010000
END:DAYLIGHT
BEGIN:STANDARD
TZOFFSETFROM:+0200
TZOFFSETTO:+0100
TZNAME:CET
DTSTART:20201025T010000
END:STANDARD
END:VTIMEZONE
BEGIN:VEVENT
DTSTART;TZID=Europe/Rome:20191008T180000
DTEND;TZID=Europe/Rome:20191008T200000
DTSTAMP:20260426T001736
CREATED:20190910T082526Z
LAST-MODIFIED:20190910T122311Z
UID:7852-1570557600-1570564800@csv.verona.it
SUMMARY:FORMAZIONE – Orientamento alle forme associative: che associazione siamo?
DESCRIPTION:Obiettivi \nIllustrare i diversi passaggi per costituire e fondare una associazione.\nEsaminare le diverse tipologie giuridiche di enti del Terzo settore (ETS).\nIndividuare quale forma sia la più adeguata alle esigenze sollevate dai partecipanti per le singole attività.\nIllustrare aspetti gestionali dell’associazione\, anche già costituita\, alla luce inoltre del Codice del Terzo Settore (D.lgs 117/17). \n\nContenuti  \nIl corso si articola in una prima parte frontale dove vengono illustrati i passaggi formali e gli adempimenti per costituire una associazione\, per approfondire poi le diverse tipologie di enti del Terzo settore (ETS) esaminando caratteristiche ed evoluzione. Si esamineranno i principali adempimenti gestionali associativi e quali attività si possano o meno svolgere\, e in che forme. La seconda parte dell’incontro è di confronto e risoluzione di dubbi e casi pratici relativi alle esigenze dei partecipanti\, cercando di individuare quale sia la forma di ente più funzionale al perseguimento dell’obiettivo e quali siano i passaggi formali da percorrere.\nL’incontro fornisce anche una rassegna dei principali aspetti del Codice del Terzo Settore (D.lgs 117/17) per fornire strumenti in prospettiva ai partecipanti. \n\nDocente \nElena D’Alessandro\, giurista esperta del diritto del Terzo settore\, impegnata attivamente dal 2002 in campi sociali e culturali; responsabile Ufficio Consulenze CSV di Verona. \n\nMetodologia didattica \nLezione frontale molto pratica\, aperta agli interventi e calibrata sulle esigenze dei partecipanti. \n\nDate e orari \nMartedì 8 ottobre 2019 ǀ 18.00 – 20.00 \n\nSede \nCSV di Verona – Via Cantarane 24\, Verona \n\nDestinatari \nVolontari\, aspiranti volontari\, rappresentanti degli enti del Terzo settore\, giovani e cittadinanza \n\nQuota di partecipazione  \nIl corso non prevede la quota d’iscrizione. \n\nRegolamento per accedere alla formazione \nhttps://csv.verona.it/come-iscriversi-ai-corsi/ \n\nIscrizioni \nEffettuando il login
URL:https://csv.verona.it/event/formazione-orientamento-alle-forme-associative-8-ottobre/
END:VEVENT
BEGIN:VEVENT
DTSTART;TZID=Europe/Rome:20191010T180000
DTEND;TZID=Europe/Rome:20191010T203000
DTSTAMP:20260426T001736
CREATED:20190910T074157Z
LAST-MODIFIED:20190910T074157Z
UID:7834-1570730400-1570739400@csv.verona.it
SUMMARY:FORMAZIONE – La risata come strumento per potenziare e sviluppare le risorse personali
DESCRIPTION:Obiettivi \nLe attività che quotidianamente si svolgono in associazione possono\, talvolta\, essere fonte di affaticamento mentale e fisico per il volontario. Partecipare all’incontro ti fornirà semplici esercizi\, da eseguire sia nei momenti critici sia come attività quotidiana\, per recuperare il benessere. Ridere ha effetti benefici profondi sia sulla mente sia sul fisico\, che sono stati scientificamente misurati e dimostrati nel corso degli anni. Il fondamento scientifico su cui si basa la “terapia” della risata è che la mente non distingue tra risata spontanea e risata indotta\, quindi si ottengono gli stessi benefici psicologici e fisiologici.\nPartecipando al corso imparerai una semplice tecnica che ti aiuterà a: \n\nabbassare i livelli di cortisolo (responsabile dello stress) per ottenere maggiore concentrazione e migliore la memoria;\nstimolare il sistema immunitario aiutandolo a prevenire le malattie;\nossigenare il corpo e la mente;\ngenerare endorfine\, gli ormoni del benessere;\nfare un eccellente esercizio cardiaco;\nsbloccare emozioni e liberare la gioia;\nmigliorare le relazioni sociali.\n\n\nContenuti \nDurante la serata si eseguiranno esercizi che\, combinano la risata incondizionata (per qualche minuto) con la respirazione diaframmatica\, porteranno un impatto profondo e benefico sul corpo e sulla mente. \n\nDocente  \nCarla Favazza – Personal coach e trainer di laughter yoga con esperienza sia nel mondo profit sia nel Terzo settore \n\nMetodologia didattica \nLezione pratica. Consigliato abbigliamento comodo e che non stringa sull’addome\, per lasciare libero il diaframma di muoversi. Ci saranno degli esercizi in movimento accessibili a tutti e per tutte le età. \n\nDate e orari \nGiovedì 10 ottobre 2019 ǀ 18.00 – 20.30 \n\nSede \nCSV di Verona – Via Cantarane 24\, Verona \n\nDestinatari \nVolontari\, aspiranti volontari\, rappresentanti degli enti del Terzo settore\, giovani e cittadinanza \n\nQuota di partecipazione \nODV 10 Euro; altre forme associative e singoli cittadini 20 Euro.\nIl pagamento della quota può essere effettuato: \n\ntramite bonifico bancario a FEDERAZIONE DEL VOLONTARIATO DI VERONA – BANCOBPMSPA VERONA (ITALY)\, BIC BAPPIT21004\, IBAN IT76O0503411704000000051276\, indicando come causale: nome + cognome + titolo corso abbreviato;\nla sera del corso (arrivando con 10 minuti d’anticipo) con bancomat\, o altre carte\, tramite POS presente nel nostro ufficio.\n\n\nRegolamento per accedere alla formazione \nhttps://csv.verona.it/come-iscriversi-ai-corsi/ \n  \nIscrizione obbligatoria \nEffettuando il login \n 
URL:https://csv.verona.it/event/formazione-la-risata-strumento-potenziare-sviluppare-le-risorse-personali/
END:VEVENT
BEGIN:VEVENT
DTSTART;TZID=Europe/Rome:20191016T190000
DTEND;TZID=Europe/Rome:20191016T210000
DTSTAMP:20260426T001736
CREATED:20190910T143254Z
LAST-MODIFIED:20191009T075122Z
UID:7866-1571252400-1571259600@csv.verona.it
SUMMARY:INCONTRO – Peschiera del Garda\, Ricerca di volontari e comunicazione. Di’ la tua
DESCRIPTION:Sei un’associazione\, un ente del Terzo settore che opera prevalentemente attraverso volontari? O un volontario con una passione per la tua attività di volontariato\, un interesse a raccontarla\, a condividere la tua esperienza? \nIl CSV di Verona sta avviando un percorso di riflessione per elaborare e rilasciare una campagna di comunicazione multicanale di promozione e valorizzazione del volontariato. \nNon si può parlare di volontariato senza i volontari e gli enti che li ospitano\, per questo ci serve il tuo aiuto e ci piacerebbe ascoltare le tue impressioni. \nTra settembre e dicembre 2019 saremo presenti su vari territori della provincia di Verona attraverso degli incontri informali di raccolta informazioni\, ascolto dei bisogni\, identificazione di criticità e buone pratiche nella comunicazione e nel people raising (la ricerca di volontari). \nTi va di unirti a noi? Basta la volontà di condividere un paio d’ore con noi e le tue impressioni. Raggiungici a uno degli incontri in calendario. E se hai degli amici che pensi potrebbero essere interessati\, faglielo sapere condividendo l’invito. \n  \nLocation e calendario: \n  \nMercoledì 11 settembre\, ore 18.30 – 20.30\nGiardino Magenta Via Magenta\, 37069 Villafranca di Verona \n  \nGiovedì 19 settembre\, ore 19.00 – 21.00\nPresso la Yurta dell’associazione Radici in Movimento a Roverchiaretta\nVia Anesi n.27\, Roverchiara \n  \nMercoledì  25 settembre\, ore 18.30 – 20.30\nParco di Villa Buri\, Via Bernini Buri 99\, 37132 Verona\n(Nella zona adiacente al bar. In caso di pioggia ci troveremo all’interno della Villa in sala segnalata) \n  \nMercoledì 16 ottobre\, ore 19.00 – 21.00\nMeet Hostel\, Via Benaco\, 14\, 37019 Peschiera del Garda \n  \nMercoledì 23 ottobre\, 19.00 – 21.00\nLa Genovesa\, Strada della Genovesa 31/a Verona\n(Dietro al casello autostradale di Verona Sud) \n  \nMercoledì 30 ottobre\, 19.00 – 21.00\nFabLab – Viale del Lavoro\, 2\, 37023 Grezzana VR \n  \nMercoledì 06 novembre ore 19.00 – 21.00\nLa Coopera 1945\, via Stella\, 40\, 37024 Arbizzano\, Negrar \n  \nMercoledì 13 novembre ore 19.00 – 21.00\nCircolo NOI di Caldiero (Casa Parrocchiale Giovanni Paolo II)\, Corso De Gasperi 16\, 37042 Caldiero \n  \nMercoledì 20 novembre ore 18.30 – 20.30\nCSV Verona\, Via Cantarane 24\, 37129 Verona \n  \nTutti gli incontri sono aggiornati e segnalati nel calendario eventi \n  \nPartner  \nLa campagna e gli incontri autunnali sono realizzati dal CSV di Verona in collaborazione con Amplificatore Culturale e Salmon Magazine. Amplificatore Culturale è uno studio di consulenza che si occupa di design strategico. È un punto di riferimento per giovani e associazioni culturali. \nGli incontri saranno supportati dall’accompagnamento scientifico di Michele Bertani di Economics Living Lab. \n  \nInformazioni\nCentro di Servizio per il Volontariato (CSV) di Verona\nSegreteria – Daria Rossi\nTel. 045 8011978 – info@csv.verona.it \n 
URL:https://csv.verona.it/event/incontro-peschiera-del-garda-ricerca-volontari-comunicazione-la-tua/
END:VEVENT
BEGIN:VEVENT
DTSTART;TZID=Europe/Rome:20191017T180000
DTEND;TZID=Europe/Rome:20191017T193000
DTSTAMP:20260426T001736
CREATED:20190910T080020Z
LAST-MODIFIED:20190910T080020Z
UID:7844-1571335200-1571340600@csv.verona.it
SUMMARY:FORMAZIONE – A parole siamo tutti bravi ma spesso non ci capiamo
DESCRIPTION:Obiettivi \nTi sarà capitato di doverti confrontare con qualcuno e di non riuscire a farti capire come vorresti. In quella situazione ti sarà venuto il sospetto che l’altro proprio non capisca oppure che capisca ma che poi non riesca a interiorizzare il tuo punto di vista. In realtà\, in queste situazioni\, è molto probabile che l’altro\, sotto l’aspetto comunicativo\, parli una lingua diversa dalla tua.\nQuesto breve corso\, attraverso spiegazioni\, giochi e attività pratiche\, ti aiuterà a scoprire il tuo linguaggio preferito e\, nel contempo\, ti stimolerà a impararne di nuovi\, perché come dicono gli insegnanti a scuola “se non sai parlare almeno due lingue difficilmente esplorerai davvero il mondo”\, anche quello fatto dalle persone che ti circondano. \n\nContenuti  \nAttraverso un percorso teorico ed esperienziale toccheremo i seguenti temi: \n\nle lenti attraverso le quali vediamo il mondo – il modo in cui ci differenziamo;\ncome dire le cose: stile direttivo e stile interattivo (pregi e difetti\, quando è utile usarli e quando no);\nparlare la lingua dell’altro: imparare a riconoscere lo stile del nostro interlocutore e a sintonizzarsi con lui.\n\n\nDocente \nCristiano Pravadelli\, psicologo\, formatore e coach certificato in process communication model (PCM)\, si occupa di comunicazione\, problem solving e strategie di concentrazione. \n\nMetodologia didattica \nLezione frontale molto pratica\, aperta agli interventi e calibrata sulle esigenze dei partecipanti \n\nDate e orari \nGiovedì 17 ottobre 2019 ǀ 18.00 – 20.30 \n\nSede \nCSV di Verona – Via Cantarane 24\, Verona \n\nDestinatari \nVolontari\, aspiranti volontari\, rappresentanti degli Enti del Terzo settore\, giovani e cittadinanza \n\nQuota di partecipazione \nODV 10 Euro; altre forme associative e singoli cittadini 20 Euro.\nIl pagamento della quota può essere effettuato: \n\ntramite bonifico bancario a FEDERAZIONE DEL VOLONTARIATO DI VERONA – BANCOBPMSPA VERONA (ITALY)\, BIC BAPPIT21004\, IBAN IT76O0503411704000000051276\, indicando come causale: nome + cognome + titolo corso abbreviato;\nla sera del corso (arrivando con 10 minuti d’anticipo) con bancomat\, o altre carte\, tramite POS presente nel nostro ufficio.\n\n\nRegolamento per accedere alla formazione \nhttps://csv.verona.it/come-iscriversi-ai-corsi/ \n\nIscrizione obbligatoria \nEffettuando il login \n  \n 
URL:https://csv.verona.it/event/formazione-parole-tutti-bravi-spesso-non-ci-capiamo/
END:VEVENT
BEGIN:VEVENT
DTSTART;TZID=Europe/Rome:20191022T180000
DTEND;TZID=Europe/Rome:20191022T200000
DTSTAMP:20260426T001736
CREATED:20190910T072830Z
LAST-MODIFIED:20190910T122346Z
UID:7825-1571767200-1571774400@csv.verona.it
SUMMARY:FORMAZIONE – Orientamento alle forme associative: che associazione siamo?
DESCRIPTION:Obiettivi \nIllustrare i diversi passaggi per costituire e fondare una associazione.\nEsaminare le diverse tipologie giuridiche di enti del Terzo settore (ETS).\nIndividuare quale forma sia la più adeguata alle esigenze sollevate dai partecipanti per le singole attività.\nIllustrare aspetti gestionali dell’associazione\, anche già costituita\, alla luce inoltre del Codice del Terzo Settore (D.lgs 117/17). \n\nContenuti  \nIl corso si articola in una prima parte frontale dove vengono illustrati i passaggi formali e gli adempimenti per costituire una associazione\, per approfondire poi le diverse tipologie di enti del Terzo settore (ETS) esaminando caratteristiche ed evoluzione. Si esamineranno i principali adempimenti gestionali associativi e quali attività si possano o meno svolgere\, e in che forme. La seconda parte dell’incontro è di confronto e risoluzione di dubbi e casi pratici relativi alle esigenze dei partecipanti\, cercando di individuare quale sia la forma di ente più funzionale al perseguimento dell’obiettivo e quali siano i passaggi formali da percorrere.\nL’incontro fornisce anche una rassegna dei principali aspetti del Codice del Terzo Settore (D.lgs 117/17) per fornire strumenti in prospettiva ai partecipanti. \n\nDocente \nElena D’Alessandro\, giurista esperta del diritto del Terzo settore\, impegnata attivamente dal 2002 in campi sociali e culturali; responsabile Ufficio Consulenze CSV di Verona. \n  \nMetodologia didattica \nLezione frontale molto pratica\, aperta agli interventi e calibrata sulle esigenze dei partecipanti. \n  \nDate e orari \nMartedì 22 ottobre 2019 ǀ 18.00 – 20.00 \n  \nSede  \nCSV di Verona – Via Cantarane 24\, Verona \n  \nDestinatari  \nVolontari\, aspiranti volontari\, rappresentanti degli enti del Terzo settore\, giovani e cittadinanza \n  \nQuota di partecipazione  \nIl corso non prevede la quota d’iscrizione. \n  \nRegolamento per accedere alla formazione \nhttps://csv.verona.it/come-iscriversi-ai-corsi/ \n  \nIscrizioni \nEffettuando il login
URL:https://csv.verona.it/event/formazione-orientamento-alle-forme-associative-22-ottobre/
END:VEVENT
BEGIN:VEVENT
DTSTART;TZID=Europe/Rome:20191023T190000
DTEND;TZID=Europe/Rome:20191023T210000
DTSTAMP:20260426T001736
CREATED:20190910T143601Z
LAST-MODIFIED:20191022T123243Z
UID:7868-1571857200-1571864400@csv.verona.it
SUMMARY:INCONTRO – Verona\, Ricerca di volontari e comunicazione. Di’ la tua
DESCRIPTION:Sei un’associazione\, un ente del Terzo settore che opera prevalentemente attraverso volontari? O un volontario con una passione per la tua attività di volontariato\, un interesse a raccontarla\, a condividere la tua esperienza? \nIl CSV di Verona sta avviando un percorso di riflessione per elaborare e rilasciare una campagna di comunicazione multicanale di promozione e valorizzazione del volontariato. \nNon si può parlare di volontariato senza i volontari e gli enti che li ospitano\, per questo ci serve il tuo aiuto e ci piacerebbe ascoltare le tue impressioni. \nTra settembre e dicembre 2019 saremo presenti su vari territori della provincia di Verona attraverso degli incontri informali di raccolta informazioni\, ascolto dei bisogni\, identificazione di criticità e buone pratiche nella comunicazione e nel people raising (la ricerca di volontari). \nTi va di unirti a noi? Basta la volontà di condividere un paio d’ore con noi e le tue impressioni. Raggiungici a uno degli incontri in calendario. E se hai degli amici che pensi potrebbero essere interessati\, faglielo sapere condividendo l’invito. \n  \nLocation e calendario: \n  \nMercoledì 11 settembre\, ore 18.30 – 20.30\nGiardino Magenta Via Magenta\, 37069 Villafranca di Verona \n  \nGiovedì 19 settembre\, ore 19.00 – 21.00\nPresso la Yurta dell’associazione Radici in Movimento a Roverchiaretta\nVia Anesi n.27\, Roverchiara \n  \nMercoledì  25 settembre\, ore 18.30 – 20.30\nParco di Villa Buri\, Via Bernini Buri 99\, 37132 Verona\n(Nella zona adiacente al bar. In caso di pioggia ci troveremo all’interno della Villa in sala segnalata) \n  \nMercoledì 16 ottobre\, ore 19.00 – 21.00\nMeet Hostel\, Via Benaco\, 14\, 37019 Peschiera del Garda \n  \nMercoledì 23 ottobre\, 19.00 – 21.00\nLa Genovesa\, Strada della Genovesa 31/a Verona\n(Dietro al casello autostradale di Verona Sud) \n  \nMercoledì 30 ottobre\, 19.00 – 21.00\nFabLab – Viale del Lavoro\, 2\, 37023 Grezzana VR \n  \nMercoledì 06 novembre ore 19.00 – 21.00\nCircolo NOI di Caldiero (Casa Parrocchiale Giovanni Paolo II)\, Corso De Gasperi 16\, 37042 Caldiero \n  \nMercoledì 13 novembre ore 19.00 – 21.00\nLa Coopera 1945\, via Stella\, 40\, 37024 Arbizzano\, Negrar \n  \nMercoledì 20 novembre ore 18.30 – 20.30\nCSV Verona\, Via Cantarane 24\, 37129 Verona \n  \nTutti gli incontri sono aggiornati e segnalati nel calendario eventi \n  \nPartner  \nLa campagna e gli incontri autunnali sono realizzati dal CSV di Verona in collaborazione con Amplificatore Culturale e Salmon Magazine. Amplificatore Culturale è uno studio di consulenza che si occupa di design strategico. È un punto di riferimento per giovani e associazioni culturali. \nGli incontri saranno supportati dall’accompagnamento scientifico di Michele Bertani di Economics Living Lab. \n  \nInformazioni\nCentro di Servizio per il Volontariato (CSV) di Verona\nSegreteria – Daria Rossi\nTel. 045 8011978 – info@csv.verona.it \n 
URL:https://csv.verona.it/event/incontro-verona-ricerca-volontari-comunicazione-la-tua_23-ottobre/
END:VEVENT
BEGIN:VEVENT
DTSTART;TZID=Europe/Rome:20191024T180000
DTEND;TZID=Europe/Rome:20191024T193000
DTSTAMP:20260426T001736
CREATED:20190910T074922Z
LAST-MODIFIED:20190910T103254Z
UID:7838-1571940000-1571945400@csv.verona.it
SUMMARY:INCONTRO –  Ti mandiamo a quel paese. Incontro informativo sulle opportunità di volontariato all’estero
DESCRIPTION:Obiettivi \nIncontro dedicato ai giovani\, per illustrare in cosa consiste il progetto di mobilità internazionale del Corpo Europeo di Solidarietà e come può arricchire il bagaglio personale e professionale; fornire una panoramica generale anche sulle altre opportunità di volontariato all’estero dedicate ai giovani. \n\nContenuti  \nDurante l’incontro si presenteranno le opportunità di volontariato all’estero offerte dall’Unione Europea che garantiscono supporto economico e formativo. Si introdurranno anche altre opportunità di volontariato come i campi di volontariato\, gli scambi giovanili\, i progetti di solidarietà\, DiscorverEU\, e molte altre occasioni. \n\nDocente \nFrancesca Rossi – Sociologa di formazione e di spirito\, da diversi anni lavora nel mondo del Terzo settore occupandosi di politiche giovanili; dal 2018 è responsabile dell’Ufficio giovani del CSV di Verona. \n\nMetodologia didattica \nL’incontro avrà un approccio molto pratico. Verranno proposti esempi concreti\, si lascerà ampio spazio a domande e al confronto per rendere i contenuti il più possibile chiari e comprensibili. \n\nDate e orari \nGiovedì 24 ottobre 2019 ǀ 18.00 – 19.00 \n\nSede \nCSV di Verona – Via Cantarane 24\, Verona \n\nDestinatari \nGiovani di età compresa tra i 17 e i 30 anni \n\nQuota di partecipazione \nIl corso non prevede la quota d’iscrizione \n\nIscrizioni \nEffettuando il login \n  \n  \n 
URL:https://csv.verona.it/event/incontro-ti-mandiamo-quel-paese-incontro-informativo-sulle-opportunita-volontariato-allestero/
END:VEVENT
BEGIN:VEVENT
DTSTART;TZID=Europe/Rome:20191030T190000
DTEND;TZID=Europe/Rome:20191030T210000
DTSTAMP:20260426T001736
CREATED:20190911T124320Z
LAST-MODIFIED:20191022T123330Z
UID:7888-1572462000-1572469200@csv.verona.it
SUMMARY:INCONTRO – Grezzana\, Ricerca di volontari e comunicazione. Di’ la tua
DESCRIPTION:Sei un’associazione\, un ente del Terzo settore che opera prevalentemente attraverso volontari? O un volontario con una passione per la tua attività di volontariato\, un interesse a raccontarla\, a condividere la tua esperienza? \nIl CSV di Verona sta avviando un percorso di riflessione per elaborare e rilasciare una campagna di comunicazione multicanale di promozione e valorizzazione del volontariato. \nNon si può parlare di volontariato senza i volontari e gli enti che li ospitano\, per questo ci serve il tuo aiuto e ci piacerebbe ascoltare le tue impressioni. \nTra settembre e dicembre 2019 saremo presenti su vari territori della provincia di Verona attraverso degli incontri informali di raccolta informazioni\, ascolto dei bisogni\, identificazione di criticità e buone pratiche nella comunicazione e nel people raising (la ricerca di volontari). \nTi va di unirti a noi? Basta la volontà di condividere un paio d’ore con noi e le tue impressioni. Raggiungici a uno degli incontri in calendario. E se hai degli amici che pensi potrebbero essere interessati\, faglielo sapere condividendo l’invito. \n  \nLocation e calendario: \n  \nMercoledì 11 settembre\, ore 18.30 – 20.30\nGiardino Magenta Via Magenta\, 37069 Villafranca di Verona \n  \nGiovedì 19 settembre\, ore 19.00 – 21.00\nPresso la Yurta dell’associazione Radici in Movimento a Roverchiaretta\nVia Anesi n.27\, Roverchiara \n  \nMercoledì  25 settembre\, ore 18.30 – 20.30\nParco di Villa Buri\, Via Bernini Buri 99\, 37132 Verona\n(Nella zona adiacente al bar. In caso di pioggia ci troveremo all’interno della Villa in sala segnalata) \n  \nMercoledì 16 ottobre\, ore 19.00 – 21.00\nMeet Hostel\, Via Benaco\, 14\, 37019 Peschiera del Garda \n  \nMercoledì 23 ottobre\, 19.00 – 21.00\nLa Genovesa\, Strada della Genovesa 31/a Verona\n(Dietro al casello autostradale di Verona Sud) \n  \nMercoledì 30 ottobre\, 19.00 – 21.00\nFabLab – Viale del Lavoro\, 2\, 37023 Grezzana VR \n  \nMercoledì 06 novembre ore 19.00 – 21.00\nCircolo NOI di Caldiero (Casa Parrocchiale Giovanni Paolo II)\, Corso De Gasperi 16\, 37042 Caldiero \n  \nMercoledì 13 novembre ore 19.00 – 21.00\nLa Coopera 1945\, via Stella\, 40\, 37024 Arbizzano\, Negrar \n  \nMercoledì 20 novembre ore 18.30 – 20.30\nCSV Verona\, Via Cantarane 24\, 37129 Verona \n  \nTutti gli incontri sono aggiornati e segnalati nel calendario eventi \n  \nPartner  \nLa campagna e gli incontri autunnali sono realizzati dal CSV di Verona in collaborazione con Amplificatore Culturale e Salmon Magazine. Amplificatore Culturale è uno studio di consulenza che si occupa di design strategico. È un punto di riferimento per giovani e associazioni culturali. \nGli incontri saranno supportati dall’accompagnamento scientifico di Michele Bertani di Economics Living Lab. \n  \nInformazioni\nCentro di Servizio per il Volontariato (CSV) di Verona\nSegreteria – Daria Rossi\nTel. 045 8011978 – info@csv.verona.it \n 
URL:https://csv.verona.it/event/incontro-grezzana-ricerca-volontari-comunicazione-la-tua/
END:VEVENT
END:VCALENDAR