BEGIN:VCALENDAR
VERSION:2.0
PRODID:-//CSV - ECPv6.15.20//NONSGML v1.0//EN
CALSCALE:GREGORIAN
METHOD:PUBLISH
X-ORIGINAL-URL:https://csv.verona.it
X-WR-CALDESC:Eventi per CSV
REFRESH-INTERVAL;VALUE=DURATION:PT1H
X-Robots-Tag:noindex
X-PUBLISHED-TTL:PT1H
BEGIN:VTIMEZONE
TZID:Europe/Rome
BEGIN:DAYLIGHT
TZOFFSETFROM:+0100
TZOFFSETTO:+0200
TZNAME:CEST
DTSTART:20180325T010000
END:DAYLIGHT
BEGIN:STANDARD
TZOFFSETFROM:+0200
TZOFFSETTO:+0100
TZNAME:CET
DTSTART:20181028T010000
END:STANDARD
BEGIN:DAYLIGHT
TZOFFSETFROM:+0100
TZOFFSETTO:+0200
TZNAME:CEST
DTSTART:20190331T010000
END:DAYLIGHT
BEGIN:STANDARD
TZOFFSETFROM:+0200
TZOFFSETTO:+0100
TZNAME:CET
DTSTART:20191027T010000
END:STANDARD
BEGIN:DAYLIGHT
TZOFFSETFROM:+0100
TZOFFSETTO:+0200
TZNAME:CEST
DTSTART:20200329T010000
END:DAYLIGHT
BEGIN:STANDARD
TZOFFSETFROM:+0200
TZOFFSETTO:+0100
TZNAME:CET
DTSTART:20201025T010000
END:STANDARD
END:VTIMEZONE
BEGIN:VEVENT
DTSTART;TZID=Europe/Rome:20190613T180000
DTEND;TZID=Europe/Rome:20190613T210000
DTSTAMP:20260426T061603
CREATED:20190110T114600Z
LAST-MODIFIED:20190604T134618Z
UID:7026-1560448800-1560459600@csv.verona.it
SUMMARY:FORMAZIONE - Sicurezza nell’organizzazione di eventi
DESCRIPTION:Obiettivi \nA partire dal 2017 si sono susseguite disposizioni inerenti la sicurezza degli eventi sia da un punto di vista di sicurezza pubblica che di protezione e tutela delle persone (così detta safety&security). Questi diversi provvedimenti\, a partire dal Ministero e via viva fino alle amministrazioni locali\, ha comportato ora un aggravio procedurale\, ora un parziale temperamento\, con la Direttiva del 2018\, per quanto riguarda l’organizzazione di eventi. Negli ultimi anni\, sono tornati all’attenzione\, quindi\, sul tema della sicurezza eventi\, aspetti inerenti al metodo\, alle modalità di individuazione del rischio e anche ad un forte richiamo alla responsabilità da parte di amministrazioni locali\, che concedono il permesso per gli eventi e devono quindi analizzare rischi e prescrizioni\, e da parte degli stessi organizzatori dell’evento. La valutazione delle singole vulnerabilità dell’evento\, in ogni caso\, è sempre obbligatoria e viene collegata ad altre norme\, già in vigore ma ora fortemente richiamate\, come la normativa sull’antincendio. Il tema è di particolare interesse per tutte le associazioni che organizzano eventi\, anche di dimensioni ridotte. Il corso intende fornire una analisi del contesto\, informare sugli adempimenti di legge e sugli strumenti per programmare eventi sicuri. \n  \nContenuti \nI contenuti del corso saranno relativi al contesto in cui è sviluppata negli ultimi anni la normativa e la procedura relative alle modalità di individuazione del rischio e le responsabilità. \n\nCircolari Ministero e Prefetture e normativa del 2017\nDirettiva 2018 contenente rivisitazione su safety&security con semplificazione di alcune procedure\nAdempimenti per eventi sicuri\nPassaggi burocratici\nEsempi pratici e strumenti per orientarsi\n\n  \nDocente \nFrancesco Bazzoni\, esperto di sicurezza degli eventi e consulente per enti non profit\, imprese e pubbliche amministrazioni. \n  \nMetodologia didattica \nLezione frontale\, aperta agli interventi. \n  \nDate e orari \nGiovedì 13 giugno 2019 ǀ 18.00 – 21.00 \n  \nSede  \nCSV di Verona – Via Cantarane 24\, Verona \n  \nDestinatari  \n25 volontari – Tipologia: presidenti\, membri del direttivo\, dipendenti\, volontari\, persone interessate al tema \n  \nQuota di partecipazione  \nOdV 10 Euro; altre forme associative e singoli cittadini 20 Euro \n  \nIscrizioni \nEffettuando il login \n  \n 
URL:https://csv.verona.it/event/formazione-sicurezza-nellorganizzazione-eventi/
END:VEVENT
BEGIN:VEVENT
DTSTART;TZID=Europe/Rome:20190618T180000
DTEND;TZID=Europe/Rome:20190618T200000
DTSTAMP:20260426T061603
CREATED:20190110T120114Z
LAST-MODIFIED:20190124T140240Z
UID:7054-1560880800-1560888000@csv.verona.it
SUMMARY:SEMINARIO - Come costituire una associazione
DESCRIPTION:Obiettivi \nIllustrare i diversi passaggi per costituire e fondare una associazione.\nEsaminare le diverse tipologie giuridiche di enti del Terzo settore.\nIndividuare quale forma sia la più adeguata alle esigenze sollevate dai partecipanti per le singole attività.\nIllustrare aspetti gestionali dell’associazione\, anche già costituita\, anche alla luce del Codice del Terzo Settore (D.lgs 117/17). \n  \nContenuti  \nIl seminario si articola in una prima parte frontale dove vengono illustrati i passaggi formali e gli adempimenti per costituire una associazione\, per approfondire poi le diverse tipologie di enti del Terzo settore esaminando caratteristiche ed evoluzione. Si esamineranno i principali adempimenti gestionali associativi e quali attività si possano o meno svolgere\, e in che forme. La seconda parte dell’incontro è di confronto e risoluzione di dubbi e casi pratici relativi alle esigenze dei partecipanti\, cercando di individuare quale sia la forma di ente più funzionale al perseguimento dell’obiettivo e quali siano i passaggi formali da percorrere.\nL’incontro fornisce anche una rassegna dei principali aspetti del Codice del Terzo Settore (D.lgs 117/17) per fornire strumenti in prospettiva ai partecipanti. \n  \nDocente \nElena D’Alessandro\, responsabile Ufficio Consulenze CSV di Verona \n  \nMetodologia didattica \nLezione frontale molto pratica\, aperta agli interventi e calibrata sulle esigenze dei partecipanti \n  \nDate e orari \nMartedì 18 giugno 2019 ǀ 18.00 – 20.00 \n  \nSede  \nCSV di Verona – Via Cantarane 24\, Verona \n  \nDestinatari  \n25 volontari – Tipologia: volontari\, persone interessate al tema \n  \nQuota di partecipazione  \nIl seminario non prevede la quota d’iscrizione \n  \nIscrizioni \nEffettuando il login \n  \n 
URL:https://csv.verona.it/event/seminario-costituire-associazione-2-2-3-2-2-2-2/
END:VEVENT
END:VCALENDAR