BEGIN:VCALENDAR
VERSION:2.0
PRODID:-//CSV - ECPv6.15.20//NONSGML v1.0//EN
CALSCALE:GREGORIAN
METHOD:PUBLISH
X-WR-CALNAME:CSV
X-ORIGINAL-URL:https://csv.verona.it
X-WR-CALDESC:Eventi per CSV
REFRESH-INTERVAL;VALUE=DURATION:PT1H
X-Robots-Tag:noindex
X-PUBLISHED-TTL:PT1H
BEGIN:VTIMEZONE
TZID:Europe/Rome
BEGIN:DAYLIGHT
TZOFFSETFROM:+0100
TZOFFSETTO:+0200
TZNAME:CEST
DTSTART:20160327T010000
END:DAYLIGHT
BEGIN:STANDARD
TZOFFSETFROM:+0200
TZOFFSETTO:+0100
TZNAME:CET
DTSTART:20161030T010000
END:STANDARD
BEGIN:DAYLIGHT
TZOFFSETFROM:+0100
TZOFFSETTO:+0200
TZNAME:CEST
DTSTART:20170326T010000
END:DAYLIGHT
BEGIN:STANDARD
TZOFFSETFROM:+0200
TZOFFSETTO:+0100
TZNAME:CET
DTSTART:20171029T010000
END:STANDARD
BEGIN:DAYLIGHT
TZOFFSETFROM:+0100
TZOFFSETTO:+0200
TZNAME:CEST
DTSTART:20180325T010000
END:DAYLIGHT
BEGIN:STANDARD
TZOFFSETFROM:+0200
TZOFFSETTO:+0100
TZNAME:CET
DTSTART:20181028T010000
END:STANDARD
END:VTIMEZONE
BEGIN:VEVENT
DTSTART;TZID=Europe/Rome:20171125T143000
DTEND;TZID=Europe/Rome:20171125T170000
DTSTAMP:20260420T095216
CREATED:20171121T151425Z
LAST-MODIFIED:20171121T151425Z
UID:5127-1511620200-1511629200@csv.verona.it
SUMMARY:Volontariato a servizio della cultura\, incontro di formazione
DESCRIPTION:Il volontariato culturale è in straordinaria crescita. Complice forse un rinnovato desiderio di riscoprire le proprie radici e di valorizzare cultura e patrimonio artistico delle nostre città\, si assiste a un vero e proprio aumento di adesioni alle iniziative di promozione culturale. Tra gli esempi più recenti\, la partecipazione dei veronesi al progetto di volontariato “Verona Minor Hierusalem\, una città da valorizzare assieme”. In un anno\, almeno 350 persone hanno risposto all’appello per offrire 8 ore mensili al servizio e accoglienza nelle cinque chiese dell’itinerario “Rinascere dall’acqua Verona Aldilà del fiume”. Si tratta in maggioranza di adulti tra i 50 ai 70 anni; professionisti in pensione\, insegnanti\, amanti dell’arte. A questi si aggiungono i più di 400 studenti che\, tra lo scorso anno scolastico e quello appena iniziato\, hanno chiesto di potere svolgere all’interno di questo progetto la propria esperienza di alternanza scuola-lavoro. A questi si aggiungono poi decine e decine di studenti universitari\, molto interessati a svolgere in questo campo stage e tirocini\, ricerche e tesi di laurea. \nNumeri indicativi di un fenomeno senza dubbio molto interessante\, quindi\, che costituisce anche lo spunto su cui è stato costruito il seminario “Il volontariato culturale: generosità\, organizzazione e visione” promosso da “Verona Minor Hierusalem” nel giorno del proprio compleanno\, sabato 25 novembre (14.30 – 17.00) in Sala dei Vescovi\, Vescovado\, Verona. \nTra i relatori\, due consulenti del CSV\, una ricercatrice universitaria\, una giovane psicologa. I temi sono quelli della recente riforma del Terzo settore\, per quanto riguarda il volontariato nella cultura\, e diversi approfondimenti sul profilo e l’esperienza del volontario: dalle motivazioni di partenza alla gratificazione personale. \nL’appuntamento\, principalmente rivolto ai volontari della Verona Minor Hierusalem\, è aperto a tutti i volontari e\, naturalmente\, alla città. \nPer info: segreteria@veronaminorhierusalem.it \n 
URL:https://csv.verona.it/event/volontariato-a-servizio-della-cultura-incontro-di-formazione/
LOCATION:Sala dei Vescovi\, Piazza Vescovado 7\, Verona
END:VEVENT
BEGIN:VEVENT
DTSTART;TZID=Europe/Rome:20171125T090000
DTEND;TZID=Europe/Rome:20171125T130000
DTSTAMP:20260420T095216
CREATED:20171020T094727Z
LAST-MODIFIED:20171020T095419Z
UID:4256-1511600400-1511614800@csv.verona.it
SUMMARY:FORMAZIONE Consiglio Direttivo e fundraising: come gestire le dinamiche relazionali tra gestione e operatività
DESCRIPTION:Obiettivi:  \nIl corso si prefigge di analizzare la dinamica relazionale che si svolge normalmente all’interno delle organizzazioni non profit e di volontariato\, tra i soci e/o associati ed il Consiglio Direttivo o CdA. Il focus sarà poi sulle dinamiche che si verificano una volta che si attiva il fundraising\, tra il fundraiser e la governance dell’organizzazione. Obiettivo\, quindi\, è quello di accompagnare i partecipanti a saper leggere ed interpretare le situazioni così da trovare le giuste chiavi di lettura al fine di creare un rapporto sinergico tra gestione ed operatività\, tra funzioni e livelli decisionali. Solo così il fundraising potrà essere legittimato all’interno dell’organizzazione. \nPer iscriversi (codice corso 1724)
URL:https://csv.verona.it/event/formazione-consiglio-direttivo-e-fundraising-come-gestire-le-dinamiche-relazionali-tra-gestione-e-operativita/
LOCATION:CSV\, Via Cantarane 24\, Verona\, 37129\, Italia
END:VEVENT
BEGIN:VEVENT
DTSTART;TZID=Europe/Rome:20171123T180000
DTEND;TZID=Europe/Rome:20171123T180000
DTSTAMP:20260420T095216
CREATED:20171107T081304Z
LAST-MODIFIED:20171117T113617Z
UID:5000-1511460000-1511460000@csv.verona.it
SUMMARY:Riforma del Terzo Settore: due incontri promossi dal Centro di Servizio per il Volontariato di Verona a Legnago
DESCRIPTION:Si è concluso il percorso della Riforma del Terzo Settore con il Decreto 117/17 che ha emanato il nuovo Codice del Terzo Settore: tante sono le novità per l’associazionismo\, che il Centro di Servizio per il Volontariato di Verona presenterà in due incontri dedicati agli Enti del Terzo settore della zona di Legnago. \nLa L. delega 106/16\, aveva indicato la direzione per il Governo: la redazione di un Codice del Terzo Settore per disciplinare finalmente la varia e articolata disciplina di Associazioni\, Fondazioni\, Comitati e Imprese Sociali in modo organico e unitario. Il Decreto 117/17\, entrato in vigore il 3 agosto di quest’anno\, espressamente riconosce il valore del volontariato e la funzione sociale degli Enti del Terzo Settore. Inoltre ne dà una definizione giuridica e fornisce regole sull’ordinamento\, sulle agevolazioni e sulle attività. Il primo incontro in programma illustrerà i principali punti della riforma e le novità rispetto alla normativa precedente. Il secondo incontro prevede un approfondimento sulle nuove forme associative e la loro gestione. \nI cambiamenti più significativi per gli Enti del Terzo Settore entreranno in vigore tra il 2018 e il 2019\, nel frattempo è bene approfondire le principali novità in vista contenute nella norma\, anche se per alcune previsioni sarà necessario attendere i Decreti ministeriali attuativi previsti nei prossimi mesi. \nI due incontri ai quali sono invitati tutti gli Enti del Terzo settore del territorio si terranno giovedì 23 novembre e giovedì 14 dicembre 2017 nella Sala riunioni del Centro attività sociali di via XXIV Maggio 10\, Legnago ore 18-20. \nPer informazioni è possibile contattare Elena D’Alessandro\, Ufficio Consulenze: consulenze@csv.verona.it – tel. 045 8011978 interno 4.
URL:https://csv.verona.it/event/riforma-del-terzo-settore-due-incontri-promossi-dal-centro-di-servizio-per-il-volontariato-di-verona-a-legnago/
LOCATION:Legnago\, via XXIV Maggio 10\, Legnago\, Italia
END:VEVENT
BEGIN:VEVENT
DTSTART;TZID=Europe/Rome:20171123T170000
DTEND;TZID=Europe/Rome:20171123T180000
DTSTAMP:20260420T095216
CREATED:20171020T101009Z
LAST-MODIFIED:20171020T103733Z
UID:4294-1511456400-1511460000@csv.verona.it
SUMMARY:Incontro informativo sullo SVE - Servizio Volontariato Europeo
DESCRIPTION:Obiettivi \nIllustrare ai giovani in che cosa consiste il progetto di mobilità internazionale SVE Servizio Volontario Europeo e come può arricchire il loro bagaglio personale e professionale. \nPer iscriversi (codice corso 1740)
URL:https://csv.verona.it/event/incontro-informativo-sullo-sve-servizio-volontariato-europeo-2-appuntamento/
LOCATION:CSV\, Via Cantarane 24\, Verona\, 37129\, Italia
END:VEVENT
BEGIN:VEVENT
DTSTART;TZID=Europe/Rome:20171121T180000
DTEND;TZID=Europe/Rome:20171121T203000
DTSTAMP:20260420T095216
CREATED:20171020T091257Z
LAST-MODIFIED:20171020T091257Z
UID:4216-1511287200-1511296200@csv.verona.it
SUMMARY:FORMAZIONE Il marchio Merita Fiducia - 3° appuntamento
DESCRIPTION:Obiettivi: \nIl percorso intende offrire un quadro d’insieme sul marchio “Merita Fiducia”\, riconoscimento promosso dal CSV di Verona. I partecipanti avranno la possibilità di approfondire il senso e gli obiettivi di un percorso che sviluppa e certifica trasparenza e affidabilità dell’Associazione\, finalizzate al fundraising. Al terzo incontro Roger Bergonzoli\, fundraiser dell’anno 2017 di ASSIF\, ci parlerà di trasparenza e costruzione di relazione con i donatori. \nSito Merita Fiducia \nPer iscriversi (codice corso 1740)
URL:https://csv.verona.it/event/formazione-il-marchio-merita-fiducia-3-appuntamento/
LOCATION:CSV\, Via Cantarane 24\, Verona\, 37129\, Italia
END:VEVENT
BEGIN:VEVENT
DTSTART;TZID=Europe/Rome:20171115T180000
DTEND;TZID=Europe/Rome:20171115T200000
DTSTAMP:20260420T095216
CREATED:20171020T102637Z
LAST-MODIFIED:20171020T102648Z
UID:4304-1510768800-1510776000@csv.verona.it
SUMMARY:Seminario mensile sulla costituzione di una associazione
DESCRIPTION:Obiettivi: \nL’incontro intende fornire una completa panoramica sulle varie tipologie associative per orientare chi intende costituire una associazione o per quanti hanno già mosso i primi passi e vogliono valutare una nuova forma più adeguata alle proprie esigenze. \nPer iscriversi (codice corso 1710)
URL:https://csv.verona.it/event/seminario-mensile-sulla-costituzione-di-una-associazione/
LOCATION:CSV\, Via Cantarane 24\, Verona\, 37129\, Italia
END:VEVENT
BEGIN:VEVENT
DTSTART;TZID=Europe/Rome:20171114T180000
DTEND;TZID=Europe/Rome:20171114T203000
DTSTAMP:20260420T095216
CREATED:20171020T090503Z
LAST-MODIFIED:20171020T090508Z
UID:4208-1510682400-1510691400@csv.verona.it
SUMMARY:FORMAZIONE Il marchio Merita Fiducia - 2° appuntamento
DESCRIPTION:Obiettivi: \nIl percorso intende offrire un quadro d’insieme sul marchio “Merita Fiducia”\, riconoscimento promosso dal CSV di Verona. I partecipanti avranno la possibilità di approfondire il senso e gli obiettivi di un percorso che sviluppa e certifica trasparenza e affidabilità dell’Associazione\, finalizzate al fundraising. Il primo incontro\, in particolare\, sarà strutturato come una presentazione del valore e degli obiettivi del marchio “Merita Fiducia”\, ponendo l’accento su percorsi di trasparenza e rendicontazione sociale\, specie nell’ottica della Riforma del Terzo Settore\, anche attraverso testimonianze dirette di associazioni già certificate\, le quali porteranno la loro esperienza. Verranno anche presentati i servizi integrativi per le Associazioni che intraprenderanno il percorso del riconoscimento nell’anno 2017-2018: lo sportello fundraising e un percorso di accompagnamento alla rendicontazione sociale\, tramite servizio di tutoring e consulenza. \nSito Merita Fiducia \nPer iscriversi (codice corso 1740)
URL:https://csv.verona.it/event/formazione-il-marchio-merita-fiducia-2-appuntamento/
LOCATION:CSV\, Via Cantarane 24\, Verona\, 37129\, Italia
END:VEVENT
BEGIN:VEVENT
DTSTART;TZID=Europe/Rome:20171113T203000
DTEND;TZID=Europe/Rome:20171113T220000
DTSTAMP:20260420T095216
CREATED:20171107T081050Z
LAST-MODIFIED:20171107T140021Z
UID:4997-1510605000-1510610400@csv.verona.it
SUMMARY:Riforma del Terzo Settore: incontro promosso dal Centro di Servizio per il Volontariato di Verona a Sona
DESCRIPTION:Si è concluso il percorso della Riforma del Terzo Settore con il Decreto 117/17 che ha emanato il nuovo Codice del Terzo Settore: tante sono le novità per l’associazionismo\, che il Centro di Servizio per il Volontariato di Verona presenterà in un incontro dedicato agli Enti del Terzo Settore della zona di Sona. \nLa L. delega 106/16\, aveva indicato la direzione per il Governo: la redazione di un Codice del Terzo Settore per disciplinare finalmente la varia e articolata disciplina di Associazioni\, Fondazioni\, Comitati e Imprese Sociali in modo organico e unitario. Il Decreto 117/17\, entrato in vigore il 3 agosto espressamente riconosce il valore del volontariato e la funzione sociale degli Enti del Terzo Settore. Inoltre ne dà una definizione giuridica e fornisce regole sull’ordinamento\, sulle agevolazioni e sulle attività. \nI cambiamenti più significativi per gli Enti del Terzo Settore entreranno in vigore tra il 2018 e il 2019\, nel frattempo è bene approfondire le principali novità in vista contenute nella norma\, anche se per alcune previsioni sarà necessario attendere i Decreti ministeriali attuativi previsti. \nL’incontro aperto a tuti gli Enti del Terzo settore del territorio si terrà lunedì 13 novembre 2017 al Comune di Sona\, nella sala civica al terzo piano\, dalle 20 alle 22. \nPer informazioni è possibile contattare Elena D’Alessandro\, Ufficio Consulenze: consulenze@csv.verona.it – tel. 045 8011978 interno 4.
URL:https://csv.verona.it/event/riforma-del-terzo-settore-incontro-promosso-dal-centro-di-servizio-per-il-volontariato-di-verona-a-sona/
LOCATION:Sona\, Comune di Sona\, Sona\, Italia
END:VEVENT
BEGIN:VEVENT
DTSTART;TZID=Europe/Rome:20171111T090000
DTEND;TZID=Europe/Rome:20171111T130000
DTSTAMP:20260420T095216
CREATED:20171020T094005Z
LAST-MODIFIED:20171020T095438Z
UID:4245-1510390800-1510405200@csv.verona.it
SUMMARY:FORMAZIONE Il disagio di chiedere denaro nelle attività di fundraising: come superarlo
DESCRIPTION:Obiettivi:  \nQuesti gli obiettivi dell’incontro: \nAffrontare i propri timori e resistenze nel chiedere denaro a chi potrebbe dare il proprio contributo alla causa benefica a cui stiamo portando valore; identificare e apprendere delle soluzioni per affrontare e gestire al meglio le occasioni in cui possiamo dare il nostro supporto. \nPer iscriversi (codice corso 1723)
URL:https://csv.verona.it/event/formazione-il-disagio-di-chiedere-denaro-nelle-attivita-di-fundraising-come-superarlo/
LOCATION:CSV\, Via Cantarane 24\, Verona\, 37129\, Italia
END:VEVENT
BEGIN:VEVENT
DTSTART;TZID=Europe/Rome:20171108T180000
DTEND;TZID=Europe/Rome:20171108T200000
DTSTAMP:20260420T095216
CREATED:20171027T072554Z
LAST-MODIFIED:20171027T072554Z
UID:4811-1510164000-1510171200@csv.verona.it
SUMMARY:Riforma del Terzo Settore - Incontro “Le forme giuridiche”
DESCRIPTION:Con il D.Lgs 117/17 è entrato in vigore il Codice del Terzo Settore e\, sebbene siano ancora molti i Decreti attuativi che si aspettano per completare la Riforma\, già si prospettano molte novità per gli Enti del Terzo Settore. Per illustrare le principali\, il CSV Centro di Servizio per il Volontariato (CSV) di Verona organizza nella sua sede (via Cantarane\, 24) un incontro\, mercoledì 8 novembre alle 18.00\, aperto a tutti senza iscrizione. Il tema principale sarà “Le forme giuridiche”. \nUn primo incontro illustrativo sulla Riforma si è tenuto lo scorso 19 ottobre e ha “aperto” molti confronti e questioni per le varie associazioni presenti: quando entrerà in vigore questa Riforma? Cosa cambia per le OdV iscritte? Quali nuove possibilità si aprono per l’associazionismo? \nSi è organizzato quindi un secondo incontro per continuare nell’analisi della Riforma con particolare attenzione alle nuove forme associative e alle norme sull’ordinamento e la gestione delle associazioni \nLa Riforma è articolata e molte sono ancora le Delibere e i Decreti da attendere\, nel frattempo\, il CSV di Verona sta pianificando per la fine del 2017 e il 2018 una serie di incontri\, seminari e comunicazioni costanti per tenere aggiornato il mondo dell’associazionismo e accompagnarlo in questo cambiamento. \nPer informazioni è possibile contattare Elena D’Alessandro\, Ufficio Consulenze: consulenze@csv.verona.it – tel. 045 8011978 interno 4.
URL:https://csv.verona.it/event/riforma-del-terzo-settore-incontro-le-forme-giuridiche/
LOCATION:CSV\, Via Cantarane 24\, Verona\, 37129\, Italia
END:VEVENT
BEGIN:VEVENT
DTSTART;TZID=Europe/Rome:20171107T180000
DTEND;TZID=Europe/Rome:20171107T203000
DTSTAMP:20260420T095216
CREATED:20171019T125931Z
LAST-MODIFIED:20171020T090528Z
UID:3986-1510077600-1510086600@csv.verona.it
SUMMARY:FORMAZIONE Il marchio Merita Fiducia - 1° appuntamento
DESCRIPTION:Obiettivi: \nIl percorso intende offrire un quadro d’insieme sul marchio “Merita Fiducia”\, riconoscimento promosso dal CSV di Verona. I partecipanti avranno la possibilità di approfondire il senso e gli obiettivi di un percorso che sviluppa e certifica trasparenza e affidabilità dell’Associazione\, finalizzate al fundraising. Il primo incontro\, in particolare\, sarà strutturato come una presentazione del valore e degli obiettivi del marchio “Merita Fiducia”\, ponendo l’accento su percorsi di trasparenza e rendicontazione sociale\, specie nell’ottica della Riforma del Terzo Settore\, anche attraverso testimonianze dirette di associazioni già certificate\, le quali porteranno la loro esperienza. Verranno anche presentati i servizi integrativi per le Associazioni che intraprenderanno il percorso del riconoscimento nell’anno 2017-2018: lo sportello fundraising e un percorso di accompagnamento alla rendicontazione sociale\, tramite servizio di tutoring e consulenza. \nSito Merita Fiducia \nPer iscrizioni (codice corso 1740)
URL:https://csv.verona.it/event/formazione-il-marchio-merita-fiducia/
LOCATION:CSV\, Via Cantarane 24\, Verona\, 37129\, Italia
END:VEVENT
BEGIN:VEVENT
DTSTART;TZID=Europe/Rome:20171024T180000
DTEND;TZID=Europe/Rome:20171024T200000
DTSTAMP:20260420T095216
CREATED:20171019T125418Z
LAST-MODIFIED:20171020T085820Z
UID:3980-1508868000-1508875200@csv.verona.it
SUMMARY:FORMAZIONE La ricerca di volontari: metodi e strategie. La nuova APP del CSV
DESCRIPTION:Obiettivi: Riflettere e confrontarsi sulle modalità più adatte ed efficaci per coinvolgere nuovi volontari. Ipotizzare nuovi strumenti per il “reclutamento” di giovani volontari. \nContenuti. Quali volontari sto cercando? Per fare quali attività? Come organizzare la ricerca e dove focalizzare l’attenzione? Il seminario vuole fare il punto su tutti questi aspetti di people raising. Un focus particolare sarà sulla nuova app del CSV per la ricerca di giovani volontari. \nPer iscriversi (codice corso 1731) \n  \n 
URL:https://csv.verona.it/event/formazione-la-ricerca-di-volontari-metodi-e-strategie-la-nuova-app-del-csv/
LOCATION:CSV\, Via Cantarane 24\, Verona\, 37129\, Italia
END:VEVENT
BEGIN:VEVENT
DTSTART;TZID=Europe/Rome:20171019T180000
DTEND;TZID=Europe/Rome:20171019T200000
DTSTAMP:20260420T095216
CREATED:20171019T130328Z
LAST-MODIFIED:20171019T130718Z
UID:3994-1508436000-1508443200@csv.verona.it
SUMMARY:INCONTRO La riforma del Terzo settore
DESCRIPTION:Obiettivi: \nNel corso del 2017 si è concluso il percorso della Riforma del Terzo Settore: con i tre Decreti- su Cinque per mille\, su Impresa Sociale e sul Codice del Terzo Settore- si chiude un percorso di quasi due anni che su mandato della L.delega 106/16\, fornisce un quadro organico del frammentato mondo del non profit: nascono gli Enti del Terzo Settore (ETS) e un Registro Unico. Molte sono le novità introdotte a livello civilistico\, contabile\, fiscale e normativo e alcuni provvedimenti devono essere ancora implementati (si attendono circa una trentina di Decreti nei prossimi due anni di dettaglio)\, ma si possono già tracciare alcuni importanti “rivoluzioni” per il mondo dell’associazionismo e del Terzo Settore. L’incontro\, fornirà una rapida panoramica sulle novità normative e sulle prospettive di cambiamento in corso per il Terzo Settore italiano \nPer iscriversi
URL:https://csv.verona.it/event/incontro-la-riforma-del-terzo-settore/
LOCATION:CSV\, Via Cantarane 24\, Verona\, 37129\, Italia
END:VEVENT
END:VCALENDAR