BEGIN:VCALENDAR
VERSION:2.0
PRODID:-//CSV - ECPv6.15.20//NONSGML v1.0//EN
CALSCALE:GREGORIAN
METHOD:PUBLISH
X-WR-CALNAME:CSV
X-ORIGINAL-URL:https://csv.verona.it
X-WR-CALDESC:Eventi per CSV
REFRESH-INTERVAL;VALUE=DURATION:PT1H
X-Robots-Tag:noindex
X-PUBLISHED-TTL:PT1H
BEGIN:VTIMEZONE
TZID:Europe/Rome
BEGIN:DAYLIGHT
TZOFFSETFROM:+0100
TZOFFSETTO:+0200
TZNAME:CEST
DTSTART:20230326T010000
END:DAYLIGHT
BEGIN:STANDARD
TZOFFSETFROM:+0200
TZOFFSETTO:+0100
TZNAME:CET
DTSTART:20231029T010000
END:STANDARD
BEGIN:DAYLIGHT
TZOFFSETFROM:+0100
TZOFFSETTO:+0200
TZNAME:CEST
DTSTART:20240331T010000
END:DAYLIGHT
BEGIN:STANDARD
TZOFFSETFROM:+0200
TZOFFSETTO:+0100
TZNAME:CET
DTSTART:20241027T010000
END:STANDARD
BEGIN:DAYLIGHT
TZOFFSETFROM:+0100
TZOFFSETTO:+0200
TZNAME:CEST
DTSTART:20250330T010000
END:DAYLIGHT
BEGIN:STANDARD
TZOFFSETFROM:+0200
TZOFFSETTO:+0100
TZNAME:CET
DTSTART:20251026T010000
END:STANDARD
END:VTIMEZONE
BEGIN:VEVENT
DTSTART;TZID=Europe/Rome:20240207T180000
DTEND;TZID=Europe/Rome:20240207T200000
DTSTAMP:20260420T022512
CREATED:20240119T110852Z
LAST-MODIFIED:20240119T110930Z
UID:13316-1707328800-1707336000@csv.verona.it
SUMMARY:INCONTRO  – Bisogni e desideri del volontariato veronese – lavoriamoci assieme
DESCRIPTION:Lo scorso autunno il CSV Centro di Servizio per il Volontariato di Verona ha tenuto 4 incontri di ascolto per consentire ad associazioni e volontari di dire la propria\, dare un contributo\, confrontarsi.\nNelle serate a Bussolengo\, Illasi\, Legnago\, Verona\, ci siamo incontrati con tante persone desiderose di dare il proprio contributo e partecipative. Come è andata? Cosa è emerso? \n  \nVe lo racconteremo mercoledì 7 febbraio in un incontro online\, comodo – comodo\, accessibile a tutti\, che terremo alle 18.00: “Bisogni e desideri del volontariato veronese – lavoriamoci assieme”.\nFino alle 19.30\, con il presidente CSV\, Roberto Veronese\, ci daremo il tempo per raccontare i desideri emersi\, i temi proposti\, i nuovi scenari in apertura\, che sono stati al centro della domanda posta durante le serate: come possiamo agire insieme per rispondere ai cambiamenti che il mondo del volontariato veronese dovrà affrontare? \n  \nContinuiamo a coltivare le relazioni con chi il Terzo settore lo rende vivo\, perché per noi le relazioni sono importanti\, preziose occasioni di confronto\, scambio\, condivisione di valori: le associazioni sono fondamentali per tenere uno sguardo sensibile al cambiamento\, per pensare insieme il futuro. Per questo vi aspettiamo.\nAssociazioni e volontari che desiderano partecipare possono iscriversi gratuitamente accedendo dall’area riservata e riceveranno il link per frequentare online. \n  \nAttività promossa nel quadro di “Nuove frontiere del volontariato veneto”\, un’iniziativa regionale che vede i cinque CSV del Veneto lavorare assieme per le associazioni della regione. \n  \n    \nPer informazioni \nCSV Verona – Segreteria\, orientamento e rapporti con le associazioni\nDaria Rossi   info@csv.verona.it \n 
URL:https://csv.verona.it/event/incontro-bisogni-desideri-del-volontariato-veronese-lavoriamoci-assieme/
END:VEVENT
END:VCALENDAR