BEGIN:VCALENDAR
VERSION:2.0
PRODID:-//CSV - ECPv6.15.20//NONSGML v1.0//EN
CALSCALE:GREGORIAN
METHOD:PUBLISH
X-ORIGINAL-URL:https://csv.verona.it
X-WR-CALDESC:Eventi per CSV
REFRESH-INTERVAL;VALUE=DURATION:PT1H
X-Robots-Tag:noindex
X-PUBLISHED-TTL:PT1H
BEGIN:VTIMEZONE
TZID:Europe/Rome
BEGIN:DAYLIGHT
TZOFFSETFROM:+0100
TZOFFSETTO:+0200
TZNAME:CEST
DTSTART:20230326T010000
END:DAYLIGHT
BEGIN:STANDARD
TZOFFSETFROM:+0200
TZOFFSETTO:+0100
TZNAME:CET
DTSTART:20231029T010000
END:STANDARD
BEGIN:DAYLIGHT
TZOFFSETFROM:+0100
TZOFFSETTO:+0200
TZNAME:CEST
DTSTART:20240331T010000
END:DAYLIGHT
BEGIN:STANDARD
TZOFFSETFROM:+0200
TZOFFSETTO:+0100
TZNAME:CET
DTSTART:20241027T010000
END:STANDARD
BEGIN:DAYLIGHT
TZOFFSETFROM:+0100
TZOFFSETTO:+0200
TZNAME:CEST
DTSTART:20250330T010000
END:DAYLIGHT
BEGIN:STANDARD
TZOFFSETFROM:+0200
TZOFFSETTO:+0100
TZNAME:CET
DTSTART:20251026T010000
END:STANDARD
END:VTIMEZONE
BEGIN:VEVENT
DTSTART;TZID=Europe/Rome:20240202T150000
DTEND;TZID=Europe/Rome:20240202T180000
DTSTAMP:20260422T122812
CREATED:20240123T115531Z
LAST-MODIFIED:20240124T103814Z
UID:13332-1706886000-1706896800@csv.verona.it
SUMMARY:CONVEGNO  – Donazioni crowdfunding e Terzo settore a Verona: progetti\, esperienze e prospettive
DESCRIPTION:Il Dipartimento di Management e il Dipartimento di Scienze Economiche dell’Università degli Studi di Verona\, in collaborazione con CSV Centro Servizio per il Volontariato di Verona\, organizzano “Crowdfunding e Terzo settore a Verona: progetti\, esperienze e prospettive”. Il convegno si terrà venerdì 2 febbraio alle 15.00 nel Polo Santa Marta in via Cantarane 24\, Aula SMT.08. \n  \nL’evento affronta il tema del “crowdfunding” partendo dagli esiti del progetto “Crowdfunding Lab”\, che ha avuto l’obiettivo di realizzare attività di formazione\, mentoring e networking con il territorio per le piccole organizzazioni del Terzo settore proprio su questa opportunità. Con questa iniziativa\, l’accordo di collaborazione scientifica tra il CSV di Verona e Università degli Studi di Verona\, ha voluto aprire una riflessione sul dono\, sui cambiamenti degli ultimi anni\, e stimolare il dibattito attorno a uno strumento che ha preso sempre più piede. \n  \nIl comitato scientifico del convegno è composto da Veronica Polin\, Dipartimento di Scienze Economiche\, Veronica De Crescenzo e Giorgio Mion\, Dipartimento di Management.\nSu richiesta verrà rilasciato un attestato di partecipazione agli iscritti che saranno presenti il giorno del convegno. \n  \nProgramma \nOre 15.00 – saluti iniziali\nAlessandra Cordiano – Referente del Rettore per la sostenibilità sociale\nGiam Pietro Cipriani – Direttore Dipartimento Scienze Economiche\nElena Giaretta – Referente Terza missione Dipartimento di Management \n  \nOre 15.30 – prima parte \nIl crowdfunding per il Terzo settore nel territorio veronese: alcune riflessioni sui risultati del progetto di collaborazione tra Università di Verona e CSV\nVeronica De Crescenzo\, Veronica Polin e Giorgio Mion – Università di Verona \nLa raccolta fondi per le piccole associazioni\, esperienze del CSV di Verona\nCinzia Brentari e Laura Zecchin – CSV Verona \nUn percorso di co-progettazione della campagna “S-Cavalchiamo le differenze”\nAnnamaria Sanson e Silvia Ferrari – ACISJF Protezione della Giovane ODV \nDomande dal pubblico \nL’accesso alla prima parte è libero\, previa registrazione inviando una mail a veronica.polin@univr.it. \n  \nOre 16.45 – seconda parte \nGruppo di discussione – Partecipazione a invito\n“Criticità e potenzialità delle raccolte fondi online per il Terzo settore: un confronto tra pareri esperti”\nModerano: Veronica De Crescenzo e Veronica Polin \n\nScarica la locandina\nScarica la presentazione\n\n  \n  \nPer informazioni\nUniversità degli Studi di Verona\nveronica.polin@univr.it e veronica.decrescenzo@univr.it\nwww.univr.it \n 
URL:https://csv.verona.it/event/formazione-orientamento-alle-forme-associative-associazione-18-06-24-2/
END:VEVENT
END:VCALENDAR