BEGIN:VCALENDAR
VERSION:2.0
PRODID:-//CSV - ECPv6.15.20//NONSGML v1.0//EN
CALSCALE:GREGORIAN
METHOD:PUBLISH
X-WR-CALNAME:CSV
X-ORIGINAL-URL:https://csv.verona.it
X-WR-CALDESC:Eventi per CSV
REFRESH-INTERVAL;VALUE=DURATION:PT1H
X-Robots-Tag:noindex
X-PUBLISHED-TTL:PT1H
BEGIN:VTIMEZONE
TZID:Europe/Rome
BEGIN:DAYLIGHT
TZOFFSETFROM:+0100
TZOFFSETTO:+0200
TZNAME:CEST
DTSTART:20230326T010000
END:DAYLIGHT
BEGIN:STANDARD
TZOFFSETFROM:+0200
TZOFFSETTO:+0100
TZNAME:CET
DTSTART:20231029T010000
END:STANDARD
BEGIN:DAYLIGHT
TZOFFSETFROM:+0100
TZOFFSETTO:+0200
TZNAME:CEST
DTSTART:20240331T010000
END:DAYLIGHT
BEGIN:STANDARD
TZOFFSETFROM:+0200
TZOFFSETTO:+0100
TZNAME:CET
DTSTART:20241027T010000
END:STANDARD
BEGIN:DAYLIGHT
TZOFFSETFROM:+0100
TZOFFSETTO:+0200
TZNAME:CEST
DTSTART:20250330T010000
END:DAYLIGHT
BEGIN:STANDARD
TZOFFSETFROM:+0200
TZOFFSETTO:+0100
TZNAME:CET
DTSTART:20251026T010000
END:STANDARD
END:VTIMEZONE
BEGIN:VEVENT
DTSTART;TZID=Europe/Rome:20240125T180000
DTEND;TZID=Europe/Rome:20240125T200000
DTSTAMP:20260422T182556
CREATED:20231204T114509Z
LAST-MODIFIED:20231220T133820Z
UID:13214-1706205600-1706212800@csv.verona.it
SUMMARY:WEBINAR – Rendiconto per associazioni e bilancio sociale
DESCRIPTION:Raccontare storie di passione e impegno\n  \nObiettivi \nL’incontro intende individuare il valore e l’utilità del bilancio sociale per tutte le organizzazioni del Terzo settore\, come strumento di crescita organizzativa e di valorizzazione del prezioso servizio svolto dai volontari. Il tema del bilancio sociale\, dopo l’emanazione delle Linee Guida Ministeriali del 2019\, ha una sua chiara e definita impostazione in termini di contenuti. Comprendere l’utilità di questa tipologia di rendicontazione significa utilizzare uno strumento che può diventare utile per la crescita di soci\, per la governance interna e per un più proficuo dialogo con la rete territoriale di appartenenza. \n  \nContenuti  \nIl corso intende offrire due tipologie di supporto: da un lato motivare e individuare le potenzialità insite nello strumento del bilancio sociale per le organizzazioni del Terzo settore e dall’altro mettere a disposizione strumenti pratici\, di facile utilizzo per costruire un documento di rendicontazione sociale adatto a tutte le realtà che si muovono nel sociale. Durante il percorso saranno messi a disposizione materiali utili da utilizzare per la raccolta dati\, idee ed esempi per la elaborazione delle pagine di Bilancio Sociale e per il calcolo dei principali indicatori. Nel contesto del percorso si accennerà anche al legame esistente fra bilancio sociale con la misurazione dell’impatto sociale. \n  \nDocente \nFabio Fornasini\, si occupa da anni di responsabilità sociale di impresa e consulenza per il Terzo settore. Svolge inoltre attività come auditor per enti di certificazione qualità per schemi di certificazione etica e sociale. In questi anni ha approfondito modelli di misurazione del valore aggiunto sociale nel Terzo settore. Ha studiato economia all’Università di Genova e sociologia a Trento. \n  \nMetodologia didattica \nLezione frontale molto pratica\, aperta agli interventi e calibrata sulle esigenze dei partecipanti. \n  \nDate e orari \nIl corso si svolge in due incontri: giovedì 25 gennaio e giovedì 1° febbraio 2024 ǀ 18.00 – 20.00 \n  \nSede  \nWebinar \n  \nDestinatari  \n25 volontari – Tipologia: è consigliabile che il corso sia frequentato dalle figure interne che si occupano di raccogliere i dati e redigere il bilancio sociale dell’associazione\, come presidente\, membri del direttivo\, amministrativi\, volontari. \n  \nQuota di partecipazione  \nIl webinar non prevede la quota d’iscrizione. \n  \nRegolamento per accedere alla formazione \nRegolamento completo \n  \nIscrizione obbligatoria entro il 23 gennaio \nEffettuando il login \n  \nNota aggiuntiva \nNell’ambito del progetto “Gluo – Piattaforma collaborativa del volontariato”\, questo corso partecipa a “Alveare CSV Formazione”\, un programma di formazione nazionale\, gratuito e rivolto a volontari e associazioni di tutta Italia\, promosso da CSVnet e realizzato dai Centri di Servizio per il volontariato italiani\, cui il CSV di Verona ha dato la propria adesione. \n  \n 
URL:https://csv.verona.it/event/rendiconto-associazioni-bilancio-sociale-2024/
END:VEVENT
END:VCALENDAR