BEGIN:VCALENDAR
VERSION:2.0
PRODID:-//CSV - ECPv6.15.20//NONSGML v1.0//EN
CALSCALE:GREGORIAN
METHOD:PUBLISH
X-WR-CALNAME:CSV
X-ORIGINAL-URL:https://csv.verona.it
X-WR-CALDESC:Eventi per CSV
REFRESH-INTERVAL;VALUE=DURATION:PT1H
X-Robots-Tag:noindex
X-PUBLISHED-TTL:PT1H
BEGIN:VTIMEZONE
TZID:Europe/Rome
BEGIN:DAYLIGHT
TZOFFSETFROM:+0100
TZOFFSETTO:+0200
TZNAME:CEST
DTSTART:20220327T010000
END:DAYLIGHT
BEGIN:STANDARD
TZOFFSETFROM:+0200
TZOFFSETTO:+0100
TZNAME:CET
DTSTART:20221030T010000
END:STANDARD
BEGIN:DAYLIGHT
TZOFFSETFROM:+0100
TZOFFSETTO:+0200
TZNAME:CEST
DTSTART:20230326T010000
END:DAYLIGHT
BEGIN:STANDARD
TZOFFSETFROM:+0200
TZOFFSETTO:+0100
TZNAME:CET
DTSTART:20231029T010000
END:STANDARD
BEGIN:DAYLIGHT
TZOFFSETFROM:+0100
TZOFFSETTO:+0200
TZNAME:CEST
DTSTART:20240331T010000
END:DAYLIGHT
BEGIN:STANDARD
TZOFFSETFROM:+0200
TZOFFSETTO:+0100
TZNAME:CET
DTSTART:20241027T010000
END:STANDARD
END:VTIMEZONE
BEGIN:VEVENT
DTSTART;TZID=Europe/Rome:20230918T180000
DTEND;TZID=Europe/Rome:20230918T200000
DTSTAMP:20260423T001409
CREATED:20230724T073250Z
LAST-MODIFIED:20230831T081706Z
UID:12901-1695060000-1695067200@csv.verona.it
SUMMARY:WEBINAR - I temperamenti umani: una chiave di lettura per conoscere me e gli altri
DESCRIPTION:Premessa \nI temperamenti umani sono una chiave antica e tuttora valida\, per conoscere l’indole umana. Il temperamento è un aspetto della persona che ci offre un punto di vista efficace per rivelare potenzialità e aspetti di auto-educazione. I temperamenti non sono un’etichetta\, non sono un confine\, non sono un “sono fatto/a così!”.\nUn piccolo approfondimento della docente in questo video. \n  \nObiettivi \nIl corso ha come obiettivi di identificare il proprio principale temperamento di appartenenza e di riconoscere il temperamento delle persone con cui ci si rapporta\, al fine di migliorare la relazione\, di saper gestire il gruppo di volontari (ma anche quello familiare\, amicale\, lavorativo) prendendo come spunto questo modello. \n  \nContenuti  \n\nTest per individuare il proprio temperamento principale\nDeclinazione dei temperamenti:\ncollerico – risorse e rischi\nsanguinico – risorse e rischi\nflemmatico – risorse e rischi\nmelanconico – risorse e rischi\n\n\nTemperare i temperamenti\nRelazioni e gestione del gruppo attraverso i temperamenti\n\nDocente \nCarla Favazza – Personal coach e trainer di laughter yoga con esperienza sia nel mondo profit sia nel Terzo settore \n  \nMetodologia didattica \nLezione frontale molto pratica\, aperta agli interventi e calibrata sulle esigenze dei partecipanti. \n  \nDate e orari \nIl corso si svolge in due incontri: lunedì 18 e 25 settembre 2023 ǀ 18.00 – 20.00 \n  \nSede  \nWebinar \n  \nDestinatari  \n25 volontari – responsabile dei volontari e tutti i volontari. \n  \nQuota di partecipazione \nIl webinar non prevede la quota d’iscrizione. \n  \nRegolamento per accedere alla formazione\n \nSi deve iscrivere al corso la persona che effettivamente parteciperà alla formazione.\nRegolamento completo \n   \nIscrizione\n \nEffettuando il login \n  \nNota aggiuntiva \nNell’ambito del progetto “Gluo – Piattaforma collaborativa del volontariato”\, questo corso partecipa a “Alveare CSV Formazione”\, un programma di formazione nazionale\, gratuito e rivolto a volontari e associazioni di tutta Italia\, promosso da CSVnet e realizzato dai Centri di Servizio per il volontariato italiani\, cui il CSV di Verona ha dato la propria adesione. \n 
URL:https://csv.verona.it/event/webinar-temperamenti-umani-chiave-lettura-conoscere-gli-altri/
END:VEVENT
END:VCALENDAR