BEGIN:VCALENDAR
VERSION:2.0
PRODID:-//CSV - ECPv6.15.20//NONSGML v1.0//EN
CALSCALE:GREGORIAN
METHOD:PUBLISH
X-WR-CALNAME:CSV
X-ORIGINAL-URL:https://csv.verona.it
X-WR-CALDESC:Eventi per CSV
REFRESH-INTERVAL;VALUE=DURATION:PT1H
X-Robots-Tag:noindex
X-PUBLISHED-TTL:PT1H
BEGIN:VTIMEZONE
TZID:Europe/Rome
BEGIN:DAYLIGHT
TZOFFSETFROM:+0100
TZOFFSETTO:+0200
TZNAME:CEST
DTSTART:20220327T010000
END:DAYLIGHT
BEGIN:STANDARD
TZOFFSETFROM:+0200
TZOFFSETTO:+0100
TZNAME:CET
DTSTART:20221030T010000
END:STANDARD
BEGIN:DAYLIGHT
TZOFFSETFROM:+0100
TZOFFSETTO:+0200
TZNAME:CEST
DTSTART:20230326T010000
END:DAYLIGHT
BEGIN:STANDARD
TZOFFSETFROM:+0200
TZOFFSETTO:+0100
TZNAME:CET
DTSTART:20231029T010000
END:STANDARD
BEGIN:DAYLIGHT
TZOFFSETFROM:+0100
TZOFFSETTO:+0200
TZNAME:CEST
DTSTART:20240331T010000
END:DAYLIGHT
BEGIN:STANDARD
TZOFFSETFROM:+0200
TZOFFSETTO:+0100
TZNAME:CET
DTSTART:20241027T010000
END:STANDARD
END:VTIMEZONE
BEGIN:VEVENT
DTSTART;TZID=Europe/Rome:20230518T203000
DTEND;TZID=Europe/Rome:20230518T223000
DTSTAMP:20260423T063940
CREATED:20221215T143707Z
LAST-MODIFIED:20230215T094948Z
UID:12214-1684441800-1684449000@csv.verona.it
SUMMARY:FORMAZIONE  – Scacco matto alla burocrazia! Mossa 3
DESCRIPTION:Mosse vincenti per enti di volontariato\nMossa 3. Identifica le strategie per adempimenti gestionali\, sicurezza e privacy\n  \nObiettivi \nLa serata avrà un taglio molto pratico\, saranno commentate e fornite check list dei principali oneri gestionali e amministrativi per gli enti del Terzo settore. \nGli obiettivi dell’incontro saranno: riassumere e schematizzare i vari aspetti della gestione della vita associativa; individuare i principali adempimenti in relazione a oneri gestionali; portare alcuni cenni di adempimenti relativi a sicurezza\, privacy\, eventi e responsabilità; illustrare aspetti gestionali dell’associazione alla luce del Codice del Terzo Settore (D.lgs 117/17). \n  \nContenuti  \nSi affronteranno i seguenti argomenti specifici: \n\ngestione vita associativa in genere;\nadempimenti eventi;\nprivacy e sicurezza (cenni).\n\n  \nDocente \nElena D’Alessandro\, giurista esperta del diritto del Terzo settore\, impegnata attivamente dal 2002 in campi sociali e culturali; responsabile Ufficio Consulenze CSV di Verona. \n  \nMetodologia didattica \nLezione frontale molto pratica\, aperta agli interventi e calibrata sulle esigenze dei partecipanti. \n  \nDate e orari \nIl corso si svolgerà giovedì 18 maggio 2023 ǀ 20.30 – 22.30 \n  \nSede  \nIl corso si svolgerà nel Comune di San Bonifacio\, nella Sala Civica Barbarani (via Guglielmo Marconi 5). \n  \nDestinatari  \nÈ consigliabile che il corso sia frequentato dalla figura interna che segue gli aspetti gestionali dell’associazione: segretario\, presidente\, amministrativi\, volontari. \n  \nRegolamento per accedere alla formazione\nRegolamento completo \n  \nIscrizione obbligatoria entro il 16 maggio effettuando il login.\nSi deve iscrivere al corso la persona che effettivamente parteciperà alla formazione. Non saranno ammesse persone che non figurano nel nostro registro. \n  \nNota aggiuntiva \nL’iniziativa si tiene con il Patrocinio del Comune di San Bonifacio. \n 
URL:https://csv.verona.it/event/formazione-scacco-matto-alla-burocrazia-mossa-3-2023/
END:VEVENT
END:VCALENDAR