BEGIN:VCALENDAR
VERSION:2.0
PRODID:-//CSV - ECPv6.15.20//NONSGML v1.0//EN
CALSCALE:GREGORIAN
METHOD:PUBLISH
X-WR-CALNAME:CSV
X-ORIGINAL-URL:https://csv.verona.it
X-WR-CALDESC:Eventi per CSV
REFRESH-INTERVAL;VALUE=DURATION:PT1H
X-Robots-Tag:noindex
X-PUBLISHED-TTL:PT1H
BEGIN:VTIMEZONE
TZID:Europe/Rome
BEGIN:DAYLIGHT
TZOFFSETFROM:+0100
TZOFFSETTO:+0200
TZNAME:CEST
DTSTART:20220327T010000
END:DAYLIGHT
BEGIN:STANDARD
TZOFFSETFROM:+0200
TZOFFSETTO:+0100
TZNAME:CET
DTSTART:20221030T010000
END:STANDARD
BEGIN:DAYLIGHT
TZOFFSETFROM:+0100
TZOFFSETTO:+0200
TZNAME:CEST
DTSTART:20230326T010000
END:DAYLIGHT
BEGIN:STANDARD
TZOFFSETFROM:+0200
TZOFFSETTO:+0100
TZNAME:CET
DTSTART:20231029T010000
END:STANDARD
BEGIN:DAYLIGHT
TZOFFSETFROM:+0100
TZOFFSETTO:+0200
TZNAME:CEST
DTSTART:20240331T010000
END:DAYLIGHT
BEGIN:STANDARD
TZOFFSETFROM:+0200
TZOFFSETTO:+0100
TZNAME:CET
DTSTART:20241027T010000
END:STANDARD
END:VTIMEZONE
BEGIN:VEVENT
DTSTART;TZID=Europe/Rome:20230511T203000
DTEND;TZID=Europe/Rome:20230511T223000
DTSTAMP:20260423T063939
CREATED:20221215T143831Z
LAST-MODIFIED:20230215T094825Z
UID:12216-1683837000-1683844200@csv.verona.it
SUMMARY:FORMAZIONE  – Scacco matto alla burocrazia! Mossa 2
DESCRIPTION:Mosse vincenti per enti di volontariato\nMossa 2. Definisci le regole per organi e libri sociali\n  \nObiettivi \nL’incontro\, dal taglio veloce e pratico\, intende presentare una panoramica dei principali oneri gestionali della così detta “vita associativa”. Gli obiettivi dell’incontro sono: illustrare i vari aspetti della gestione della vita associativa; individuare i principali adempimenti in relazione a libri sociali e oneri gestionali; esaminare quali siano i ruoli\, le figure\, gli incarichi e le posizioni all’interno della governance dell’associazione; descrivere il funzionamento degli organi sociali all’interno dell’associazione; illustrare le corrette modalità di redazione e tenuta documenti amministrativi e libri verbali; illustrare aspetti gestionali dell’associazione alla luce del Codice del Terzo Settore (D.lgs 117/17). \n  \nContenuti  \nSi affronteranno i seguenti argomenti specifici: \n\norgani obbligatori e facoltativi;\nsoci e volontari;\nregolamenti gestionali;\nlibri sociali;\n\n  \nDocente \nElena D’Alessandro\, giurista esperta del diritto del Terzo settore\, impegnata attivamente dal 2002 in campi sociali e culturali; responsabile Ufficio Consulenze CSV di Verona. \n  \nMetodologia didattica \nLezione frontale molto pratica\, aperta agli interventi e calibrata sulle esigenze dei partecipanti. \n  \nDate e orari \nIl corso si svolgerà giovedì 11 maggio 2023 ǀ 20.30 – 22.30 \n  \nSede  \nIl corso si svolgerà nel Comune di San Bonifacio\, nella Sala Civica Barbarani (via Guglielmo Marconi 5). \n  \nDestinatari  \nÈ consigliabile che il corso sia frequentato dalla figura interna che segue gli aspetti gestionali dell’associazione: segretario\, presidente\, amministrativi\, volontari. \n  \nRegolamento per accedere alla formazione\nRegolamento completo \n  \nIscrizione obbligatoria entro il 9 maggio effettuando il login.\nSi deve iscrivere al corso la persona che effettivamente parteciperà alla formazione. Non saranno ammesse persone che non figurano nel nostro registro. \n  \nNota aggiuntiva \nL’iniziativa si tiene con il Patrocinio del Comune di San Bonifacio. \n 
URL:https://csv.verona.it/event/formazione-scacco-matto-alla-burocrazia-mossa-2-2023/
END:VEVENT
END:VCALENDAR