BEGIN:VCALENDAR
VERSION:2.0
PRODID:-//CSV - ECPv6.15.20//NONSGML v1.0//EN
CALSCALE:GREGORIAN
METHOD:PUBLISH
X-ORIGINAL-URL:https://csv.verona.it
X-WR-CALDESC:Eventi per CSV
REFRESH-INTERVAL;VALUE=DURATION:PT1H
X-Robots-Tag:noindex
X-PUBLISHED-TTL:PT1H
BEGIN:VTIMEZONE
TZID:Europe/Rome
BEGIN:DAYLIGHT
TZOFFSETFROM:+0100
TZOFFSETTO:+0200
TZNAME:CEST
DTSTART:20220327T010000
END:DAYLIGHT
BEGIN:STANDARD
TZOFFSETFROM:+0200
TZOFFSETTO:+0100
TZNAME:CET
DTSTART:20221030T010000
END:STANDARD
BEGIN:DAYLIGHT
TZOFFSETFROM:+0100
TZOFFSETTO:+0200
TZNAME:CEST
DTSTART:20230326T010000
END:DAYLIGHT
BEGIN:STANDARD
TZOFFSETFROM:+0200
TZOFFSETTO:+0100
TZNAME:CET
DTSTART:20231029T010000
END:STANDARD
BEGIN:DAYLIGHT
TZOFFSETFROM:+0100
TZOFFSETTO:+0200
TZNAME:CEST
DTSTART:20240331T010000
END:DAYLIGHT
BEGIN:STANDARD
TZOFFSETFROM:+0200
TZOFFSETTO:+0100
TZNAME:CET
DTSTART:20241027T010000
END:STANDARD
END:VTIMEZONE
BEGIN:VEVENT
DTSTART;TZID=Europe/Rome:20230323T180000
DTEND;TZID=Europe/Rome:20230323T200000
DTSTAMP:20260423T095937
CREATED:20221215T133844Z
LAST-MODIFIED:20221215T142321Z
UID:12190-1679594400-1679601600@csv.verona.it
SUMMARY:FORMAZIONE  – Come funziona il 5X1000
DESCRIPTION:Obiettivi \nL’incontro intende fornire un’analisi completa del meccanismo del 5X1000 alle associazioni di volontariato\, esaminandone natura\, modalità di accreditamento e obblighi a esso legati. Il contributo ha subito diversi interventi normativi e trasformazioni fino ad arrivare\, negli ultimi anni\, a una delineazione chiara: dal 2017 il 5X1000 è diventato meccanismo “fisso”\, non più legato alla Legge di Bilancio. Nel corso degli anni sono stati fissati termini e adempimenti\, si è fatto ricorso agli elenchi permanenti per evitare l’accreditamento di anno in anno e infine\, a partire dal 2022 si è perfezionata la funzionalità dell’accreditamento 5X1000 attraverso il Registro Unico del Terzo Settore (RUNTS). Il corso\, attraverso un rapido excursus sulla natura del 5X1000\, fornisce informazioni chiare sulla procedura per accreditarsi\, sugli adempimenti e sulla tempistica\, esaminando l’importante capitolo della rendicontazione alla luce della riforma del Dlgs 111/17 e delle indicazioni contenute nelle Linee guida del Ministero del Lavoro e Politiche Sociali del Decreto n. 488/2021\, ai sensi del DPCM 23 luglio 2020.\nIl meccanismo tributario verrà anche esaminato da un punto di vista non solo procedurale\, ma anche di raccolta fondi. Si tratterà infatti\, nella seconda parte del corso\, di individuare i donatori\, come programmare la promozione e sensibilizzazione alla scelta del 5X1000\, come utilizzare i fondi ricevuti\, come comunicare nell’ottica di aumentare la raccolta fondi. \n   \nContenuti  \nSi affronteranno i seguenti argomenti: \n\nil meccanismo del 5X1000 e la sua importanza all’interno del sistema del privato sociale e del volontariato;\ni requisiti e le qualifiche necessarie per poter ricevere il contributo;\nle scadenze e i passaggi formali di accreditamento e ricezione del 5X1000;\nil meccanismo di accreditamento attraverso il RUNTS;\nl’obbligo della rendicontazione;\nle novità e i cambiamenti introdotti con le Linee guida del Ministero del Lavoro e Politiche Sociali del Decreto n. 488/2021 e Dpcm 23 lug. 2020;\nla campagna per il 5X1000;\nle potenzialità e la promozione di questo contributo.\n\n  \n Docente \nElena D’Alessandro\, giurista esperta del diritto del Terzo settore\, impegnata attivamente dal 2002 in campi sociali e culturali; responsabile Ufficio Consulenze CSV di Verona.\nLaura Zecchin\, fundraiser impegnata in piccole e medie organizzazioni; consulente Sportello Fundraising CSV di Verona. \n  \nMetodologia didattica \nLezione frontale molto pratica\, aperta agli interventi e calibrata sulle esigenze dei partecipanti. \n  \n Date e orari \nGiovedì 23 marzo 2023 ǀ 18.00 – 20.00 \n  \nSede  \nIl corso si svolgerà sia in presenza sia online. Il giorno prima dell’incontro saranno comunicati\, ai soli iscritti\, l’indirizzo per partecipare in presenza (zona Veronetta) e il link ZOOM per la partecipazione online. Il corso si svolgerà in modalità webinar per tutti gli iscritti qualora le norme anti Covid\, in vigore in quel momento\, non permetteranno le lezioni in presenza; in questo caso sarà data tempestiva comunicazione. \n  \nDestinatari  \n25 volontari – Tipologia: presidente\, membri del direttivo\, segretario\, amministrativi\, volontari. \n  \nContributo di partecipazione  \nODV 10 Euro a corsista (nell’area personale per l’iscrizione assicurarsi di essere collegati alla propria associazione\, diversamente la quota sarà di 20 Euro); altre forme associative e singoli cittadini 20 Euro a corsista.\nIl pagamento della quota può essere effettuato: \n\nCon PayPal all’atto dell’iscrizione;\ntramite bonifico bancario a FEDERAZIONE DEL VOLONTARIATO DI VERONA – BANCO BPM SPA VERONA (ITALY)\, BIC BAPPIT21004\, IBAN IT76O0503411704000000051276\, indicando come causale nome + cognome + titolo corso abbreviato. Il pagamento deve essere effettuato entro il 20 marzo 2023 per permettere all’amministrazione del CSV la verifica contabile e il successivo invio del link per la partecipazione al webinar. Il link sarà inviato il giorno prima o la mattina stessa del giorno del corso.\n\n   \nRegolamento per accedere alla formazione\nPrima ci si iscrive al corso e solo dopo l’iscrizione si effettua il saldo del contributo di partecipazione.\nRegolamento completo \n   \nIscrizione obbligatoria e pagamento entro il 20 marzo effettuando il login.\nSi deve iscrivere al corso la persona che effettivamente parteciperà alla formazione. Non saranno ammesse persone che non figurano nel nostro registro. \n 
URL:https://csv.verona.it/event/formazione-funziona-5x1000-2023/
END:VEVENT
END:VCALENDAR