BEGIN:VCALENDAR
VERSION:2.0
PRODID:-//CSV - ECPv6.15.20//NONSGML v1.0//EN
CALSCALE:GREGORIAN
METHOD:PUBLISH
X-ORIGINAL-URL:https://csv.verona.it
X-WR-CALDESC:Eventi per CSV
REFRESH-INTERVAL;VALUE=DURATION:PT1H
X-Robots-Tag:noindex
X-PUBLISHED-TTL:PT1H
BEGIN:VTIMEZONE
TZID:Europe/Rome
BEGIN:DAYLIGHT
TZOFFSETFROM:+0100
TZOFFSETTO:+0200
TZNAME:CEST
DTSTART:20220327T010000
END:DAYLIGHT
BEGIN:STANDARD
TZOFFSETFROM:+0200
TZOFFSETTO:+0100
TZNAME:CET
DTSTART:20221030T010000
END:STANDARD
BEGIN:DAYLIGHT
TZOFFSETFROM:+0100
TZOFFSETTO:+0200
TZNAME:CEST
DTSTART:20230326T010000
END:DAYLIGHT
BEGIN:STANDARD
TZOFFSETFROM:+0200
TZOFFSETTO:+0100
TZNAME:CET
DTSTART:20231029T010000
END:STANDARD
BEGIN:DAYLIGHT
TZOFFSETFROM:+0100
TZOFFSETTO:+0200
TZNAME:CEST
DTSTART:20240331T010000
END:DAYLIGHT
BEGIN:STANDARD
TZOFFSETFROM:+0200
TZOFFSETTO:+0100
TZNAME:CET
DTSTART:20241027T010000
END:STANDARD
END:VTIMEZONE
BEGIN:VEVENT
DTSTART;TZID=Europe/Rome:20230316T180000
DTEND;TZID=Europe/Rome:20230316T200000
DTSTAMP:20260423T095938
CREATED:20221215T133431Z
LAST-MODIFIED:20221215T133500Z
UID:12187-1678989600-1678996800@csv.verona.it
SUMMARY:FORMAZIONE  – Colloqui di selezione con i giovani di Servizio Civile e non solo
DESCRIPTION:Obiettivi \nL’incontro si pone come obiettivo quello di offrire conoscenze e strumenti utili per la conduzione del colloquio di selezione di un candidato del Servizio Civile\, ma non solo. Lo scopo è quello di far sì che l’incontro con il candidato si trasformi da un momento esclusivamente di scelta\, a uno in cui sia possibile comprenderne le attitudini per una sua più efficace collocazione all’interno della propria organizzazione. \n  \nContenuti  \nI temi trattati ruoteranno attorno a questi tre nuclei: \n\nraccogliere le informazioni utili;\nstimolare il candidato alla conversazione;\ncomprenderne il potenziale.\n\nIl corso\, infatti\, partendo della scheda di valutazione del ministero\, traccerà le linee guida per la conduzione del colloquio. Saranno offerti inoltre ai partecipanti alcuni strumenti di valutazione\, utili a formarsi un’idea sommaria delle attitudini del candidato e delle sue skills. Particolare attenzione sarà data\, infine\, alla cura del setting e dello stile comunicativo.\nÈ un corso pensato soprattutto per gli enti che si occupano di Servizio Civile\, ma molti dei temi e delle tecniche di cui si parlerà potranno essere utilizzate per condurre colloqui con gli aspirati volontari. \n  \nDocente \nCristiano Pravadelli – psicologo. Si occupa da diversi anni\, in veste di consulente\, di coordinamento e gestione del personale per realtà del mondo profit e non profit.  Ha una pluriennale esperienza in ambito formativo e conduce corsi per la scuola e per gli insegnanti\, le associazioni di volontariato\, il mondo sportivo e per i giovani in Servizio Civile. È autore di quattro libri dedicati alla crescita e allo sviluppo delle persone. Dal 2011 è vicepresidente di una realtà del privato sociale che opera a favore delle persone con disabilità. \n  \nMetodologia didattica \nLezione frontale molto pratica\, aperta agli interventi e calibrata sulle esigenze dei partecipanti. \n  \nDate e orari \nGiovedì 16 marzo 2023 ǀ 18.00 – 20.00 \n  \nSede  \nIl corso si svolgerà in presenza\, in zona Veronetta. L’indirizzo sarà comunicato agli iscritti. Il corso si svolgerà in modalità webinar qualora le norme anti Covid\, in vigore in quel momento\, non permetteranno le lezioni in presenza; in questo caso sarà data tempestiva comunicazione agli iscritti. \n  \nDestinatari  \n25 volontari – Tipologia: presidente\, membri del direttivo\, segretari\, volontari dell’associazione che effettuano colloqui di selezione per i giovani candidati di Servizio Civile; questo corso può essere frequentato anche da associazioni che non si occupano di Servizio Civile\, ma che effettuano colloqui di selezione con gli aspiranti volontari. \n  \nContributo di partecipazione  \nIl corso è gratuito. \n  \nRegolamento per accedere alla formazione\nRegolamento completo \n   \nIscrizione obbligatoria entro il 14 marzo effettuando il login.\nSi deve iscrivere al corso la persona che effettivamente parteciperà alla formazione. Non saranno ammesse persone che non figurano nel nostro registro. \n 
URL:https://csv.verona.it/event/formazione-colloqui-selezione-giovani-servizio-civile-non-solo-2023/
END:VEVENT
END:VCALENDAR