BEGIN:VCALENDAR
VERSION:2.0
PRODID:-//CSV - ECPv6.15.20//NONSGML v1.0//EN
CALSCALE:GREGORIAN
METHOD:PUBLISH
X-WR-CALNAME:CSV
X-ORIGINAL-URL:https://csv.verona.it
X-WR-CALDESC:Eventi per CSV
REFRESH-INTERVAL;VALUE=DURATION:PT1H
X-Robots-Tag:noindex
X-PUBLISHED-TTL:PT1H
BEGIN:VTIMEZONE
TZID:Europe/Rome
BEGIN:DAYLIGHT
TZOFFSETFROM:+0100
TZOFFSETTO:+0200
TZNAME:CEST
DTSTART:20220327T010000
END:DAYLIGHT
BEGIN:STANDARD
TZOFFSETFROM:+0200
TZOFFSETTO:+0100
TZNAME:CET
DTSTART:20221030T010000
END:STANDARD
BEGIN:DAYLIGHT
TZOFFSETFROM:+0100
TZOFFSETTO:+0200
TZNAME:CEST
DTSTART:20230326T010000
END:DAYLIGHT
BEGIN:STANDARD
TZOFFSETFROM:+0200
TZOFFSETTO:+0100
TZNAME:CET
DTSTART:20231029T010000
END:STANDARD
BEGIN:DAYLIGHT
TZOFFSETFROM:+0100
TZOFFSETTO:+0200
TZNAME:CEST
DTSTART:20240331T010000
END:DAYLIGHT
BEGIN:STANDARD
TZOFFSETFROM:+0200
TZOFFSETTO:+0100
TZNAME:CET
DTSTART:20241027T010000
END:STANDARD
END:VTIMEZONE
BEGIN:VEVENT
DTSTART;TZID=Europe/Rome:20230302T180000
DTEND;TZID=Europe/Rome:20230302T200000
DTSTAMP:20260423T112357
CREATED:20221215T141220Z
LAST-MODIFIED:20221215T141220Z
UID:12200-1677780000-1677787200@csv.verona.it
SUMMARY:FORMAZIONE  – Alla ricerca dell’impronta sociale: avvicinarsi alla misurazione dell’impatto sociale
DESCRIPTION:Obiettivi \nStimolati dalla riforma del Terzo settore\, il mondo delle organizzazioni impegnate in azioni sociali si sta accostando sempre di più ai temi della misurazione dell’impatto sociale. L’intento del corso è quello di avvicinare al concetto di impatto sociale e valore aggiunto sociale\, una misurazione attorno alla quale è cresciuta negli anni una importante letteratura scientifica di supporto\, facendo anche comprendere l’importanza che riveste per avvicinare stakeholder\, enti di erogazione fondi e dialogare nel contesto della progettazione sociale. Durante la formazione si porrà anche un significativo accento sulla correlazione fra il bilancio sociale e i criteri di misurazione dell’impatto sociale. \n  \nContenuti  \nTra i contenuti principali: \n\noffrire un quadro di sintesi sul concetto di impatto sociale per le organizzazioni del Terzo settore;\nindicare le potenzialità di utilizzo della misurazione di impatto sociale: bandi di finanziamento\, istituti bancari\, reti associative\, crescita organizzativa interna;\nintrodurre alla scelta del metodo di misurazione dell’impatto: modelli esistenti e costruzione di strumenti personalizzati sulle singole realtà;\nricercare gli indicatori più utili per misurare l’impatto sociale e il bilancio sociale come base fondamentale per attivare sistemi di misurazione dell’impatto sociale.\n\n  \nDocente \nFabio Fornasini\, si occupa da anni di responsabilità sociale di impresa e consulenza per il Terzo settore. Svolge attività come auditor per enti di certificazione qualità per schemi di certificazione etica e sociale. In questi anni ha approfondito modelli di misurazione del valore aggiunto sociale nel Terzo settore. Ha studiato economia all’Università di Genova e sociologia a Trento. \n  \nMetodologia didattica \nLezione frontale molto pratica\, aperta agli interventi e calibrata sulle esigenze dei partecipanti. \n  \nDate e orari \nGiovedì 2 e 9 marzo 2023 ǀ 18.00 – 20.00 \n  \nSede  \nIl corso si svolgerà in presenza\, in zona Veronetta. L’indirizzo sarà comunicato agli iscritti. Il corso si svolgerà in modalità webinar qualora le norme anti Covid\, in vigore in quel momento\, non permetteranno le lezioni in presenza; in questo caso sarà data tempestiva comunicazione agli iscritti. \n  \nDestinatari  \n25 volontari – Tipologia: presidente\, membri del direttivo\, amministrativi\, volontari. \n  \nContributo di partecipazione  \nODV 20 Euro a corsista (nell’area personale per l’iscrizione assicurarsi di essere collegati alla propria associazione\, diversamente la quota sarà di 40 Euro); altre forme associative e singoli cittadini 40 Euro a corsista.\nIl pagamento della quota può essere effettuato:  \n\nCon PayPal all’atto dell’iscrizione;\ntramite bonifico bancario a FEDERAZIONE DEL VOLONTARIATO DI VERONA – BANCO BPM SPA VERONA (ITALY)\, BIC BAPPIT21004\, IBAN IT76O0503411704000000051276\, indicando come causale nome + cognome + titolo corso abbreviato. Il pagamento deve essere effettuato entro il 26 febbraio per permettere all’amministrazione del CSV la verifica contabile. Ai soli iscritti sarà comunicata\, via mail\, la sede del corso (zona Veronetta).\n\n  \nRegolamento per accedere alla formazione\nPrima ci si iscrive al corso e solo dopo l’iscrizione si effettua il saldo del contributo di partecipazione.\nRegolamento completo \n  \nIscrizione obbligatoria e pagamento entro il 26 febbraio effettuando il login. \n  \n 
URL:https://csv.verona.it/event/formazione-alla-ricerca-dellimpronta-sociale-avvicinarsi-alla-misurazione-dellimpatto-sociale-2023/
END:VEVENT
END:VCALENDAR