BEGIN:VCALENDAR
VERSION:2.0
PRODID:-//CSV - ECPv6.15.20//NONSGML v1.0//EN
CALSCALE:GREGORIAN
METHOD:PUBLISH
X-WR-CALNAME:CSV
X-ORIGINAL-URL:https://csv.verona.it
X-WR-CALDESC:Eventi per CSV
REFRESH-INTERVAL;VALUE=DURATION:PT1H
X-Robots-Tag:noindex
X-PUBLISHED-TTL:PT1H
BEGIN:VTIMEZONE
TZID:Europe/Rome
BEGIN:DAYLIGHT
TZOFFSETFROM:+0100
TZOFFSETTO:+0200
TZNAME:CEST
DTSTART:20210328T010000
END:DAYLIGHT
BEGIN:STANDARD
TZOFFSETFROM:+0200
TZOFFSETTO:+0100
TZNAME:CET
DTSTART:20211031T010000
END:STANDARD
BEGIN:DAYLIGHT
TZOFFSETFROM:+0100
TZOFFSETTO:+0200
TZNAME:CEST
DTSTART:20220327T010000
END:DAYLIGHT
BEGIN:STANDARD
TZOFFSETFROM:+0200
TZOFFSETTO:+0100
TZNAME:CET
DTSTART:20221030T010000
END:STANDARD
BEGIN:DAYLIGHT
TZOFFSETFROM:+0100
TZOFFSETTO:+0200
TZNAME:CEST
DTSTART:20230326T010000
END:DAYLIGHT
BEGIN:STANDARD
TZOFFSETFROM:+0200
TZOFFSETTO:+0100
TZNAME:CET
DTSTART:20231029T010000
END:STANDARD
END:VTIMEZONE
BEGIN:VEVENT
DTSTART;TZID=Europe/Rome:20221025T180000
DTEND;TZID=Europe/Rome:20221025T203000
DTSTAMP:20260423T192254
CREATED:20220801T073142Z
LAST-MODIFIED:20220923T105952Z
UID:11705-1666720800-1666729800@csv.verona.it
SUMMARY:Formazione - Marchio etico e di qualità Merita Fiducia
DESCRIPTION:Obiettivi \nLe due serate formative intendono offrire un quadro d’insieme sul marchio etico e di qualità Merita Fiducia\, riconoscimento promosso dal CSV di Verona. I partecipanti avranno la possibilità di approfondire il significato e gli obiettivi di un percorso che sviluppa e certifica trasparenza e affidabilità dell’organizzazione\, finalizzate anche al fundraising. Si metteranno in luce gli aspetti essenziali della rendicontazione sociale\, in linea con quanto previsto dal Codice del Terzo Settore e dalle Linee Guida per la redazione del Bilancio sociale. Verranno presentati i servizi di accompagnamento\, dedicati alle organizzazioni che intraprenderanno il percorso di certificazione\, con particolare riferimento a rendicontazione sociale (relazione al bilancio e bilancio sociale)\, corretta gestione documentale dell’associazione\, attività di raccolta fondi.\nPer chi è interessato a presentare domanda di partecipazione al marchio nell’edizione 2022-2023\, la partecipazione a questo corso è obbligatoria. \n  \nContenuti  \nIl significato di un marchio etico e di qualità per il mondo del non profit \n\nevoluzione del non profit\, la trasparenza nel Codice del Terzo Settore;\nle linee guida per la redazione del bilancio sociale;\ntrasparenza e accountability (capacità di rendicontare) come principali elementi di comunicazione e fundraising\n\nIl marchio Merita Fiducia \n\nla struttura del marchio (base e plus) e il percorso preliminare Carte in Regola;\nil regolamento del marchio e il percorso di valutazione Merita Fiducia;\nla gestione del percorso di valutazione: gruppo istruttorio e comitato di valutazione;\nla rendicontazione economica e sociale nel percorso Merita Fiducia.\n\nPrepararsi al marchio: \n\ni focus di attenzione per le organizzazioni di volontariato;\nbilancio\, rendiconto raccolta fondi\, le potenzialità di crescita nella gestione interna;\ni servizi integrativi promossi per le organizzazioni aderenti.\n\n  \nDocente \nIrene Magri – Referente del marchio Merita Fiducia per il CSV di Verona e valutatore/auditor\nElena D’Alessandro – Responsabile dell’Ufficio Consulenze del CSV di Verona\nDavide Continati – Consulente esterno del CSV di Verona con qualifica di valutatore/auditor \n  \nMetodologia didattica \nLe lezioni saranno accompagnate da dispense contenenti gli argomenti e le esercitazioni svolte. \n  \nDate e orari \nMartedì 25 ottobre e 8 e 15 novembre 2022 ǀ 18.00 – 20.30 \n  \nSede \nIl corso si svolgerà in presenza\, in zona Veronetta. L’indirizzo sarà comunicato agli iscritti al corso. Il corso si svolgerà in modalità webinar qualora le norme anti Covid\, in vigore in quel momento\, non permetteranno le lezioni in presenza; in questo caso sarà data tempestiva comunicazione agli iscritti. \n  \nDestinatari  \nPresidenti\, membri del direttivo\, volontari\, operatori che\, all’interno dell’organizzazione\, avranno la responsabilità di seguire tutto l’iter di certificazione. \nSi consiglia la presenza di almeno due persone per organizzazione. \n  \nQuota di partecipazione  \nIl corso non prevede la quota d’iscrizione. \n  \nRegolamento per accedere alla formazione \nSi deve iscrivere al corso la persona che effettivamente parteciperà alla formazione. \nPer il regolamento completo \n  \nIscrizione obbligatoria entro il 23 ottobre \nEffettuando il login \n  \n 
URL:https://csv.verona.it/event/formazione-marchio-etico-qualita-merita-fiducia-2/
END:VEVENT
END:VCALENDAR