BEGIN:VCALENDAR
VERSION:2.0
PRODID:-//CSV - ECPv6.15.20//NONSGML v1.0//EN
CALSCALE:GREGORIAN
METHOD:PUBLISH
X-ORIGINAL-URL:https://csv.verona.it
X-WR-CALDESC:Eventi per CSV
REFRESH-INTERVAL;VALUE=DURATION:PT1H
X-Robots-Tag:noindex
X-PUBLISHED-TTL:PT1H
BEGIN:VTIMEZONE
TZID:Europe/Rome
BEGIN:DAYLIGHT
TZOFFSETFROM:+0100
TZOFFSETTO:+0200
TZNAME:CEST
DTSTART:20210328T010000
END:DAYLIGHT
BEGIN:STANDARD
TZOFFSETFROM:+0200
TZOFFSETTO:+0100
TZNAME:CET
DTSTART:20211031T010000
END:STANDARD
BEGIN:DAYLIGHT
TZOFFSETFROM:+0100
TZOFFSETTO:+0200
TZNAME:CEST
DTSTART:20220327T010000
END:DAYLIGHT
BEGIN:STANDARD
TZOFFSETFROM:+0200
TZOFFSETTO:+0100
TZNAME:CET
DTSTART:20221030T010000
END:STANDARD
BEGIN:DAYLIGHT
TZOFFSETFROM:+0100
TZOFFSETTO:+0200
TZNAME:CEST
DTSTART:20230326T010000
END:DAYLIGHT
BEGIN:STANDARD
TZOFFSETFROM:+0200
TZOFFSETTO:+0100
TZNAME:CET
DTSTART:20231029T010000
END:STANDARD
END:VTIMEZONE
BEGIN:VEVENT
DTSTART;TZID=Europe/Rome:20220526T180000
DTEND;TZID=Europe/Rome:20220526T200000
DTSTAMP:20260424T024417
CREATED:20211221T094240Z
LAST-MODIFIED:20211221T113206Z
UID:11072-1653588000-1653595200@csv.verona.it
SUMMARY:FORMAZIONE  – L’assicurazione per associazione e volontari
DESCRIPTION:  \nObiettivi \nL’incontro intende: illustrare l’obbligo di assicurare i volontari dell’associazione contro infortuni\, malattia e responsabilità civile verso terzi (art.18 Dlgs. 117/17); approfondire i casi di polizze facoltative in caso di particolari eventi (feste\, convegni) o di specifiche attività; sensibilizzare sul tema della responsabilità civile degli amministratori dell’associazione e sulla tutela legale. \n   \nContenuti  \nSi affronteranno i seguenti argomenti: \n\n18 Dlgs. 117/17;\nrischio e responsabilità contrattuale ed extracontrattuale;\npersonalità giuridica;\nassicurazione contro gli infortuni\, malattie\, responsabilità civile verso terzi;\nla tutela legale;\nle polizze facoltative in casi particolari.\n\n  \nDocente \nFrancesco Rendina\, consulente e professionista dell’ambito assicurativo. \n  \nMetodologia didattica \nLezione frontale molto pratica\, aperta agli interventi e calibrata sulle esigenze dei partecipanti. \n  \nDate e orari \nGiovedì 26 maggio 2022 ǀ 18.00 – 20.00 \n  \nSede  \nIl corso si svolgerà in presenza\, in zona Piazza Isolo con possibilità di parcheggio interno. L’indirizzo sarà comunicato agli iscritti al corso. La formazione si svolgerà in modalità webinar qualora le norme anti Covid\, in vigore in quel momento\, non permetteranno le lezioni in presenza; in questo caso sarà data tempestiva comunicazione agli iscritti. \n  \nDestinatari  \n25 volontari – Tipologia: presidenti\, membri del direttivo\, amministrativi\, volontari \n  \nContributo di partecipazione  \nODV 10 Euro a corsista (nell’area personale per l’iscrizione assicurarsi di essere collegati alla propria associazione\, diversamente la quota sarà di 20 Euro); altre forme associative e singoli cittadini 20 Euro a corsista. \nIl pagamento della quota può essere effettuato: \n\nCon PayPal all’atto dell’iscrizione;\ntramite bonifico bancario a FEDERAZIONE DEL VOLONTARIATO DI VERONA – BANCO BPM SPA VERONA (ITALY)\, BIC BAPPIT21004\, IBAN IT76O0503411704000000051276\, indicando come causale nome + cognome + titolo corso abbreviato. Il pagamento deve essere effettuato entro il 22 maggio per permettere all’amministrazione del CSV la verifica contabile.\n\n   \nRegolamento per accedere alla formazione \nPrima ci si iscrive al corso e solo dopo l’iscrizione si effettua il saldo del contributo di partecipazione. \nRegolamento completo \n  \nIscrizione obbligatoria e pagamento entro il 22 maggio \nSi deve iscrivere al corso la persona che effettivamente parteciperà alla formazione. Non saranno ammesse persone che non figurano nel nostro registro. \nEffettuando il login \n 
URL:https://csv.verona.it/event/formazione-lassicurazione-associazione-volontari-3/
END:VEVENT
END:VCALENDAR