BEGIN:VCALENDAR
VERSION:2.0
PRODID:-//CSV - ECPv6.15.20//NONSGML v1.0//EN
CALSCALE:GREGORIAN
METHOD:PUBLISH
X-ORIGINAL-URL:https://csv.verona.it
X-WR-CALDESC:Eventi per CSV
REFRESH-INTERVAL;VALUE=DURATION:PT1H
X-Robots-Tag:noindex
X-PUBLISHED-TTL:PT1H
BEGIN:VTIMEZONE
TZID:Europe/Rome
BEGIN:DAYLIGHT
TZOFFSETFROM:+0100
TZOFFSETTO:+0200
TZNAME:CEST
DTSTART:20210328T010000
END:DAYLIGHT
BEGIN:STANDARD
TZOFFSETFROM:+0200
TZOFFSETTO:+0100
TZNAME:CET
DTSTART:20211031T010000
END:STANDARD
BEGIN:DAYLIGHT
TZOFFSETFROM:+0100
TZOFFSETTO:+0200
TZNAME:CEST
DTSTART:20220327T010000
END:DAYLIGHT
BEGIN:STANDARD
TZOFFSETFROM:+0200
TZOFFSETTO:+0100
TZNAME:CET
DTSTART:20221030T010000
END:STANDARD
BEGIN:DAYLIGHT
TZOFFSETFROM:+0100
TZOFFSETTO:+0200
TZNAME:CEST
DTSTART:20230326T010000
END:DAYLIGHT
BEGIN:STANDARD
TZOFFSETFROM:+0200
TZOFFSETTO:+0100
TZNAME:CET
DTSTART:20231029T010000
END:STANDARD
END:VTIMEZONE
BEGIN:VEVENT
DTSTART;TZID=Europe/Rome:20220505T180000
DTEND;TZID=Europe/Rome:20220505T203000
DTSTAMP:20260424T024402
CREATED:20211221T093304Z
LAST-MODIFIED:20211221T125936Z
UID:11066-1651773600-1651782600@csv.verona.it
SUMMARY:FORMAZIONE  – Obiettivi dell’Agenda 2030 delle Nazioni Unite e creazione di bene comune
DESCRIPTION:Obiettivi \nVuoi scoprire il tuo contributo attivo alla realizzazione degli obiettivi dell’Agenda 2030 e il tuo potenziale ancora inespresso (come cittadino e come organizzazione) per attuare un cambiamento positivo nella realtà di riferimento? Vuoi prendere consapevolezza della capacità d’impatto complessiva di persone e organizzazioni di volontariato nel contesto della nostra provincia? La partecipazione al corso ti permetterà di: conoscere gli obiettivi di sviluppo sostenibile dell’Agenda 2030 dell’ONU (SDGs); riflettere sugli SDGs che le associazioni raggiungono\, anche in maniera inconsapevole\, attraverso le proprie attività; prendere consapevolezza della valenza sistemica delle proprie attività; riconoscere gli SDGs comuni tra le associazioni e le eventuali connessioni possibili. \n  \nContenuti  \nBreve dinamica di presentazione dei partecipanti e delle loro organizzazioni.\nAttività di primo approccio all’Agenda 2030 e ai suoi obiettivi di sviluppo sostenibile (per averne una prima idea leggi questa pagina delle Nazioni Unite.\nLavoro di riflessione attiva sulle organizzazioni e su quali SDGs raggiungono in maniera consapevole e inconsapevole.\nAttività di scoperta del proprio valore sistemico.\nCostruzione della visione globale del volontariato nella nostra provincia come attivatore di soggetti in grado di portare un cambiamento\, un impatto positivo su tutti gli SDGs. \n  \nDocente \nLucia Vesentini\, avvocato\, specializzata in Studi sulla Comunità internazionale\, stage alle Nazione Unite e Etica d’Impresa\, Master in Social Foresight. Da sempre animata dalla passione e dall’impegno per il bene comune\, si dedica ad attività di formazione e consulenza in materia di sostenibilità\, future literature\, cittadinanza attiva. \n  \nMetodologia didattica \nLezione frontale molto pratica\, aperta agli interventi e calibrata sulle esigenze dei partecipanti. \n  \n Date e orari \nGiovedì 5 maggio 2022 ǀ 18.00 – 20.30 \n  \nSede  \nIl corso si svolgerà in presenza\, in zona Piazza Isolo con possibilità di parcheggio interno. L’indirizzo sarà comunicato agli iscritti al corso. La formazione si svolgerà in modalità webinar qualora le norme anti Covid\, in vigore in quel momento\, non permetteranno le lezioni in presenza; in questo caso sarà data tempestiva comunicazione agli iscritti. \n  \nDestinatari  \n25 volontari – Tipologia: presidente\, membri del direttivo\, segretari\, volontari dell’associazione. \n  \nContributo di partecipazione  \nL’incontro non prevede la quota d’iscrizione. \n   \nRegolamento per accedere alla formazione \nRegolamento completo \n   \nIscrizione obbligatoria entro il 3 maggio \nSi deve iscrivere al corso la persona che effettivamente parteciperà alla formazione. Non saranno ammesse persone che non figurano nel nostro registro. \nEffettuando il login \n 
URL:https://csv.verona.it/event/formazione-obiettivi-dellagenda-2030-delle-nazioni-unite-creazione-bene-comune/
END:VEVENT
END:VCALENDAR