BEGIN:VCALENDAR
VERSION:2.0
PRODID:-//CSV - ECPv6.15.20//NONSGML v1.0//EN
CALSCALE:GREGORIAN
METHOD:PUBLISH
X-ORIGINAL-URL:https://csv.verona.it
X-WR-CALDESC:Eventi per CSV
REFRESH-INTERVAL;VALUE=DURATION:PT1H
X-Robots-Tag:noindex
X-PUBLISHED-TTL:PT1H
BEGIN:VTIMEZONE
TZID:Europe/Rome
BEGIN:DAYLIGHT
TZOFFSETFROM:+0100
TZOFFSETTO:+0200
TZNAME:CEST
DTSTART:20210328T010000
END:DAYLIGHT
BEGIN:STANDARD
TZOFFSETFROM:+0200
TZOFFSETTO:+0100
TZNAME:CET
DTSTART:20211031T010000
END:STANDARD
BEGIN:DAYLIGHT
TZOFFSETFROM:+0100
TZOFFSETTO:+0200
TZNAME:CEST
DTSTART:20220327T010000
END:DAYLIGHT
BEGIN:STANDARD
TZOFFSETFROM:+0200
TZOFFSETTO:+0100
TZNAME:CET
DTSTART:20221030T010000
END:STANDARD
BEGIN:DAYLIGHT
TZOFFSETFROM:+0100
TZOFFSETTO:+0200
TZNAME:CEST
DTSTART:20230326T010000
END:DAYLIGHT
BEGIN:STANDARD
TZOFFSETFROM:+0200
TZOFFSETTO:+0100
TZNAME:CET
DTSTART:20231029T010000
END:STANDARD
END:VTIMEZONE
BEGIN:VEVENT
DTSTART;TZID=Europe/Rome:20220407T160000
DTEND;TZID=Europe/Rome:20220407T180000
DTSTAMP:20260424T055357
CREATED:20211221T092607Z
LAST-MODIFIED:20211221T114454Z
UID:11062-1649347200-1649354400@csv.verona.it
SUMMARY:FORMAZIONE  – Sicurezza sul lavoro nelle associazioni
DESCRIPTION:Sicuri di essere sicuri?\nPremessa \nPer l’anno 2021/2022 CSV ha proposto\, avvalendosi della consulenza di Studio Essepi SRL\, un percorso di formazione sulla cultura della sicurezza sul lavoro anche tra le associazioni di volontariato\, attraverso l’attivazione di uno “Sportello sul lavoro e sicurezza eventi”\, la realizzazione di un’apposita sezione del sito dedicata\, la pubblicazione di approfondimenti. \nIl corso in oggetto non riguarda la formazione obbligatoria ai sensi del D.Lgs 81/08\, bensì è una formazione specifica per acquisire coscienza sulla sicurezza nell’associazione e fornire strumenti utili per impostare l’attività associativa in sicurezza nell’operatività quotidiana. \n  \n Obiettivi \nIl corso intende presentare una panoramica dei principali adempimenti in tema di sicurezza per le associazioni e per i volontari. L’obiettivo principale è quello di formare una “cultura della sicurezza” anche tra le associazioni di volontariato\, che spesso sottovalutano questo aspetto\, rimanendo più concentrate sull’erogazione dell’attività che sulle modalità con cui l’attività viene svolta. La domanda provocatoria in apertura intende attirare l’attenzione sul vedere l’associazione “dall’esterno”\, valutando se nel complesso si è preoccupata\, a volte anche mettendo in atto piccoli gesti e azioni\, della sicurezza sia dei propri volontari\, utenti\, ospiti. \nGli obiettivi dell’incontro saranno dunque illustrare i principali adempimenti in tema di sicurezza sul lavoro che sono applicabili anche ad associazioni e volontari\, con alcuni cenni alla gestione di emergenze di primo soccorso e antincendio. \n  \nContenuti  \nSi affronteranno i seguenti argomenti specifici: \n\nconcetto e significato reale di sicurezza sul lavoro nelle associazioni;\nsicurezza per volontari e per personale retribuito;\nprincipali norme e adempimenti in tema di sicurezza sul lavoro;\nalcune soluzioni efficaci e sostenibili per agire in tema di sicurezza nell’associazione;\ncenni sulla gestione delle emergenze di primo soccorso e antincendio.\n\nL’incontro si pone in collegamento con un secondo che si terrà il 28 aprile e che declinerà i principali temi di sicurezza nelle associazioni a seconda delle varie tipologie di attività\, considerando inoltre l’uso di attrezzature che comportano rischi per la persona. Si consiglia la partecipazione ad entrambi. \n  \n Docente \nFormatore di Studio Essepi SRL\, esperto in tema di sicurezza anche nel volontariato. \n  \nMetodologia didattica \nLezione frontale molto pratica\, aperta agli interventi e calibrata sulle esigenze dei partecipanti. \n   \nDate e orari \nIl corso si svolge giovedì 7 aprile 2022 ǀ 16.00 – 18.00 \n  \nSede  \nLugagnano di Sona (VR) \n  \nDestinatari  \n20 volontari – Tipologia: è consigliabile che il corso sia frequentato dalla figura interna che segue gli aspetti gestionali dell’associazione\, segretario\, presidente\, amministrativo\, volontario. \n  \nContributo di partecipazione  \nODV 10 Euro a corsista (nell’area personale per l’iscrizione assicurarsi di essere collegati alla propria associazione\, diversamente la quota sarà di 20 euro); altre forme associative e singoli cittadini 20 Euro a corsista. \nIl pagamento della quota può essere effettuato: \n\nCon PayPal all’atto dell’iscrizione;\ntramite bonifico bancario a FEDERAZIONE DEL VOLONTARIATO DI VERONA – BANCO BPM SPA VERONA (ITALY)\, BIC BAPPIT21004\, IBAN IT76O0503411704000000051276\, indicando come causale nome + cognome + titolo corso abbreviato. Il pagamento deve essere effettuato entro il 3 aprile 2022 per permettere all’amministrazione del CSV la verifica contabile. \n\n  \n Regolamento per accedere alla formazione \nPrima ci si iscrive al corso e solo dopo l’iscrizione si effettua il saldo del contributo di partecipazione. \nRegolamento completo \n  \nIscrizione obbligatoria e pagamento entro il 3 aprile. \nSi deve iscrivere al corso la persona che effettivamente parteciperà alla formazione. Non saranno ammesse persone che non figurano nel nostro registro. \nEffettuando il login \n 
URL:https://csv.verona.it/event/formazione-sicurezza-sul-lavoro-nelle-associazioni-sicuri-sicuri/
END:VEVENT
END:VCALENDAR