BEGIN:VCALENDAR
VERSION:2.0
PRODID:-//CSV - ECPv6.15.20//NONSGML v1.0//EN
CALSCALE:GREGORIAN
METHOD:PUBLISH
X-WR-CALNAME:CSV
X-ORIGINAL-URL:https://csv.verona.it
X-WR-CALDESC:Eventi per CSV
REFRESH-INTERVAL;VALUE=DURATION:PT1H
X-Robots-Tag:noindex
X-PUBLISHED-TTL:PT1H
BEGIN:VTIMEZONE
TZID:Europe/Rome
BEGIN:DAYLIGHT
TZOFFSETFROM:+0100
TZOFFSETTO:+0200
TZNAME:CEST
DTSTART:20200329T010000
END:DAYLIGHT
BEGIN:STANDARD
TZOFFSETFROM:+0200
TZOFFSETTO:+0100
TZNAME:CET
DTSTART:20201025T010000
END:STANDARD
BEGIN:DAYLIGHT
TZOFFSETFROM:+0100
TZOFFSETTO:+0200
TZNAME:CEST
DTSTART:20210328T010000
END:DAYLIGHT
BEGIN:STANDARD
TZOFFSETFROM:+0200
TZOFFSETTO:+0100
TZNAME:CET
DTSTART:20211031T010000
END:STANDARD
BEGIN:DAYLIGHT
TZOFFSETFROM:+0100
TZOFFSETTO:+0200
TZNAME:CEST
DTSTART:20220327T010000
END:DAYLIGHT
BEGIN:STANDARD
TZOFFSETFROM:+0200
TZOFFSETTO:+0100
TZNAME:CET
DTSTART:20221030T010000
END:STANDARD
END:VTIMEZONE
BEGIN:VEVENT
DTSTART;TZID=Europe/Rome:20211103T173000
DTEND;TZID=Europe/Rome:20211103T190000
DTSTAMP:20260424T121225
CREATED:20210803T075354Z
LAST-MODIFIED:20211019T094309Z
UID:10550-1635960600-1635966000@csv.verona.it
SUMMARY:WEBINAR  – Il mio centro: un posto tranquillo in cui ritornare
DESCRIPTION:  \nObiettivi \nSiamo talmente concentrati ad ascoltare tutto ciò che accade attorno a noi che\, spesso\, ci dimentichiamo di prestare attenzione a quello che accade dentro noi. Il nostro cuore profondo (così possiamo chiamare il nostro mondo interiore) dovrebbe essere un luogo meraviglioso in cui poter tornare ogni qualvolta ne sentiamo la necessità. Spesso quello che accade\, però\, è che il mondo esterno con tutta la sua frenesia contamina anche questo nostro cuore profondo. Rientrare in noi stessi\, a volte\, è davvero faticoso e non poter contare su di un luogo tranquillo a cui poter ritornare di tanto in tanto\, ci fa sentire sempre sotto pressione e aumenta il nostro livello di stress.\nAttraverso questo corso\, pertanto\, impareremo ad attivare processi distintivi e rigenerativi prendendo familiarità con il nostro corpo come via d’accesso al nostro mondo interiore\, recuperando uno spazio di ascolto di noi stessi\, ripristinando uno stato di calma interiore. \n  \nContenuti  \nIl percorso formativo\, che sarà condotto on line con cadenza settimanale\, introdurrà i partecipanti alla scoperta dei primi tre moduli di training autogeno. Attraverso questa tecnica\, comodamente da casa\, ci si eserciterà: \n\nnel rilassamento frazionato\, imparando a distendere e rilassare progressivamente tutto il corpo;\na generare uno stato di rilassamento profondo attraverso l’esercizio della pesantezza e l’esercizio del calore.\n\nOgni incontro prevedrà una parte teorica introduttiva che spiegherà la tecnica affrontata durante l’incontro\, e una parte esperienziale in cui i partecipanti\, accompagnati dal formatore\, sperimenteranno su di sé proprio questa tecnica. Alla fine di ogni incontro verranno date delle schede di auto monitoraggio per esercitarsi nella tecnica tra un incontro e l’altro. \n  \nDocente \nCristiano Pravadelli\, psicologo\, formatore e coach certificato in Process Communication Model (PCM)\, si occupa di comunicazione\, problem solving e strategie di concentrazione \n  \nMetodologia didattica \nLezione frontale operativa e pratica \n  \nDate e orari \nIl corso prevede tre incontri: mercoledì 3/10/17 novembre 2021 ǀ 17.30 – 19.00 \n  \nSede  \nWebinar \n  \nDestinatari  \n20 persone interessate all’argomento \n  \nContributo di partecipazione  \nODV 20 Euro a corsista (nell’area personale per l’iscrizione assicurarsi di essere collegati alla propria associazione\, diversamente la quota sarà di 40 euro); altre forme associative e singoli cittadini 40 Euro a corsista. \nIl pagamento della quota può essere effettuato solo dopo aver eseguito l’iscrizione al corso: \n\nCon PayPal all’atto dell’iscrizione;\ntramite bonifico bancario indicando come causale nome + cognome + titolo corso abbreviato. Le coordinate bancarie saranno inviate via mail al momento della conferma dell’iscrizione. Il pagamento deve essere effettuato entro il 28 ottobre per permettere all’amministrazione del CSV la verifica contabile e il successivo invio del link per la partecipazione al webinar. Il link sarà inviato il giorno prima o la mattina stessa del giorno del corso.\n\n  \nRegolamento per accedere alla formazione \n\nSi deve iscrivere al corso la persona che effettivamente parteciperà alla formazione.\nPrima ci si iscrive al corso e solo dopo l’iscrizione si effettua il saldo del contributo di partecipazione.\n\nRegolamento completo \n  \nIscrizione obbligatoria e pagamento entro il 28 ottobre \nEffettuando il login \n 
URL:https://csv.verona.it/event/webinar-mio-centro-un-posto-tranquillo-cui-ritornare/
END:VEVENT
END:VCALENDAR