BEGIN:VCALENDAR
VERSION:2.0
PRODID:-//CSV - ECPv6.15.20//NONSGML v1.0//EN
CALSCALE:GREGORIAN
METHOD:PUBLISH
X-WR-CALNAME:CSV
X-ORIGINAL-URL:https://csv.verona.it
X-WR-CALDESC:Eventi per CSV
REFRESH-INTERVAL;VALUE=DURATION:PT1H
X-Robots-Tag:noindex
X-PUBLISHED-TTL:PT1H
BEGIN:VTIMEZONE
TZID:Europe/Rome
BEGIN:DAYLIGHT
TZOFFSETFROM:+0100
TZOFFSETTO:+0200
TZNAME:CEST
DTSTART:20200329T010000
END:DAYLIGHT
BEGIN:STANDARD
TZOFFSETFROM:+0200
TZOFFSETTO:+0100
TZNAME:CET
DTSTART:20201025T010000
END:STANDARD
BEGIN:DAYLIGHT
TZOFFSETFROM:+0100
TZOFFSETTO:+0200
TZNAME:CEST
DTSTART:20210328T010000
END:DAYLIGHT
BEGIN:STANDARD
TZOFFSETFROM:+0200
TZOFFSETTO:+0100
TZNAME:CET
DTSTART:20211031T010000
END:STANDARD
BEGIN:DAYLIGHT
TZOFFSETFROM:+0100
TZOFFSETTO:+0200
TZNAME:CEST
DTSTART:20220327T010000
END:DAYLIGHT
BEGIN:STANDARD
TZOFFSETFROM:+0200
TZOFFSETTO:+0100
TZNAME:CET
DTSTART:20221030T010000
END:STANDARD
END:VTIMEZONE
BEGIN:VEVENT
DTSTART;TZID=Europe/Rome:20211026T173000
DTEND;TZID=Europe/Rome:20211026T190000
DTSTAMP:20260424T134000
CREATED:20210803T074235Z
LAST-MODIFIED:20210803T095736Z
UID:10543-1635269400-1635274800@csv.verona.it
SUMMARY:WEBINAR  – Campagna di Natale: scaldiamo i motori!
DESCRIPTION:Obiettivi \nStarai pensando che è ottobre e mancano ancora due mesi a Natale\, in realtà mancano SOLO due mesi alla raccolta fondi più importante dell’anno. Infatti se di norma dona un italiano su tre\, a Natale dona un italiano su due e alcune organizzazioni non profit raccolgono anche più del 50% delle proprie entrate proprio con la campagna di Natale. Quindi questo è il momento giusto per chiarirsi le idee\, stendere un piano d’azione\, richiamare i volontari\, preparare un piano comunicativo.\nDurante questo incontro non ci saranno tecniche particolari di fundraising\, l’obiettivo è fare un po’ di sana pianificazione del lavoro\, mettere dei punti\, creare una lista per non dimenticarsi nulla e arrivare pronti alla scadenza di dicembre.\nLo faremo partendo dalle vostre idee per le campagne di Natale e attraverso la condivisione e il confronto andremo a creare una check list da utilizzare fin da subito nelle vostre realtà associative. \n  \nContenuti  \nLa check list per la campagna di Natale;\nideazione di un piano d’azione;\ncondivisione di idee e spunti. \n  \nDocente \nLaura Zecchin\, fundraiser impegnata in piccole e medie organizzazioni; consulente Sportello Fundraising CSV di Verona \n  \nMetodologia didattica \nLezione frontale molto pratica\, aperta agli interventi e calibrata sulle esigenze dei partecipanti. \n  \nDate e orari \nMartedì 26 ottobre 2021 ǀ 17.30 – 19.00 \n  \nSede  \nWebinar \n  \nDestinatari  \n25 volontari – Tipologia: presidente\, membri del direttivo\, volontari che si occupano di raccolta fondi. \n  \nContributo di partecipazione  \nODV 10 Euro a corsista (nell’area personale per l’iscrizione assicurarsi di essere collegati alla propria associazione\, diversamente la quota sarà di 20 euro); altre forme associative e singoli cittadini 20 Euro a corsista. \nIl pagamento della quota può essere effettuato solo dopo aver eseguito l’iscrizione al corso: \n\nCon PayPal all’atto dell’iscrizione;\ntramite bonifico bancario indicando come causale nome + cognome + titolo corso abbreviato. Le coordinate bancarie saranno inviate via mail al momento della conferma dell’iscrizione. Il pagamento deve essere effettuato entro il 21 ottobre per permettere all’amministrazione del CSV la verifica contabile e il successivo invio del link per la partecipazione al webinar. Il link sarà inviato il giorno prima o la mattina stessa del giorno del corso.\n\n  \nRegolamento per accedere alla formazione \n\nSi deve iscrivere al corso la persona che effettivamente parteciperà alla formazione.\nPrima ci si iscrive al corso e solo dopo l’iscrizione si effettua il saldo del contributo di partecipazione.\n\nRegolamento completo \n  \nIscrizione obbligatoria e pagamento entro il 21 ottobre \nEffettuando il login \n  \n 
URL:https://csv.verona.it/event/webinar-campagna-natale-scaldiamo-motori/
END:VEVENT
END:VCALENDAR