BEGIN:VCALENDAR
VERSION:2.0
PRODID:-//CSV - ECPv6.15.20//NONSGML v1.0//EN
CALSCALE:GREGORIAN
METHOD:PUBLISH
X-ORIGINAL-URL:https://csv.verona.it
X-WR-CALDESC:Eventi per CSV
REFRESH-INTERVAL;VALUE=DURATION:PT1H
X-Robots-Tag:noindex
X-PUBLISHED-TTL:PT1H
BEGIN:VTIMEZONE
TZID:Europe/Rome
BEGIN:DAYLIGHT
TZOFFSETFROM:+0100
TZOFFSETTO:+0200
TZNAME:CEST
DTSTART:20200329T010000
END:DAYLIGHT
BEGIN:STANDARD
TZOFFSETFROM:+0200
TZOFFSETTO:+0100
TZNAME:CET
DTSTART:20201025T010000
END:STANDARD
BEGIN:DAYLIGHT
TZOFFSETFROM:+0100
TZOFFSETTO:+0200
TZNAME:CEST
DTSTART:20210328T010000
END:DAYLIGHT
BEGIN:STANDARD
TZOFFSETFROM:+0200
TZOFFSETTO:+0100
TZNAME:CET
DTSTART:20211031T010000
END:STANDARD
BEGIN:DAYLIGHT
TZOFFSETFROM:+0100
TZOFFSETTO:+0200
TZNAME:CEST
DTSTART:20220327T010000
END:DAYLIGHT
BEGIN:STANDARD
TZOFFSETFROM:+0200
TZOFFSETTO:+0100
TZNAME:CET
DTSTART:20221030T010000
END:STANDARD
END:VTIMEZONE
BEGIN:VEVENT
DTSTART;TZID=Europe/Rome:20211019T170000
DTEND;TZID=Europe/Rome:20211019T190000
DTSTAMP:20260424T134054
CREATED:20210803T081449Z
LAST-MODIFIED:20210927T093708Z
UID:10566-1634662800-1634670000@csv.verona.it
SUMMARY:WEBINAR  – Registro Unico Nazionale del Terzo Settore (RUNTS) e Riforma del Terzo settore
DESCRIPTION:Obiettivi \nCon l’entrata in vigore del Codice del Terzo Settore\, D.lgs 117/17\, si è dato avvio a quel processo di strutturazione della categoria di Enti del Terzo Settore (ETS) che vede dei passaggi progressivi di attuazione. Nel corso di questi anni\, come prescritto\, molti enti hanno adeguato gli statuti alla nuova normativa per essere pronti alla trasmigrazione nel Registro Unico Nazionale del Terzo Settore (RUNTS)\, altri hanno studiato attentamente le varie tipologie di ETS per capire\, al momento dell’apertura del RUNTS\, come potervi accedere e in quale tipologia di ente trasformarsi\, altri ancora sono in una fase di incertezza e di valutazione sulla trasformazione o meno in ETS. \nIl DM 106/2020 ha poi descritto le norme attuative del RUNTS: come è strutturato\, come funziona\, quali saranno le regole e i passaggi pratici per accedervi. \nL’incontro di formazione intende riprendere le fila dei passaggi di tutto questo percorso di transizione dal precedente sistema al nuovo regime ETS\, un percorso non sempre lineare anche a causa delle numerose interruzioni e dei vari interventi normativi intervenuti. L’obiettivo è capire cosa accadrà a livello concreto e pratico a chi trasmigrerà di diritto nel RUNTS e a chi invece si iscriverà autonomamente. \n  \nContenuti  \nRiforma del Terzo Settore: passaggi e stato dell’arte;\nle differenti situazioni per le diverse tipologia di enti;\ncome iscriversi nel RUNTS e quali sono i passaggi operativi: simulazione ed esempi;\ncosa attendersi per i primi anni di operatività del RUNTS. \n  \nDocente \nElena D’Alessandro\, giurista esperta di diritto del Terzo settore\, impegnata attivamente dal 2002 in campi sociali e culturali; responsabile Ufficio Consulenze CSV di Verona \n  \nMetodologia didattica \nLezione frontale molto pratica\, aperta agli interventi e calibrata sulle esigenze dei partecipanti. \n  \nDate e orari \nMartedì 19 ottobre 2021 ǀ 17.00 – 19.00 \nL’incontro si ripete uguale il 30 settembre\, 11 e 23 novembre\, il/la partecipante sceglierà la data più congeniale. \n  \nSede  \nWebinar \n  \nDestinatari  \nVolontari e rappresentanti degli enti del Terzo settore \n  \nQuota di partecipazione  \nIl webinar non prevede la quota d’iscrizione. \n  \nRegolamento per accedere alla formazione \nSi deve iscrivere al corso la persona che effettivamente parteciperà alla formazione. \nRegolamento completo \n  \nIscrizione obbligatoria entro il 17 ottobre \nEffettuando il login \n 
URL:https://csv.verona.it/event/webinar-registro-unico-nazionale-del-terzo-settore-runts-riforma-del-terzo-settore-19-10/
END:VEVENT
END:VCALENDAR