BEGIN:VCALENDAR
VERSION:2.0
PRODID:-//CSV - ECPv6.15.20//NONSGML v1.0//EN
CALSCALE:GREGORIAN
METHOD:PUBLISH
X-WR-CALNAME:CSV
X-ORIGINAL-URL:https://csv.verona.it
X-WR-CALDESC:Eventi per CSV
REFRESH-INTERVAL;VALUE=DURATION:PT1H
X-Robots-Tag:noindex
X-PUBLISHED-TTL:PT1H
BEGIN:VTIMEZONE
TZID:Europe/Rome
BEGIN:DAYLIGHT
TZOFFSETFROM:+0100
TZOFFSETTO:+0200
TZNAME:CEST
DTSTART:20200329T010000
END:DAYLIGHT
BEGIN:STANDARD
TZOFFSETFROM:+0200
TZOFFSETTO:+0100
TZNAME:CET
DTSTART:20201025T010000
END:STANDARD
BEGIN:DAYLIGHT
TZOFFSETFROM:+0100
TZOFFSETTO:+0200
TZNAME:CEST
DTSTART:20210328T010000
END:DAYLIGHT
BEGIN:STANDARD
TZOFFSETFROM:+0200
TZOFFSETTO:+0100
TZNAME:CET
DTSTART:20211031T010000
END:STANDARD
BEGIN:DAYLIGHT
TZOFFSETFROM:+0100
TZOFFSETTO:+0200
TZNAME:CEST
DTSTART:20220327T010000
END:DAYLIGHT
BEGIN:STANDARD
TZOFFSETFROM:+0200
TZOFFSETTO:+0100
TZNAME:CET
DTSTART:20221030T010000
END:STANDARD
END:VTIMEZONE
BEGIN:VEVENT
DTSTART;TZID=Europe/Rome:20210831T170000
DTEND;TZID=Europe/Rome:20210831T193000
DTSTAMP:20260424T151017
CREATED:20201210T094531Z
LAST-MODIFIED:20210803T100111Z
UID:9752-1630429200-1630438200@csv.verona.it
SUMMARY:FORMAZIONE – Progettare e valutare il cambiamento: come rispondere ai bisogni e trasformare il territorio
DESCRIPTION:Obiettivi \nProgettare senza prevedere un cambiamento e senza saperlo dimostrare e raccontare\, significa perdere una grande opportunità per trasformare le nostre idee in azioni concrete\, riconosciute e finanziabili. Il corso si propone di ripercorrere tutto il processo di progettazione\, gestione e valutazione di un progetto e di ripensarlo alla luce dell’impatto sociale\, ovvero del cambiamento\, che si vuole realizzare su un determinato territorio o una comunità di riferimento. \n  \nContenuti  \nLa fase di ideazione delle azioni progettuali e gli indicatori come punto di contatto costante con il contesto e con la definizione dei bisogni a cui si intende rispondere.\nGli strumenti per misurare i risultati e per trasformare la lettura degli output di un progetto in un vero strumento per analizzare la trasformazione sociale agita.\nLa rilevanza dell’inserimento della misurazione dell’impatto sociale nella progettazione per gli enti erogatori e per coloro che si occupano della valutazione dei progetti sociali. \n  \nDocente \nSilvia Sartori – master in “Innovazione Sociale Strategica”\, si occupa di volontariato e Terzo settore da 15 anni. Lavora come consulente per aziende ed enti del Terzo settore sul tema della responsabilità sociale e di impresa\, del bilancio sociale\, della progettazione e della misurazione dell’impatto. \n  \nMetodologia didattica \nLezione frontale molto pratica\, aperta agli interventi e calibrata sulle esigenze dei partecipanti. \n  \nDate e orari \nIl corso si svolge in tre incontri: 31 agosto\, 7\, 9 settembre 2021 ǀ 17.00 – 19.30 \n  \nSede  \nIl corso si svolgerà in presenza (regole anti Covid permettendo)\, presumibilmente in zona Piazza Isolo. Nel mese di agosto sarà comunicato l’indirizzo agli iscritti al corso. \n  \nDestinatari  \n25 volontari – Tipologia: responsabile della progettazione\, presidente\, tesoriere\, amministrativi\, segretario\, volontari. \n  \nContributo di partecipazione  \nODV 30 Euro (chi effettua l’iscrizione si assicuri di essere collegato alla propria associazione altrimenti la quota sarà di 60 Euro); altre forme associative e singoli cittadini 60 Euro. \nIl pagamento della quota può essere effettuato: \n\nCon PayPal all’atto dell’iscrizione;\ntramite bonifico bancario a FEDERAZIONE DEL VOLONTARIATO DI VERONA – BANCO BPM SPA VERONA (ITALY)\, BIC BAPPIT21004\, IBAN IT76O0503411704000000051276\, indicando come causale nome + cognome + titolo corso abbreviato. Il pagamento deve essere effettuato entro il 27 agosto 2021 per permettere all’amministrazione del CSV la verifica contabile e il successivo invio del link per la partecipazione al webinar. Il link sarà inviato il giorno prima o la mattina stessa del giorno del corso.\n\n  \nRegolamento per accedere alla formazione \nVai alla pagina  \n  \nIscrizione obbligatoria e pagamento entro il 27 agosto \nEffettuando il login: \n 
URL:https://csv.verona.it/event/formazione-progettare-valutare-cambiamento-rispondere-ai-bisogni-trasformare-territorio/
END:VEVENT
END:VCALENDAR