BEGIN:VCALENDAR
VERSION:2.0
PRODID:-//CSV - ECPv6.15.20//NONSGML v1.0//EN
CALSCALE:GREGORIAN
METHOD:PUBLISH
X-WR-CALNAME:CSV
X-ORIGINAL-URL:https://csv.verona.it
X-WR-CALDESC:Eventi per CSV
REFRESH-INTERVAL;VALUE=DURATION:PT1H
X-Robots-Tag:noindex
X-PUBLISHED-TTL:PT1H
BEGIN:VTIMEZONE
TZID:Europe/Rome
BEGIN:DAYLIGHT
TZOFFSETFROM:+0100
TZOFFSETTO:+0200
TZNAME:CEST
DTSTART:20200329T010000
END:DAYLIGHT
BEGIN:STANDARD
TZOFFSETFROM:+0200
TZOFFSETTO:+0100
TZNAME:CET
DTSTART:20201025T010000
END:STANDARD
BEGIN:DAYLIGHT
TZOFFSETFROM:+0100
TZOFFSETTO:+0200
TZNAME:CEST
DTSTART:20210328T010000
END:DAYLIGHT
BEGIN:STANDARD
TZOFFSETFROM:+0200
TZOFFSETTO:+0100
TZNAME:CET
DTSTART:20211031T010000
END:STANDARD
BEGIN:DAYLIGHT
TZOFFSETFROM:+0100
TZOFFSETTO:+0200
TZNAME:CEST
DTSTART:20220327T010000
END:DAYLIGHT
BEGIN:STANDARD
TZOFFSETFROM:+0200
TZOFFSETTO:+0100
TZNAME:CET
DTSTART:20221030T010000
END:STANDARD
END:VTIMEZONE
BEGIN:VEVENT
DTSTART;TZID=Europe/Rome:20210406T140000
DTEND;TZID=Europe/Rome:20210406T160000
DTSTAMP:20260424T221629
CREATED:20201201T152938Z
LAST-MODIFIED:20201201T154719Z
UID:9601-1617717600-1617724800@csv.verona.it
SUMMARY:WEBINAR – Orientamento alle forme associative: che associazione siamo?
DESCRIPTION:Obiettivi \nIllustrare i diversi passaggi per costituire e fondare una associazione.\nEsaminare le diverse tipologie giuridiche di enti del Terzo settore (ETS).\nIndividuare quale forma sia la più adeguata alle esigenze sollevate dai partecipanti per le singole attività.\nIllustrare aspetti gestionali dell’associazione\, anche già costituita\, alla luce inoltre del Codice del Terzo Settore (D.lgs 117/17). \n  \nContenuti  \nIl corso si articola in una prima parte frontale dove vengono illustrati i passaggi formali e gli adempimenti per costituire una associazione\, per approfondire poi le diverse tipologie di enti del Terzo settore (ETS) esaminando caratteristiche ed evoluzione. Si esamineranno i principali adempimenti gestionali associativi e quali attività si possano o meno svolgere\, e in che forme. La seconda parte dell’incontro è di confronto e risoluzione di dubbi e casi pratici relativi alle esigenze dei partecipanti\, cercando di individuare quale sia la forma di ente più funzionale al perseguimento dell’obiettivo e quali siano i passaggi formali da percorrere.\nL’incontro fornisce anche una rassegna dei principali aspetti del Codice del Terzo Settore (D.lgs 117/17) per fornire strumenti in prospettiva ai partecipanti. \n\n \nDocente \nElena D’Alessandro\, giurista esperta del diritto del Terzo settore\, impegnata attivamente dal 2002 in campi sociali e culturali; responsabile Ufficio Consulenze CSV di Verona. \n\n \nMetodologia didattica \nLezione frontale molto pratica\, aperta agli interventi e calibrata sulle esigenze dei partecipanti. \n  \nDate e orari \nMartedì 6 aprile 2021 ǀ 14.00 – 16.00 \n\n \nSede  \nWebinar \n\n \nDestinatari  \nVolontari\, aspiranti volontari\, rappresentanti degli enti del Terzo settore\, giovani e cittadinanza \n  \nQuota di partecipazione  \nIl webinar non prevede la quota d’iscrizione. \n\n \nRegolamento per accedere alla formazione \nVai alla pagina  \n  \nIscrizioni \nEffettuando il login
URL:https://csv.verona.it/event/webinar-orientamento-alle-forme-associative-associazione-06-04/
END:VEVENT
BEGIN:VEVENT
DTSTART;TZID=Europe/Rome:20210406T180000
DTEND;TZID=Europe/Rome:20210406T200000
DTSTAMP:20260424T221629
CREATED:20201210T102039Z
LAST-MODIFIED:20201210T102844Z
UID:9760-1617732000-1617739200@csv.verona.it
SUMMARY:WEBINAR – Alla ricerca dell’impronta sociale: avvicinarsi alla misurazione dell’impatto sociale
DESCRIPTION:Obiettivi \nStimolati dalla riforma del Terzo settore\, il mondo delle organizzazioni impegnate in azioni sociali si sta avvicinando sempre di più ai temi della misurazione di impatto sociale. L’intento del corso è quello di avvicinare al concetto di impatto sociale e valore aggiunto sociale\, una misurazione attorno alla quale è cresciuta negli anni una importante letteratura scientifica di supporto\, facendo anche comprendere l’importanza che riveste per avvicinare stakeholder\, enti di erogazione fondi e dialogare nel contesto della progettazione sociale. \n  \nContenuti  \nTra i contenuti principali: offrire i concetti di valutazione impatto sociale\, il collegamento possibile di tale misurazione con il bilancio sociale\, aiutare a distinguere fra misurazione del servizio erogato e misurazione di impatto. Il taglio operativo del percorso consentirà di avvicinarsi anche ad alcuni modelli di misurazione\, fra quelli più adatti al mondo dell’associazionismo. \n  \nDocente \nFabio Fornasini\, si occupa da anni di responsabilità sociale di impresa e consulenza per il Terzo settore. Svolge attività come auditor per enti di certificazione qualità per schemi di certificazione etica e sociale. In questi anni ha approfondito modelli di misurazione del valore aggiunto sociale nel Terzo settore. Ha studiato Economia all’università di Genova e Sociologia a Trento. \n  \nMetodologia didattica \nLezione frontale molto pratica\, aperta agli interventi e calibrata sulle esigenze dei partecipanti. \n  \nDate e orari \nMartedì 6 aprile 2020 ǀ 18.00 – 20.00 \n  \nSede  \nWebinar \n  \nDestinatari  \n25 volontari – Tipologia: presidente\, membri del direttivo\, amministrativi\, volontari. \n  \nContributo di partecipazione  \nODV 10 Euro a corsista (chi effettua l’iscrizione si assicuri di essere collegato alla propria associazione altrimenti la quota sarà di 20 Euro); altre forme associative e singoli cittadini 20 Euro a corsista. \nIl pagamento della quota può essere effettuato: \n\nCon PayPal all’atto dell’iscrizione;\ntramite bonifico bancario a FEDERAZIONE DEL VOLONTARIATO DI VERONA – BANCO BPM SPA VERONA (ITALY)\, BIC BAPPIT21004\, IBAN IT76O0503411704000000051276\, indicando come causale nome + cognome + titolo corso abbreviato. Il pagamento deve essere effettuato entro il 31 marzo per permettere all’amministrazione del CSV la verifica contabile e il successivo invio del link per la partecipazione al webinar. Il link sarà inviato il giorno prima o la mattina stessa del giorno del corso.\n\n  \nRegolamento per accedere alla formazione \nVai alla pagina  \n  \nIscrizione obbligatoria e pagamento entro il 31 marzo \nEffettuando il login:
URL:https://csv.verona.it/event/webinar-alla-ricerca-dellimpronta-sociale-avvicinarsi-alla-misurazione-dellimpatto-sociale/
END:VEVENT
END:VCALENDAR