BEGIN:VCALENDAR
VERSION:2.0
PRODID:-//CSV - ECPv6.15.20//NONSGML v1.0//EN
CALSCALE:GREGORIAN
METHOD:PUBLISH
X-ORIGINAL-URL:https://csv.verona.it
X-WR-CALDESC:Eventi per CSV
REFRESH-INTERVAL;VALUE=DURATION:PT1H
X-Robots-Tag:noindex
X-PUBLISHED-TTL:PT1H
BEGIN:VTIMEZONE
TZID:Europe/Rome
BEGIN:DAYLIGHT
TZOFFSETFROM:+0100
TZOFFSETTO:+0200
TZNAME:CEST
DTSTART:20200329T010000
END:DAYLIGHT
BEGIN:STANDARD
TZOFFSETFROM:+0200
TZOFFSETTO:+0100
TZNAME:CET
DTSTART:20201025T010000
END:STANDARD
BEGIN:DAYLIGHT
TZOFFSETFROM:+0100
TZOFFSETTO:+0200
TZNAME:CEST
DTSTART:20210328T010000
END:DAYLIGHT
BEGIN:STANDARD
TZOFFSETFROM:+0200
TZOFFSETTO:+0100
TZNAME:CET
DTSTART:20211031T010000
END:STANDARD
BEGIN:DAYLIGHT
TZOFFSETFROM:+0100
TZOFFSETTO:+0200
TZNAME:CEST
DTSTART:20220327T010000
END:DAYLIGHT
BEGIN:STANDARD
TZOFFSETFROM:+0200
TZOFFSETTO:+0100
TZNAME:CET
DTSTART:20221030T010000
END:STANDARD
END:VTIMEZONE
BEGIN:VEVENT
DTSTART;TZID=Europe/Rome:20210309T140000
DTEND;TZID=Europe/Rome:20210309T160000
DTSTAMP:20260424T234810
CREATED:20201201T152426Z
LAST-MODIFIED:20210223T170045Z
UID:9597-1615298400-1615305600@csv.verona.it
SUMMARY:WEBINAR ESAURITO – Orientamento alle forme associative: che associazione siamo?
DESCRIPTION:Obiettivi \nIllustrare i diversi passaggi per costituire e fondare una associazione.\nEsaminare le diverse tipologie giuridiche di enti del Terzo settore (ETS).\nIndividuare quale forma sia la più adeguata alle esigenze sollevate dai partecipanti per le singole attività.\nIllustrare aspetti gestionali dell’associazione\, anche già costituita\, alla luce inoltre del Codice del Terzo Settore (D.lgs 117/17). \n  \nContenuti  \nIl corso si articola in una prima parte frontale dove vengono illustrati i passaggi formali e gli adempimenti per costituire una associazione\, per approfondire poi le diverse tipologie di enti del Terzo settore (ETS) esaminando caratteristiche ed evoluzione. Si esamineranno i principali adempimenti gestionali associativi e quali attività si possano o meno svolgere\, e in che forme. La seconda parte dell’incontro è di confronto e risoluzione di dubbi e casi pratici relativi alle esigenze dei partecipanti\, cercando di individuare quale sia la forma di ente più funzionale al perseguimento dell’obiettivo e quali siano i passaggi formali da percorrere.\nL’incontro fornisce anche una rassegna dei principali aspetti del Codice del Terzo Settore (D.lgs 117/17) per fornire strumenti in prospettiva ai partecipanti. \n  \nDocente \nElena D’Alessandro\, giurista esperta del diritto del Terzo settore\, impegnata attivamente dal 2002 in campi sociali e culturali; responsabile Ufficio Consulenze CSV di Verona. \n  \nMetodologia didattica \nLezione frontale molto pratica\, aperta agli interventi e calibrata sulle esigenze dei partecipanti. \n  \nDate e orari \nMartedì 9 marzo 2021 ǀ 14.00 – 16.00 \n  \nSede  \nWebinar \n  \nDestinatari  \nVolontari\, aspiranti volontari\, rappresentanti degli enti del Terzo settore\, giovani e cittadinanza \n  \nQuota di partecipazione  \nIl webinar non prevede la quota d’iscrizione. \n  \nRegolamento per accedere alla formazione \nVai alla pagina  \n  \nIscrizioni \nEffettuando il login  posti esauriti
URL:https://csv.verona.it/event/webinar-orientamento-alle-forme-associative-associazione-09-03/
END:VEVENT
BEGIN:VEVENT
DTSTART;TZID=Europe/Rome:20210309T180000
DTEND;TZID=Europe/Rome:20210309T200000
DTSTAMP:20260424T234810
CREATED:20201210T083728Z
LAST-MODIFIED:20201210T102632Z
UID:9723-1615312800-1615320000@csv.verona.it
SUMMARY:WEBINAR – Obiettivi dell’Agenda 2030 delle Nazioni Unite e creazione di bene comune
DESCRIPTION:Obiettivi \nVuoi scoprire il tuo contributo attivo alla realizzazione degli obiettivi dell’Agenda 2030 e il tuo potenziale ancora inespresso (come cittadino e come organizzazione) per attuare un cambiamento positivo nella realtà di riferimento? Vuoi prendere consapevolezza della capacità d’impatto complessiva di persone e organizzazioni di volontariato nel contesto della nostra provincia? La partecipazione al corso ti permetterà di: conoscere gli obiettivi di sviluppo sostenibile dell’Agenda 2030 dell’ONU (SDGs); riflettere sugli SDGs che le associazioni raggiungono\, anche in maniera inconsapevole\, attraverso le proprie attività; prendere consapevolezza della valenza sistemica delle proprie attività; riconoscere gli SDGs comuni tra le associazioni e le eventuali connessioni possibili. \n  \nContenuti  \nBreve dinamica di presentazione dei partecipanti e delle loro organizzazioni.\nAttività di primo approccio all’Agenda 2030.\nLavoro di riflessione attiva sulle organizzazioni e su quali SDGs raggiungono in maniera consapevole e inconsapevole.\nAttività maieutica di scoperta del proprio valore sistemico.\nCostruzione della visione globale del volontariato nella nostra provincia come attivatore di soggetti changemaker in grado di portare impatto positivo su tutti gli SDGs. \n  \nDocente \nLucia Vesentini\, avvocato\, specializzata in Studi sulla Comunità internazionale e stage alle Nazione Unite e Etica d’Impresa e Master in Social Foresight. Da sempre animata dalla passione e dall’impegno per il bene comune\, si dedica ad attività di formazione e consulenza in materia di sostenibilità\, future literature\, cittadinanza attiva. \n  \nMetodologia didattica \nLezione frontale molto pratica\, aperta agli interventi e calibrata sulle esigenze dei partecipanti. \n  \nDate e orari \nMartedì 9 marzo 2021 ǀ 18.00 – 20.00 \n  \nSede  \nWebinar \n  \nDestinatari  \n25 volontari – Tipologia: presidente\, membri del direttivo\, segretari\, volontari dell’associazione. \n  \nContributo di partecipazione  \nODV 10 Euro (chi effettua l’iscrizione si assicuri di essere collegato alla propria associazione altrimenti la quota sarà di 20 Euro); altre forme associative e singoli cittadini 20 Euro. \nIl pagamento della quota può essere effettuato: \n\nCon PayPal all’atto dell’iscrizione;\ntramite bonifico bancario a FEDERAZIONE DEL VOLONTARIATO DI VERONA – BANCO BPM SPA VERONA (ITALY)\, BIC BAPPIT21004\, IBAN IT76O0503411704000000051276\, indicando come causale nome + cognome + titolo corso abbreviato. Il pagamento deve essere effettuato entro il 3 marzo 2021 per permettere all’amministrazione del CSV la verifica contabile e il successivo invio del link per la partecipazione al webinar. Il link sarà inviato il giorno prima o la mattina stessa del giorno del corso.\n\n  \nRegolamento per accedere alla formazione \nVai alla pagina \n  \nIscrizione obbligatoria e pagamento entro il 3 marzo \nEffettuando il login:
URL:https://csv.verona.it/event/webinar-obiettivi-dellagenda-2030-delle-nazioni-unite-creazione-bene-comune/
END:VEVENT
END:VCALENDAR