BEGIN:VCALENDAR
VERSION:2.0
PRODID:-//CSV - ECPv6.15.20//NONSGML v1.0//EN
CALSCALE:GREGORIAN
METHOD:PUBLISH
X-WR-CALNAME:CSV
X-ORIGINAL-URL:https://csv.verona.it
X-WR-CALDESC:Eventi per CSV
REFRESH-INTERVAL;VALUE=DURATION:PT1H
X-Robots-Tag:noindex
X-PUBLISHED-TTL:PT1H
BEGIN:VTIMEZONE
TZID:Europe/Rome
BEGIN:DAYLIGHT
TZOFFSETFROM:+0100
TZOFFSETTO:+0200
TZNAME:CEST
DTSTART:20200329T010000
END:DAYLIGHT
BEGIN:STANDARD
TZOFFSETFROM:+0200
TZOFFSETTO:+0100
TZNAME:CET
DTSTART:20201025T010000
END:STANDARD
BEGIN:DAYLIGHT
TZOFFSETFROM:+0100
TZOFFSETTO:+0200
TZNAME:CEST
DTSTART:20210328T010000
END:DAYLIGHT
BEGIN:STANDARD
TZOFFSETFROM:+0200
TZOFFSETTO:+0100
TZNAME:CET
DTSTART:20211031T010000
END:STANDARD
BEGIN:DAYLIGHT
TZOFFSETFROM:+0100
TZOFFSETTO:+0200
TZNAME:CEST
DTSTART:20220327T010000
END:DAYLIGHT
BEGIN:STANDARD
TZOFFSETFROM:+0200
TZOFFSETTO:+0100
TZNAME:CET
DTSTART:20221030T010000
END:STANDARD
END:VTIMEZONE
BEGIN:VEVENT
DTSTART;TZID=Europe/Rome:20210209T140000
DTEND;TZID=Europe/Rome:20210209T160000
DTSTAMP:20260425T011404
CREATED:20201201T151850Z
LAST-MODIFIED:20210204T091752Z
UID:9593-1612879200-1612886400@csv.verona.it
SUMMARY:WEBINAR ESAURITO – Orientamento alle forme associative: che associazione siamo?
DESCRIPTION:Obiettivi \nIllustrare i diversi passaggi per costituire e fondare una associazione.\nEsaminare le diverse tipologie giuridiche di enti del Terzo settore (ETS).\nIndividuare quale forma sia la più adeguata alle esigenze sollevate dai partecipanti per le singole attività.\nIllustrare aspetti gestionali dell’associazione\, anche già costituita\, alla luce inoltre del Codice del Terzo Settore (D.lgs 117/17). \n  \nContenuti  \nIl corso si articola in una prima parte frontale dove vengono illustrati i passaggi formali e gli adempimenti per costituire una associazione\, per approfondire poi le diverse tipologie di enti del Terzo settore (ETS) esaminando caratteristiche ed evoluzione. Si esamineranno i principali adempimenti gestionali associativi e quali attività si possano o meno svolgere\, e in che forme. La seconda parte dell’incontro è di confronto e risoluzione di dubbi e casi pratici relativi alle esigenze dei partecipanti\, cercando di individuare quale sia la forma di ente più funzionale al perseguimento dell’obiettivo e quali siano i passaggi formali da percorrere.\nL’incontro fornisce anche una rassegna dei principali aspetti del Codice del Terzo Settore (D.lgs 117/17) per fornire strumenti in prospettiva ai partecipanti. \n  \nDocente \nElena D’Alessandro\, giurista esperta del diritto del Terzo settore\, impegnata attivamente dal 2002 in campi sociali e culturali; responsabile Ufficio Consulenze CSV di Verona. \n  \nMetodologia didattica \nLezione frontale molto pratica\, aperta agli interventi e calibrata sulle esigenze dei partecipanti. \n  \nDate e orari \nMartedì 9 febbraio 2021 ǀ 14.00 – 16.00 \n  \nSede  \nWebinar \n  \nDestinatari  \nVolontari\, aspiranti volontari\, rappresentanti degli enti del Terzo settore\, giovani e cittadinanza \n  \nQuota di partecipazione  \nIl webinar non prevede la quota d’iscrizione. \n  \nRegolamento per accedere alla formazione \nVai alla pagina  \n  \nIscrizioni \nEffettuando il login  posti esauriti \n 
URL:https://csv.verona.it/event/webinar-orientamento-alle-forme-associative-associazione-09-02/
END:VEVENT
BEGIN:VEVENT
DTSTART;TZID=Europe/Rome:20210209T180000
DTEND;TZID=Europe/Rome:20210209T200000
DTSTAMP:20260425T011404
CREATED:20201203T163151Z
LAST-MODIFIED:20201210T102441Z
UID:9689-1612893600-1612900800@csv.verona.it
SUMMARY:WEBINAR – Rendiconto per associazioni e bilancio sociale
DESCRIPTION:Raccontare storie di passione e impegno\nObiettivi \nL’incontro intende individuare il valore e l’utilità del bilancio sociale per tutte le organizzazioni del Terzo settore\, come strumento di crescita organizzativa e di valorizzazione del prezioso servizio svolto dai volontari. Il tema del bilancio sociale è di strettissima attualità dopo l’emanazione del Codice del Terzo Settore (CTS) che lo ha più chiaramente definito avvalendosi anche di Linee Guida Ministeriali emanate nel corso del 2019. Lo stesso CTS ha definito la tipologia di organizzazioni che sono obbligate alla redazione di tale documento. \n  \nContenuti  \nIl corso intende offrire due tipologie di supporto: da un lato motivare e individuare le potenzialità insite nello strumento del Bilancio Sociale per le organizzazioni del Terzo settore e dall’altro mettere a disposizione strumenti pratici\, di facile utilizzo per costruire un documento di rendicontazione sociale adatto a tutte le realtà che si muovono nel sociale. \n  \nDocente \nFabio Fornasini\, si occupa da anni di responsabilità sociale di impresa e consulenza per il Terzo settore. Svolge attività come auditor per enti di certificazione qualità per schemi di certificazione etica e sociale. Ha studiato Economia all’Università di Genova e Sociologia a Trento. \n  \nMetodologia didattica \nLezione frontale molto pratica\, aperta agli interventi e calibrata sulle esigenze dei partecipanti. \n  \nDate e orari \nIl corso si svolge in due incontri: martedì 9 e giovedì 11 febbraio 2021 ǀ 18.00 – 20.00 \n  \nSede  \nWebinar \n  \nDestinatari  \n25 volontari – Tipologia: è consigliabile che il corso sia frequentato dalle figure interne che si occupano di raccogliere i dati e redigere il bilancio sociale dell’associazione\, come presidente\, membri del direttivo\, amministrativi\, volontari. \n  \nContributo di partecipazione \nODV 20 Euro (chi effettua l’iscrizione si assicuri di essere collegato alla propria associazione altrimenti la quota sarà di 40 Euro); altre forme associative e singoli cittadini 40 Euro. \nIl pagamento della quota può essere effettuato: \n\nCon PayPal all’atto dell’iscrizione;\ntramite bonifico bancario a FEDERAZIONE DEL VOLONTARIATO DI VERONA – BANCO BPM SPA VERONA (ITALY)\, BIC BAPPIT21004\, IBAN IT76O0503411704000000051276\, indicando come causale nome + cognome + titolo corso abbreviato. Il pagamento deve essere effettuato entro il 3 febbraio 2021 per permettere all’amministrazione del CSV la verifica contabile ed il successivo invio del link per la partecipazione al webinar. Il link sarà inviato il giorno prima o la mattina stessa del giorno del corso.\n\n  \nRegolamento per accedere alla formazione \nVai alla pagina  \n  \nIscrizione obbligatoria e pagamento entro il 3 febbraio \nEffettuando il login: \n 
URL:https://csv.verona.it/event/webinar-rendiconto-associazioni-bilancio-sociale/
END:VEVENT
END:VCALENDAR