BEGIN:VCALENDAR
VERSION:2.0
PRODID:-//CSV - ECPv6.15.20//NONSGML v1.0//EN
CALSCALE:GREGORIAN
METHOD:PUBLISH
X-WR-CALNAME:CSV
X-ORIGINAL-URL:https://csv.verona.it
X-WR-CALDESC:Eventi per CSV
REFRESH-INTERVAL;VALUE=DURATION:PT1H
X-Robots-Tag:noindex
X-PUBLISHED-TTL:PT1H
BEGIN:VTIMEZONE
TZID:Europe/Rome
BEGIN:DAYLIGHT
TZOFFSETFROM:+0100
TZOFFSETTO:+0200
TZNAME:CEST
DTSTART:20190331T010000
END:DAYLIGHT
BEGIN:STANDARD
TZOFFSETFROM:+0200
TZOFFSETTO:+0100
TZNAME:CET
DTSTART:20191027T010000
END:STANDARD
BEGIN:DAYLIGHT
TZOFFSETFROM:+0100
TZOFFSETTO:+0200
TZNAME:CEST
DTSTART:20200329T010000
END:DAYLIGHT
BEGIN:STANDARD
TZOFFSETFROM:+0200
TZOFFSETTO:+0100
TZNAME:CET
DTSTART:20201025T010000
END:STANDARD
BEGIN:DAYLIGHT
TZOFFSETFROM:+0100
TZOFFSETTO:+0200
TZNAME:CEST
DTSTART:20210328T010000
END:DAYLIGHT
BEGIN:STANDARD
TZOFFSETFROM:+0200
TZOFFSETTO:+0100
TZNAME:CET
DTSTART:20211031T010000
END:STANDARD
END:VTIMEZONE
BEGIN:VEVENT
DTSTART;TZID=Europe/Rome:20201112T180000
DTEND;TZID=Europe/Rome:20201112T200000
DTSTAMP:20260425T052211
CREATED:20200730T130915Z
LAST-MODIFIED:20200731T072125Z
UID:9224-1605204000-1605211200@csv.verona.it
SUMMARY:WEBINAR – L’arte di parlare ad un pubblico: coinvolgere e convincere
DESCRIPTION:Obiettivi \nOgnuno di noi\, in svariate occasioni della vita\, deve fare delle presentazioni: \n\npresentare un’idea e sostenerla\,\npresentare noi stessi e dare di noi una buona immagine\,\npresentare un lavoro o un progetto\,\npresentare la nostra associazione\npresentare un’attività.\n\nGli obiettivi del corso sono: far acquisire la consapevolezza del processo che supporta le presentazioni efficaci e convincenti e la conoscenza degli elementi che le caratterizzano; far apprendere come utilizzare bene i canali della comunicazione per raggiungere i nostri obiettivi: persuadere\, convincere e/o informare con successo. \n  \nContenuti  \nLe fasi di una presentazione di successo\nLa preparazione di una presentazione\nL’esposizione della presentazione\nLe caratteristiche di un presentatore credibile e convincente\nI 3 canali della comunicazione: immagine\, parole e voce\nGestire con efficacia la sessione delle domande\nLa conclusione come spinta all’azione \n  \nDocente \nDaniela Sarigu – consulente e formatrice specializzata in ambito comunicativo e relazionale\, con esperienza aziendale pluriennale in formazione e gestione delle risorse umane. Nel Terzo settore lavora soprattutto su temi di leadership nei gruppi di volontariato. \n  \nMetodologia didattica \nLezione frontale operativa e pratica. \n  \nDate e orari \nGiovedì 12 novembre 2020 ǀ 18.00 – 20.00 \n  \nSede  \nWebinar \n  \nDestinatari  \n25 volontari – Presidenti\, membri del direttivo\, volontari\, operatori che\, a vario titolo\, vogliono sviluppare la capacità di saper parlare in pubblico. \n  \nQuota di partecipazione  \nIl webinar non prevede la quota d’iscrizione \n  \nRegolamento per accedere alla formazione \nVai alla pagina \n  \nIscrizioni \nEffettuando il login \n  \n  \n 
URL:https://csv.verona.it/event/webinar-larte-parlare-ad-un-pubblico-coinvolgere-convincere/
END:VEVENT
END:VCALENDAR