BEGIN:VCALENDAR
VERSION:2.0
PRODID:-//CSV - ECPv6.15.20//NONSGML v1.0//EN
CALSCALE:GREGORIAN
METHOD:PUBLISH
X-WR-CALNAME:CSV
X-ORIGINAL-URL:https://csv.verona.it
X-WR-CALDESC:Eventi per CSV
REFRESH-INTERVAL;VALUE=DURATION:PT1H
X-Robots-Tag:noindex
X-PUBLISHED-TTL:PT1H
BEGIN:VTIMEZONE
TZID:Europe/Rome
BEGIN:DAYLIGHT
TZOFFSETFROM:+0100
TZOFFSETTO:+0200
TZNAME:CEST
DTSTART:20190331T010000
END:DAYLIGHT
BEGIN:STANDARD
TZOFFSETFROM:+0200
TZOFFSETTO:+0100
TZNAME:CET
DTSTART:20191027T010000
END:STANDARD
BEGIN:DAYLIGHT
TZOFFSETFROM:+0100
TZOFFSETTO:+0200
TZNAME:CEST
DTSTART:20200329T010000
END:DAYLIGHT
BEGIN:STANDARD
TZOFFSETFROM:+0200
TZOFFSETTO:+0100
TZNAME:CET
DTSTART:20201025T010000
END:STANDARD
BEGIN:DAYLIGHT
TZOFFSETFROM:+0100
TZOFFSETTO:+0200
TZNAME:CEST
DTSTART:20210328T010000
END:DAYLIGHT
BEGIN:STANDARD
TZOFFSETFROM:+0200
TZOFFSETTO:+0100
TZNAME:CET
DTSTART:20211031T010000
END:STANDARD
END:VTIMEZONE
BEGIN:VEVENT
DTSTART;TZID=Europe/Rome:20201027T180000
DTEND;TZID=Europe/Rome:20201027T200000
DTSTAMP:20260425T052212
CREATED:20200730T140442Z
LAST-MODIFIED:20201008T094203Z
UID:9241-1603821600-1603828800@csv.verona.it
SUMMARY:WEBINAR – Social Mission Possible: utilizzo formativo ed educativo dei media
DESCRIPTION:  \nObiettivi \nGli strumenti digitali (smartphone\, tablet\, pc) sono sempre più parte della nostra vita e ormai non possiamo più farne a meno. Ogni giorno comunichiamo in maniera digitale usando social\, chat\, emoticon. Il primo incontro ha l’obiettivo di far apprendere ai partecipanti quali sono le opportunità della comunicazione\, in particolare quella digitale attraverso l’approccio della media education. Il secondo incontro verte sul paradigma della didattica a distanza confrontandolo con quello della trasmissione tradizionale attraverso esempi e buone pratiche. \n  \nContenuti  \nIncontro 27 ottobre:\ncomunicazione digitale;\nconsapevolezza e responsabilità della presenza on line;\nMedia Education e cittadinanza digitale. \nIncontro 10 novembre:\ncome cambia lo spazio dell’educare nella formazione a distanza;\nrisorse e vincoli della didattica a distanza;\nprogettazione formativa a distanza. \n  \nDocente \nMatteo Adamoli – docente universitario di Pedagogia della Comunicazione\, Media Education e Digital Storytelling presso l’Università IUSVE di Venezia e Verona. Dottorando in Epistemologia della Pedagogia e della Didattica. Formatore per attività comunicative volte alla progettazione e all’uso educativo\, strategico\, narrativo e sociale dei media. Ideatore del format creativo Bookasface e giornalista pubblicista. \n  \nMetodologia didattica \nLezione frontale operativa e pratica. \n  \nDate e orari \nMartedì 27 ottobre e 10 novembre 2020 ǀ 18.00 – 20.00 \n  \nSede  \nWebinar \n  \nDestinatari  \n25 volontari – Presidenti\, membri del direttivo\, volontari\, operatori che\, a vario titolo\, vogliono sviluppare capacità di utilizzo formativo ed educativo dei media. \n  \n Quota di partecipazione  \nIl webinar non prevede la quota d’iscrizione. \n  \nRegolamento per accedere alla formazione \nVai alla pagina \n  \nIscrizioni \nEffettuando il login \n 
URL:https://csv.verona.it/event/webinar-social-mission-possible-utilizzo-formativo-ed-educativo-dei-media/
END:VEVENT
END:VCALENDAR