BEGIN:VCALENDAR
VERSION:2.0
PRODID:-//CSV - ECPv6.15.20//NONSGML v1.0//EN
CALSCALE:GREGORIAN
METHOD:PUBLISH
X-ORIGINAL-URL:https://csv.verona.it
X-WR-CALDESC:Eventi per CSV
REFRESH-INTERVAL;VALUE=DURATION:PT1H
X-Robots-Tag:noindex
X-PUBLISHED-TTL:PT1H
BEGIN:VTIMEZONE
TZID:Europe/Rome
BEGIN:DAYLIGHT
TZOFFSETFROM:+0100
TZOFFSETTO:+0200
TZNAME:CEST
DTSTART:20190331T010000
END:DAYLIGHT
BEGIN:STANDARD
TZOFFSETFROM:+0200
TZOFFSETTO:+0100
TZNAME:CET
DTSTART:20191027T010000
END:STANDARD
BEGIN:DAYLIGHT
TZOFFSETFROM:+0100
TZOFFSETTO:+0200
TZNAME:CEST
DTSTART:20200329T010000
END:DAYLIGHT
BEGIN:STANDARD
TZOFFSETFROM:+0200
TZOFFSETTO:+0100
TZNAME:CET
DTSTART:20201025T010000
END:STANDARD
BEGIN:DAYLIGHT
TZOFFSETFROM:+0100
TZOFFSETTO:+0200
TZNAME:CEST
DTSTART:20210328T010000
END:DAYLIGHT
BEGIN:STANDARD
TZOFFSETFROM:+0200
TZOFFSETTO:+0100
TZNAME:CET
DTSTART:20211031T010000
END:STANDARD
END:VTIMEZONE
BEGIN:VEVENT
DTSTART;TZID=Europe/Rome:20200512T180000
DTEND;TZID=Europe/Rome:20200512T200000
DTSTAMP:20260425T152049
CREATED:20200420T101416Z
LAST-MODIFIED:20200420T101454Z
UID:8719-1589306400-1589313600@csv.verona.it
SUMMARY:WEBINAR – Bilancio e aspetti amministrativi delle associazioni
DESCRIPTION:Obiettivi \nIl corso\, a partire dall’obbligo annuale di redazione e approvazione del bilancio delle associazioni intende esaminare i principali adempimenti amministrativi a seconda della diversa casistica di enti del Terzo settore. Gli obiettivi dell’incontro sono: esaminare i principali adempimenti amministrativi legati alla redazione del bilancio; analizzare i vari aspetti della rendicontazione in relazione alle diverse tipologie di associazioni; esaminare le principali voci di bilancio e i relativi adempimenti (rendiconti specifici\, comunicazioni\, prospetti)\, alla luce della Riforma del Terzo Settore e delle novità normative; fornire cenni di aspetti amministrativo-fiscali; sensibilizzare sull’importanza e sul ruolo della rendicontazione sociale; illustrare i passaggi di redazione e approvazione del bilancio. \n\nContenuti \nSi esamineranno le principali voci di bilancio\, al fine di inquadrare correttamente quelle di entrata e uscita e collegare i rispettivi obblighi\, quali: redazione di rendiconti delle raccolte fondi o dei contributi pubblici ricevuti\, con i relativi adempimenti formali (pubblicazioni\, comunicazioni). Si farà cenno al tema della rendicontazione sociale e della sua complementarietà con la rendicontazione economica (a cui dedichiamo la serata formativa del 6 febbraio) anche in ottica di Riforma del Terzo Settore. Si chiuderà il corso con l’illustrazione dei passaggi formali di redazione\, approvazione\, conservazione e pubblicazione dei documenti di bilancio. \n\nDocente \nElena D’Alessandro\, giurista esperta del diritto del Terzo settore\, impegnata attivamente dal 2002 in campi sociali e culturali; responsabile Ufficio Consulenze CSV di Verona. \n\nMetodologia didattica \nLezione frontale molto pratica\, aperta agli interventi e calibrata sulle esigenze dei partecipanti. \n\nDate e orari \nIl corso si sviluppa in due incontri:\nmartedì 12 maggio ǀ 18.00 – 20.00 (prima parte) e venerdì 14 maggio ǀ 18.00 – 20.00 (seconda parte) \n\nDestinatari \n25 volontari – Tipologia: è consigliabile che il corso sia frequentato dalla figura interna che segue gli aspetti di bilancio dell’associazione\, tesoriere\, presidente\, amministrativi\, segretario\, volontari. \n\nQuota di partecipazione \nIl corso non prevede la quota d’iscrizione. \n  \n Regolamento per accedere alla formazione \nVai alla pagina \n\nIscrizione obbligatoria \nCompila il form \n  \n 
URL:https://csv.verona.it/event/webinar-bilancio-aspetti-amministrativi-delle-associazioni/
END:VEVENT
END:VCALENDAR