BEGIN:VCALENDAR
VERSION:2.0
PRODID:-//CSV - ECPv6.15.20//NONSGML v1.0//EN
CALSCALE:GREGORIAN
METHOD:PUBLISH
X-ORIGINAL-URL:https://csv.verona.it
X-WR-CALDESC:Eventi per CSV
REFRESH-INTERVAL;VALUE=DURATION:PT1H
X-Robots-Tag:noindex
X-PUBLISHED-TTL:PT1H
BEGIN:VTIMEZONE
TZID:Europe/Rome
BEGIN:DAYLIGHT
TZOFFSETFROM:+0100
TZOFFSETTO:+0200
TZNAME:CEST
DTSTART:20190331T010000
END:DAYLIGHT
BEGIN:STANDARD
TZOFFSETFROM:+0200
TZOFFSETTO:+0100
TZNAME:CET
DTSTART:20191027T010000
END:STANDARD
BEGIN:DAYLIGHT
TZOFFSETFROM:+0100
TZOFFSETTO:+0200
TZNAME:CEST
DTSTART:20200329T010000
END:DAYLIGHT
BEGIN:STANDARD
TZOFFSETFROM:+0200
TZOFFSETTO:+0100
TZNAME:CET
DTSTART:20201025T010000
END:STANDARD
BEGIN:DAYLIGHT
TZOFFSETFROM:+0100
TZOFFSETTO:+0200
TZNAME:CEST
DTSTART:20210328T010000
END:DAYLIGHT
BEGIN:STANDARD
TZOFFSETFROM:+0200
TZOFFSETTO:+0100
TZNAME:CET
DTSTART:20211031T010000
END:STANDARD
END:VTIMEZONE
BEGIN:VEVENT
DTSTART;TZID=Europe/Rome:20200402T180000
DTEND;TZID=Europe/Rome:20200402T203000
DTSTAMP:20260425T165349
CREATED:20191209T110743Z
LAST-MODIFIED:20200402T152426Z
UID:8160-1585850400-1585859400@csv.verona.it
SUMMARY:FORMAZIONE  – RIMANDATO – Come funziona il 5X1000
DESCRIPTION:AVVISO \nIn ottemperanza alle disposizioni per le misure di contenimento dell’emergenza epidemiologica da COVID-2019\, ci troviamo a dover sospendere la presente iniziativa. Ci scusiamo per il disagio e ringraziamo per comprensione. \n  \nObiettivi \nL’incontro intende fornire un’analisi completa del meccanismo del 5X1000 alle associazioni di volontariato\, esaminandone natura\, modalità di accreditamento e obblighi ad esso legati. Il contributo ha subito diversi interventi normativi e trasformazioni\, fino ad arrivare negli ultimi anni\, a una delineazione chiara: dal 2017 il 5X1000 è diventato meccanismo “fisso”\, non più legato alla Legge di Bilancio\, sono stati fissati termini e adempimenti\, sono stati pubblicati gli elenchi permanenti per evitare l’accreditamento di anno in anno. Il corso\, attraverso un rapido excursus sulla natura del 5X1000\, fornisce informazioni chiare sulla procedura per accreditarsi\, sugli adempimenti e sulla tempistica\, esaminando l’importante capitolo della rendicontazione alla luce della riforma del Dlgs 111/17. Il meccanismo tributario verrà anche esaminato da un punto di vista non solo procedurale\, ma anche di raccolta fondi. Si tratterà infatti\, nella seconda parte del corso\, di individuare i donatori\, come programmare la promozione e sensibilizzazione alla scelta del 5X1000\, come utilizzare i fondi ricevuti\, come comunicare nell’ottica di aumentare la raccolta fondi. \n\nContenuti  \nil meccanismo del 5X1000 e la sua importanza all’interno del sistema del privato sociale e del volontariato;\ni requisiti e le qualifiche necessarie per poter ricevere il contributo;\nle scadenze e i passaggi formali di accreditamento e ricezione del 5X1000;\nl’obbligo della rendicontazione;\nle novità e i cambiamenti in seguito alla Riforma del Dlgs 111/17;\nla campagna per il 5X1000;\nle potenzialità e la promozione di questo contributo. \n\nDocente \nElena D’Alessandro\, giurista esperta del diritto del Terzo settore\, impegnata attivamente dal 2002 in campi sociali e culturali; responsabile Ufficio Consulenze CSV di Verona. \n\nMetodologia didattica \nLezione frontale molto pratica\, aperta agli interventi e calibrata sulle esigenze dei partecipanti. \n\nDate e orari \nGiovedì 2 aprile 2020 ǀ 18.00 – 20.30 \n\nSede \nCSV di Verona – Via Cantarane 24\, Verona \n\nDestinatari \n25 volontari – Tipologia: presidente\, membri del direttivo\, segretario\, amministrativi\, volontari. \n\nQuota di partecipazione \nODV 10 Euro; altre forme associative e singoli cittadini 20 Euro.\nIl pagamento della quota può essere effettuato: \n\ntramite bonifico bancario a FEDERAZIONE DEL VOLONTARIATO DI VERONA – BANCOBPMSPA VERONA (ITALY)\, BIC BAPPIT21004\, IBAN IT76O0503411704000000051276\, indicando come causale: nome + cognome+ titolo corso abbreviato;\nla sera del corso (arrivando con 15 minuti d’anticipo) con bancomat\, o altre carte\, tramite POS presente nel nostro ufficio.\n\n\nRegolamento per accedere alla formazione \nhttps://csv.verona.it/come-iscriversi-ai-corsi/ \n\nIscrizione obbligatoria \nEffettuando il login \n 
URL:https://csv.verona.it/event/formazione-funziona-5x1000/
END:VEVENT
END:VCALENDAR