BEGIN:VCALENDAR
VERSION:2.0
PRODID:-//CSV - ECPv6.15.20//NONSGML v1.0//EN
CALSCALE:GREGORIAN
METHOD:PUBLISH
X-ORIGINAL-URL:https://csv.verona.it
X-WR-CALDESC:Eventi per CSV
REFRESH-INTERVAL;VALUE=DURATION:PT1H
X-Robots-Tag:noindex
X-PUBLISHED-TTL:PT1H
BEGIN:VTIMEZONE
TZID:Europe/Rome
BEGIN:DAYLIGHT
TZOFFSETFROM:+0100
TZOFFSETTO:+0200
TZNAME:CEST
DTSTART:20190331T010000
END:DAYLIGHT
BEGIN:STANDARD
TZOFFSETFROM:+0200
TZOFFSETTO:+0100
TZNAME:CET
DTSTART:20191027T010000
END:STANDARD
BEGIN:DAYLIGHT
TZOFFSETFROM:+0100
TZOFFSETTO:+0200
TZNAME:CEST
DTSTART:20200329T010000
END:DAYLIGHT
BEGIN:STANDARD
TZOFFSETFROM:+0200
TZOFFSETTO:+0100
TZNAME:CET
DTSTART:20201025T010000
END:STANDARD
BEGIN:DAYLIGHT
TZOFFSETFROM:+0100
TZOFFSETTO:+0200
TZNAME:CEST
DTSTART:20210328T010000
END:DAYLIGHT
BEGIN:STANDARD
TZOFFSETFROM:+0200
TZOFFSETTO:+0100
TZNAME:CET
DTSTART:20211031T010000
END:STANDARD
END:VTIMEZONE
BEGIN:VEVENT
DTSTART;TZID=Europe/Rome:20200227T180000
DTEND;TZID=Europe/Rome:20200227T203000
DTSTAMP:20260425T181049
CREATED:20191209T112318Z
LAST-MODIFIED:20200224T092206Z
UID:8171-1582826400-1582835400@csv.verona.it
SUMMARY:FORMAZIONE – RIMANDATO - Vita associativa: gestione e adempimenti
DESCRIPTION:AVVISO \nIn ottemperanza all’Ordinanza del Ministero della Salute e della Regione Veneto di domenica 23 febbraio\, (riguardante le misure di contenimento dell’emergenza epidemiologica da COVID-2019)\, ci troviamo a dover sospendere la presente iniziativa. Quanti hanno già effettuato l’iscrizione verranno ricontattati non appena possibile con le informazioni relative alla riprogrammazione di questa attività.\n Ci scusiamo per il disagio e ringraziamo per comprensione. \n  \nObiettivi \nIl corso intende presentare una panoramica dei principali oneri gestionali della così detta “vita associativa”. Si esamineranno i principali adempimenti gestionali associativi\, le attività che si possano o meno svolgere e in che forme. La serata avrà un taglio molto pratico\, saranno commentate e fornite check list dei principali oneri gestionali e amministrativi.\nGli obiettivi dell’incontro saranno: riassumere e schematizzare i vari aspetti della gestione della vita associativa; individuare i principali adempimenti in relazione a oneri gestionali; esaminare quali sono gli adempimenti relativi a sicurezza\, privacy\, eventi e responsabilità; illustrare aspetti gestionali dell’associazione alla luce del Codice del Terzo Settore (D.lgs 117/17). \n\nContenuti  \nSi affronteranno i seguenti argomenti specifici:\ngestione vita associativa in genere;\nadempimenti eventi;\nprivacy (cenni);\nsicurezza volontari;\nsicurezza eventi;\nrapporti con gli enti pubblici e casi particolari. \n\nLa serata si pone in continuità con il primo incontro sulla vita associativa tenuto nel 2019 che ha approfondito i temi degli organi e libri sociali\, che comunque verranno rapidamente ripresi e riassunti\, mettendo a disposizione il materiale e la check list del primo incontro. \n\nDocente \nElena D’Alessandro\, giurista esperta del diritto del Terzo settore\, impegnata attivamente dal 2002 in campi sociali e culturali; responsabile Ufficio Consulenze CSV di Verona. \n\nMetodologia didattica \nLezione frontale molto pratica\, aperta agli interventi e calibrata sulle esigenze dei partecipanti. \n\nDate e orari \nGiovedì 27 febbraio 2020 ǀ 18.00 – 20.30 \n\nSede \nCSV di Verona – Via Cantarane 24\, Verona \n\nDestinatari \n25 volontari – Tipologia: è consigliabile che il corso sia frequentato dalla figura interna che segue gli aspetti gestionali dell’associazione\, segretario\, presidente\, amministrativi\, volontari. \n\nQuota di partecipazione \nODV 10 Euro; altre forme associative e singoli cittadini 20 Euro.\nIl pagamento della quota può essere effettuato: \n\ntramite bonifico bancario a FEDERAZIONE DEL VOLONTARIATO DI VERONA – BANCOBPMSPA VERONA (ITALY)\, BIC BAPPIT21004\, IBAN IT76O0503411704000000051276\, indicando come causale: nome + cognome+ titolo corso abbreviato;\nla sera del corso (arrivando con 15 minuti d’anticipo) con bancomat\, o altre carte\, tramite POS presente nel nostro ufficio.\n\n\nRegolamento per accedere alla formazione \nhttps://csv.verona.it/come-iscriversi-ai-corsi/ \n\nIscrizione obbligatoria \nEffettuando il login \n 
URL:https://csv.verona.it/event/formazione-vita-associativa-gestione-adempimenti/
END:VEVENT
END:VCALENDAR