BEGIN:VCALENDAR
VERSION:2.0
PRODID:-//CSV - ECPv6.15.20//NONSGML v1.0//EN
CALSCALE:GREGORIAN
METHOD:PUBLISH
X-WR-CALNAME:CSV
X-ORIGINAL-URL:https://csv.verona.it
X-WR-CALDESC:Eventi per CSV
REFRESH-INTERVAL;VALUE=DURATION:PT1H
X-Robots-Tag:noindex
X-PUBLISHED-TTL:PT1H
BEGIN:VTIMEZONE
TZID:Europe/Rome
BEGIN:DAYLIGHT
TZOFFSETFROM:+0100
TZOFFSETTO:+0200
TZNAME:CEST
DTSTART:20190331T010000
END:DAYLIGHT
BEGIN:STANDARD
TZOFFSETFROM:+0200
TZOFFSETTO:+0100
TZNAME:CET
DTSTART:20191027T010000
END:STANDARD
BEGIN:DAYLIGHT
TZOFFSETFROM:+0100
TZOFFSETTO:+0200
TZNAME:CEST
DTSTART:20200329T010000
END:DAYLIGHT
BEGIN:STANDARD
TZOFFSETFROM:+0200
TZOFFSETTO:+0100
TZNAME:CET
DTSTART:20201025T010000
END:STANDARD
BEGIN:DAYLIGHT
TZOFFSETFROM:+0100
TZOFFSETTO:+0200
TZNAME:CEST
DTSTART:20210328T010000
END:DAYLIGHT
BEGIN:STANDARD
TZOFFSETFROM:+0200
TZOFFSETTO:+0100
TZNAME:CET
DTSTART:20211031T010000
END:STANDARD
END:VTIMEZONE
BEGIN:VEVENT
DTSTART;TZID=Europe/Rome:20200123T180000
DTEND;TZID=Europe/Rome:20200123T203000
DTSTAMP:20260425T210051
CREATED:20191209T110443Z
LAST-MODIFIED:20191209T110443Z
UID:8158-1579802400-1579811400@csv.verona.it
SUMMARY:FORMAZIONE – Bilancio e aspetti amministrativi delle associazioni
DESCRIPTION:Obiettivi \nIl corso\, a partire dall’obbligo annuale di redazione e approvazione del bilancio delle associazioni intende esaminare i principali adempimenti amministrativi a seconda della diversa casistica di enti del Terzo settore. Gli obiettivi dell’incontro sono: esaminare i principali adempimenti amministrativi legati alla redazione del bilancio; analizzare i vari aspetti della rendicontazione in relazione alle diverse tipologie di associazioni; esaminare le principali voci di bilancio e i relativi adempimenti (rendiconti specifici\, comunicazioni\, prospetti)\, alla luce della Riforma del Terzo Settore e delle novità normative; fornire cenni di aspetti amministrativo-fiscali; sensibilizzare sull’importanza e sul ruolo della rendicontazione sociale; illustrare i passaggi di redazione e approvazione del bilancio. \n\nContenuti \nSi esamineranno le principali voci di bilancio\, al fine di inquadrare correttamente quelle di entrata e uscita e collegare i rispettivi obblighi\, quali: redazione di rendiconti delle raccolte fondi o dei contributi pubblici ricevuti\, con i relativi adempimenti formali (pubblicazioni\, comunicazioni). Si farà cenno al tema della rendicontazione sociale e della sua complementarietà con la rendicontazione economica (a cui dedichiamo la serata formativa del 6 febbraio) anche in ottica di Riforma del Terzo Settore. Si chiuderà il corso con l’illustrazione dei passaggi formali di redazione\, approvazione\, conservazione e pubblicazione dei documenti di bilancio. \n\nDocente \nElena D’Alessandro\, giurista esperta del diritto del Terzo settore\, impegnata attivamente dal 2002 in campi sociali e culturali; responsabile Ufficio Consulenze CSV di Verona. \n\nMetodologia didattica \nLezione frontale molto pratica\, aperta agli interventi e calibrata sulle esigenze dei partecipanti. \n\nDate e orari \nGiovedì 23 gennaio 2020 ǀ 18.00 – 20.30 \n\nSede \nCSV di Verona – Via Cantarane 24\, Verona \n\nDestinatari \n25 volontari – Tipologia: è consigliabile che il corso sia frequentato dalla figura interna che segue gli aspetti di bilancio dell’associazione\, tesoriere\, presidente\, amministrativi\, segretario\, volontari. \n\nQuota di partecipazione \nODV 10 Euro; altre forme associative e singoli cittadini 20 Euro. \nIl pagamento della quota può essere effettuato: \n\ntramite bonifico bancario a FEDERAZIONE DEL VOLONTARIATO DI VERONA – BANCOBPMSPA VERONA (ITALY)\, BIC BAPPIT21004\, IBAN IT76O0503411704000000051276\, indicando come causale: nome + cognome+ titolo corso abbreviato;\nla sera del corso (arrivando con 15 minuti d’anticipo) con bancomat\, o altre carte\, tramite POS presente nel nostro ufficio.\n\n\nRegolamento per accedere alla formazione \nhttps://csv.verona.it/come-iscriversi-ai-corsi/ \n\nIscrizione obbligatoria \nEffettuando il login \n  \n 
URL:https://csv.verona.it/event/formazione-bilancio-aspetti-amministrativi-delle-associazioni/
END:VEVENT
END:VCALENDAR