BEGIN:VCALENDAR
VERSION:2.0
PRODID:-//CSV - ECPv6.15.20//NONSGML v1.0//EN
CALSCALE:GREGORIAN
METHOD:PUBLISH
X-ORIGINAL-URL:https://csv.verona.it
X-WR-CALDESC:Eventi per CSV
REFRESH-INTERVAL;VALUE=DURATION:PT1H
X-Robots-Tag:noindex
X-PUBLISHED-TTL:PT1H
BEGIN:VTIMEZONE
TZID:Europe/Rome
BEGIN:DAYLIGHT
TZOFFSETFROM:+0100
TZOFFSETTO:+0200
TZNAME:CEST
DTSTART:20180325T010000
END:DAYLIGHT
BEGIN:STANDARD
TZOFFSETFROM:+0200
TZOFFSETTO:+0100
TZNAME:CET
DTSTART:20181028T010000
END:STANDARD
BEGIN:DAYLIGHT
TZOFFSETFROM:+0100
TZOFFSETTO:+0200
TZNAME:CEST
DTSTART:20190331T010000
END:DAYLIGHT
BEGIN:STANDARD
TZOFFSETFROM:+0200
TZOFFSETTO:+0100
TZNAME:CET
DTSTART:20191027T010000
END:STANDARD
BEGIN:DAYLIGHT
TZOFFSETFROM:+0100
TZOFFSETTO:+0200
TZNAME:CEST
DTSTART:20200329T010000
END:DAYLIGHT
BEGIN:STANDARD
TZOFFSETFROM:+0200
TZOFFSETTO:+0100
TZNAME:CET
DTSTART:20201025T010000
END:STANDARD
END:VTIMEZONE
BEGIN:VEVENT
DTSTART;TZID=Europe/Rome:20191130T093000
DTEND;TZID=Europe/Rome:20191130T123000
DTSTAMP:20260425T223341
CREATED:20190910T075708Z
LAST-MODIFIED:20190910T075708Z
UID:7842-1575106200-1575117000@csv.verona.it
SUMMARY:FORMAZIONE – AAA cercasi giovani volontari. Come Attrarli\, Accoglierli Accompagnarli
DESCRIPTION:Obiettivi \nIl percorso\, di due incontri\, attraverso lezioni frontali e attività esperienziali\, vuole fornire strumenti e spunti da poter utilizzare per attrarre\, coinvolgere e accompagnare i nuovi volontari all’interno della propria associazione\, soprattutto quelli con un’età compresa tra i 18 e i 30 anni.\n  \nContenuti  \n\npresentarsi a partire dalle proprie radici;\ngenerazioni a confronto;\nvolontariato come luogo d’incontro;\naver cura degli spazi “leggeri”;\ncostruire progetti “matrioska” (si entra un passo alla volta);\nl’organizzazione elastica (spostarsi per dare spazio).\n\n\nDocente \nCristiano Pravadelli\, psicologo\, formatore e coach certificato in process communication model (PCM)\, si occupa di comunicazione\, problem solving e strategie di concentrazione. \n\nMetodologia didattica \nSi alterneranno lezioni frontali ad attività esperienziali (volte a fissare i concetti e ad allenarsi all’utilizzo degli strumenti). Sarà sollecitato lo scambio e il confronto tra i partecipanti. \n\nDate e orari \nSabato 30 novembre e 14 dicembre 2018 ǀ 9.30 – 12.30 \n\nSede \nCSV di Verona – Via Cantarane 24\, Verona \n\nDestinatari \n25 volontari – Tipologia: presidenti\, membri del direttivo\, amministrativi dell’associazione\, volontari \n\nQuota \nIl corso non prevede la quota d’iscrizione \n\nRegolamento per accedere alla formazione \nhttps://csv.verona.it/come-iscriversi-ai-corsi/ \n  \nIscrizione obbligatoria \nEffettuando il login \n  \n 
URL:https://csv.verona.it/event/formazione-aaa-cercasi-giovani-volontari-attrarli-accoglierli-accompagnarli/
END:VEVENT
END:VCALENDAR