BEGIN:VCALENDAR
VERSION:2.0
PRODID:-//CSV - ECPv6.15.20//NONSGML v1.0//EN
CALSCALE:GREGORIAN
METHOD:PUBLISH
X-WR-CALNAME:CSV
X-ORIGINAL-URL:https://csv.verona.it
X-WR-CALDESC:Eventi per CSV
REFRESH-INTERVAL;VALUE=DURATION:PT1H
X-Robots-Tag:noindex
X-PUBLISHED-TTL:PT1H
BEGIN:VTIMEZONE
TZID:Europe/Rome
BEGIN:DAYLIGHT
TZOFFSETFROM:+0100
TZOFFSETTO:+0200
TZNAME:CEST
DTSTART:20180325T010000
END:DAYLIGHT
BEGIN:STANDARD
TZOFFSETFROM:+0200
TZOFFSETTO:+0100
TZNAME:CET
DTSTART:20181028T010000
END:STANDARD
BEGIN:DAYLIGHT
TZOFFSETFROM:+0100
TZOFFSETTO:+0200
TZNAME:CEST
DTSTART:20190331T010000
END:DAYLIGHT
BEGIN:STANDARD
TZOFFSETFROM:+0200
TZOFFSETTO:+0100
TZNAME:CET
DTSTART:20191027T010000
END:STANDARD
BEGIN:DAYLIGHT
TZOFFSETFROM:+0100
TZOFFSETTO:+0200
TZNAME:CEST
DTSTART:20200329T010000
END:DAYLIGHT
BEGIN:STANDARD
TZOFFSETFROM:+0200
TZOFFSETTO:+0100
TZNAME:CET
DTSTART:20201025T010000
END:STANDARD
END:VTIMEZONE
BEGIN:VEVENT
DTSTART;TZID=Europe/Rome:20191128T180000
DTEND;TZID=Europe/Rome:20191128T203000
DTSTAMP:20260425T223344
CREATED:20190910T073843Z
LAST-MODIFIED:20190910T073843Z
UID:7832-1574964000-1574973000@csv.verona.it
SUMMARY:FORMAZIONE – Progettazione didattica: l'associazione in classe
DESCRIPTION:Obiettivi \nCome può un’associazione proporre attività o laboratori didattici in modo efficace nelle scuole? Quali strumenti? Come coinvolgere le scuole? L’incontro fornirà strumenti e spunti per coinvolgere gli studenti ai temi del volontariato e della cittadinanza attiva. \n\nContenuti  \n\nCapire quali sono gli obiettivi che l’associazione vuole trasmettere;\nindividuare le metodologie da utilizzare in classe (scuola primaria\, secondaria di I e II grado): apprendimento non formale;\nla struttura di una lezione: esempi di attività didattiche;\nsperimentiamo: come si crea una lezione?\n\n\nDocente \nDavide Peccantini – Formatore con diploma del Consiglio d’Europa per l’educazione ai diritti umani\, dottore magistrale in giurisprudenza e scienze storiche \n\nMetodologia didattica \nSi alterneranno momenti frontali ad attività esperienziali. Sarà sollecitato lo scambio e il confronto tra i partecipanti. \n\nDate e orari \nGiovedì 28 novembre 2019 ǀ 18.00 – 20.30 \n\nSede \nCSV di Verona – Via Cantarane 24\, Verona \n  \nDestinatari  \n25 volontari – Tipologia: presidenti\, membri del direttivo\, responsabili area sensibilizzazione e promozione dell’associazione\, volontari \n  \nQuota \nIl corso non prevede la quota d’iscrizione. \n  \nRegolamento per accedere alla formazione \nhttps://csv.verona.it/come-iscriversi-ai-corsi/ \n  \nIscrizione obbligatoria \nEffettuando il login \n 
URL:https://csv.verona.it/event/formazione-progettazione-didattica-lassociazione-classe/
END:VEVENT
END:VCALENDAR