BEGIN:VCALENDAR
VERSION:2.0
PRODID:-//CSV - ECPv6.15.20//NONSGML v1.0//EN
CALSCALE:GREGORIAN
METHOD:PUBLISH
X-WR-CALNAME:CSV
X-ORIGINAL-URL:https://csv.verona.it
X-WR-CALDESC:Eventi per CSV
REFRESH-INTERVAL;VALUE=DURATION:PT1H
X-Robots-Tag:noindex
X-PUBLISHED-TTL:PT1H
BEGIN:VTIMEZONE
TZID:Europe/Rome
BEGIN:DAYLIGHT
TZOFFSETFROM:+0100
TZOFFSETTO:+0200
TZNAME:CEST
DTSTART:20180325T010000
END:DAYLIGHT
BEGIN:STANDARD
TZOFFSETFROM:+0200
TZOFFSETTO:+0100
TZNAME:CET
DTSTART:20181028T010000
END:STANDARD
BEGIN:DAYLIGHT
TZOFFSETFROM:+0100
TZOFFSETTO:+0200
TZNAME:CEST
DTSTART:20190331T010000
END:DAYLIGHT
BEGIN:STANDARD
TZOFFSETFROM:+0200
TZOFFSETTO:+0100
TZNAME:CET
DTSTART:20191027T010000
END:STANDARD
BEGIN:DAYLIGHT
TZOFFSETFROM:+0100
TZOFFSETTO:+0200
TZNAME:CEST
DTSTART:20200329T010000
END:DAYLIGHT
BEGIN:STANDARD
TZOFFSETFROM:+0200
TZOFFSETTO:+0100
TZNAME:CET
DTSTART:20201025T010000
END:STANDARD
END:VTIMEZONE
BEGIN:VEVENT
DTSTART;TZID=Europe/Rome:20191114T180000
DTEND;TZID=Europe/Rome:20191114T203000
DTSTAMP:20260426T001738
CREATED:20190910T074616Z
LAST-MODIFIED:20191105T120335Z
UID:7836-1573754400-1573763400@csv.verona.it
SUMMARY:FORMAZIONE – Riunioni efficaci\, migliori risultati
DESCRIPTION:Obiettivi \nNella gestione delle riunioni\, avete una procedura che seguite costantemente? È sempre presente l’ordine del giorno? Si parla di questioni emerse durante l’incontro che non erano oggetto della riunione? Avete delle regole di comportamento condivise? Questo incontro vi aiuterà a sviluppare la capacità di gestire e coordinare le riunioni con efficacia ed efficienza\, ottimizzando il tempo a esse dedicato e migliorando i risultati. \n\nContenuti  \n\nLa gestione efficace della riunione;\nle fasi della riunione;\nil ruolo del facilitatore;\nil processo decisionale;\nsessione pratica di organizzazione di una riunione.\n\n\nDocente \nDaniela Sarigu\, consulente e formatrice specializzata in ambito comunicativo e relazionale\, con esperienza aziendale pluriennale in formazione e gestione delle risorse umane. Nel Terzo settore lavora soprattutto su temi della leadership nei gruppi di volontariato. \n\nMetodologia didattica \nLezione frontale e sessione di pratica attraverso un gioco di ruolo \n\nDate e orari \nGiovedì 14 novembre 2019 ǀ 18.00 – 20.30 \n\nSede \nCSV di Verona – Via Cantarane 24\, Verona \n\nDestinatari \n25 volontari – Tipologia: volontari che utilizzano la riunione come strumento per migliorare il lavoro di gruppo\, gestire e coordinare le risorse\, esercitare la leadership. \n\nQuota di partecipazione \nODV 10 Euro; altre forme associative e singoli cittadini 20 Euro.\nIl pagamento della quota può essere effettuato: \n\ntramite bonifico bancario a FEDERAZIONE DEL VOLONTARIATO DI VERONA – BANCOBPMSPA VERONA (ITALY)\, BIC BAPPIT21004\, IBAN IT76O0503411704000000051276\, indicando come causale: nome + cognome + titolo corso abbreviato;\nla sera del corso (arrivando con 10 minuti d’anticipo) con bancomat\, o altre carte\, tramite POS presente nel nostro ufficio.\n\n\nRegolamento per accedere alla formazione \nhttps://csv.verona.it/come-iscriversi-ai-corsi/ \n\nIscrizione obbligatoria \nEffettuando il login \n  \n 
URL:https://csv.verona.it/event/formazione-riunioni-efficaci-migliori-risultati/
END:VEVENT
END:VCALENDAR