BEGIN:VCALENDAR
VERSION:2.0
PRODID:-//CSV - ECPv6.15.20//NONSGML v1.0//EN
CALSCALE:GREGORIAN
METHOD:PUBLISH
X-WR-CALNAME:CSV
X-ORIGINAL-URL:https://csv.verona.it
X-WR-CALDESC:Eventi per CSV
REFRESH-INTERVAL;VALUE=DURATION:PT1H
X-Robots-Tag:noindex
X-PUBLISHED-TTL:PT1H
BEGIN:VTIMEZONE
TZID:Europe/Rome
BEGIN:DAYLIGHT
TZOFFSETFROM:+0100
TZOFFSETTO:+0200
TZNAME:CEST
DTSTART:20180325T010000
END:DAYLIGHT
BEGIN:STANDARD
TZOFFSETFROM:+0200
TZOFFSETTO:+0100
TZNAME:CET
DTSTART:20181028T010000
END:STANDARD
BEGIN:DAYLIGHT
TZOFFSETFROM:+0100
TZOFFSETTO:+0200
TZNAME:CEST
DTSTART:20190331T010000
END:DAYLIGHT
BEGIN:STANDARD
TZOFFSETFROM:+0200
TZOFFSETTO:+0100
TZNAME:CET
DTSTART:20191027T010000
END:STANDARD
BEGIN:DAYLIGHT
TZOFFSETFROM:+0100
TZOFFSETTO:+0200
TZNAME:CEST
DTSTART:20200329T010000
END:DAYLIGHT
BEGIN:STANDARD
TZOFFSETFROM:+0200
TZOFFSETTO:+0100
TZNAME:CET
DTSTART:20201025T010000
END:STANDARD
END:VTIMEZONE
BEGIN:VEVENT
DTSTART;TZID=Europe/Rome:20191023T190000
DTEND;TZID=Europe/Rome:20191023T210000
DTSTAMP:20260426T014906
CREATED:20190910T143601Z
LAST-MODIFIED:20191022T123243Z
UID:7868-1571857200-1571864400@csv.verona.it
SUMMARY:INCONTRO – Verona\, Ricerca di volontari e comunicazione. Di’ la tua
DESCRIPTION:Sei un’associazione\, un ente del Terzo settore che opera prevalentemente attraverso volontari? O un volontario con una passione per la tua attività di volontariato\, un interesse a raccontarla\, a condividere la tua esperienza? \nIl CSV di Verona sta avviando un percorso di riflessione per elaborare e rilasciare una campagna di comunicazione multicanale di promozione e valorizzazione del volontariato. \nNon si può parlare di volontariato senza i volontari e gli enti che li ospitano\, per questo ci serve il tuo aiuto e ci piacerebbe ascoltare le tue impressioni. \nTra settembre e dicembre 2019 saremo presenti su vari territori della provincia di Verona attraverso degli incontri informali di raccolta informazioni\, ascolto dei bisogni\, identificazione di criticità e buone pratiche nella comunicazione e nel people raising (la ricerca di volontari). \nTi va di unirti a noi? Basta la volontà di condividere un paio d’ore con noi e le tue impressioni. Raggiungici a uno degli incontri in calendario. E se hai degli amici che pensi potrebbero essere interessati\, faglielo sapere condividendo l’invito. \n  \nLocation e calendario: \n  \nMercoledì 11 settembre\, ore 18.30 – 20.30\nGiardino Magenta Via Magenta\, 37069 Villafranca di Verona \n  \nGiovedì 19 settembre\, ore 19.00 – 21.00\nPresso la Yurta dell’associazione Radici in Movimento a Roverchiaretta\nVia Anesi n.27\, Roverchiara \n  \nMercoledì  25 settembre\, ore 18.30 – 20.30\nParco di Villa Buri\, Via Bernini Buri 99\, 37132 Verona\n(Nella zona adiacente al bar. In caso di pioggia ci troveremo all’interno della Villa in sala segnalata) \n  \nMercoledì 16 ottobre\, ore 19.00 – 21.00\nMeet Hostel\, Via Benaco\, 14\, 37019 Peschiera del Garda \n  \nMercoledì 23 ottobre\, 19.00 – 21.00\nLa Genovesa\, Strada della Genovesa 31/a Verona\n(Dietro al casello autostradale di Verona Sud) \n  \nMercoledì 30 ottobre\, 19.00 – 21.00\nFabLab – Viale del Lavoro\, 2\, 37023 Grezzana VR \n  \nMercoledì 06 novembre ore 19.00 – 21.00\nCircolo NOI di Caldiero (Casa Parrocchiale Giovanni Paolo II)\, Corso De Gasperi 16\, 37042 Caldiero \n  \nMercoledì 13 novembre ore 19.00 – 21.00\nLa Coopera 1945\, via Stella\, 40\, 37024 Arbizzano\, Negrar \n  \nMercoledì 20 novembre ore 18.30 – 20.30\nCSV Verona\, Via Cantarane 24\, 37129 Verona \n  \nTutti gli incontri sono aggiornati e segnalati nel calendario eventi \n  \nPartner  \nLa campagna e gli incontri autunnali sono realizzati dal CSV di Verona in collaborazione con Amplificatore Culturale e Salmon Magazine. Amplificatore Culturale è uno studio di consulenza che si occupa di design strategico. È un punto di riferimento per giovani e associazioni culturali. \nGli incontri saranno supportati dall’accompagnamento scientifico di Michele Bertani di Economics Living Lab. \n  \nInformazioni\nCentro di Servizio per il Volontariato (CSV) di Verona\nSegreteria – Daria Rossi\nTel. 045 8011978 – info@csv.verona.it \n 
URL:https://csv.verona.it/event/incontro-verona-ricerca-volontari-comunicazione-la-tua_23-ottobre/
END:VEVENT
END:VCALENDAR